BEGIN:VCALENDAR
VERSION:2.0
PRODID:-//Free Grace Fellowship - ECPv6.15.20//NONSGML v1.0//EN
CALSCALE:GREGORIAN
METHOD:PUBLISH
X-WR-CALNAME:Free Grace Fellowship
X-ORIGINAL-URL:https://freegracefellowship.ca
X-WR-CALDESC:Events for Free Grace Fellowship
REFRESH-INTERVAL;VALUE=DURATION:PT1H
X-Robots-Tag:noindex
X-PUBLISHED-TTL:PT1H
BEGIN:VTIMEZONE
TZID:America/Denver
BEGIN:DAYLIGHT
TZOFFSETFROM:-0700
TZOFFSETTO:-0600
TZNAME:MDT
DTSTART:20210314T090000
END:DAYLIGHT
BEGIN:STANDARD
TZOFFSETFROM:-0600
TZOFFSETTO:-0700
TZNAME:MST
DTSTART:20211107T080000
END:STANDARD
BEGIN:DAYLIGHT
TZOFFSETFROM:-0700
TZOFFSETTO:-0600
TZNAME:MDT
DTSTART:20220313T090000
END:DAYLIGHT
BEGIN:STANDARD
TZOFFSETFROM:-0600
TZOFFSETTO:-0700
TZNAME:MST
DTSTART:20221106T080000
END:STANDARD
BEGIN:DAYLIGHT
TZOFFSETFROM:-0700
TZOFFSETTO:-0600
TZNAME:MDT
DTSTART:20230312T090000
END:DAYLIGHT
BEGIN:STANDARD
TZOFFSETFROM:-0600
TZOFFSETTO:-0700
TZNAME:MST
DTSTART:20231105T080000
END:STANDARD
END:VTIMEZONE
BEGIN:VEVENT
DTSTART;TZID=America/Denver:20221020T170000
DTEND;TZID=America/Denver:20221022T170000
DTSTAMP:20260425T213410
CREATED:20221007T164715Z
LAST-MODIFIED:20221007T164715Z
UID:1653-1666285200-1666458000@freegracefellowship.ca
SUMMARY:Alberta Linked Assembly in Medicine Hat
DESCRIPTION:
URL:https://freegracefellowship.ca/event/alberta-linked-assembly-in-medicine-hat/
ORGANIZER;CN="Sam Bretherick":MAILTO:sambretherick@gmail.com
END:VEVENT
BEGIN:VEVENT
DTSTART;TZID=America/Denver:20221020T190000
DTEND;TZID=America/Denver:20221020T210000
DTSTAMP:20260425T213410
CREATED:20221007T164335Z
LAST-MODIFIED:20221007T164335Z
UID:1643-1666292400-1666299600@freegracefellowship.ca
SUMMARY:Love Lethbridge Youth
DESCRIPTION:
URL:https://freegracefellowship.ca/event/love-lethbridge-youth-37/
LOCATION:Free Grace Fellowship Church\, 1807 2A Ave N\, Lethbridge\, AB\, Canada
ORGANIZER;CN="Jeremy Van Hierden":MAILTO:lovelethbridgeyouth@gmail.com
END:VEVENT
END:VCALENDAR