BEGIN:VCALENDAR
VERSION:2.0
PRODID:-//Free Grace Fellowship - ECPv6.15.20//NONSGML v1.0//EN
CALSCALE:GREGORIAN
METHOD:PUBLISH
X-ORIGINAL-URL:https://freegracefellowship.ca
X-WR-CALDESC:Events for Free Grace Fellowship
REFRESH-INTERVAL;VALUE=DURATION:PT1H
X-Robots-Tag:noindex
X-PUBLISHED-TTL:PT1H
BEGIN:VTIMEZONE
TZID:America/Denver
BEGIN:DAYLIGHT
TZOFFSETFROM:-0700
TZOFFSETTO:-0600
TZNAME:MDT
DTSTART:20210314T090000
END:DAYLIGHT
BEGIN:STANDARD
TZOFFSETFROM:-0600
TZOFFSETTO:-0700
TZNAME:MST
DTSTART:20211107T080000
END:STANDARD
BEGIN:DAYLIGHT
TZOFFSETFROM:-0700
TZOFFSETTO:-0600
TZNAME:MDT
DTSTART:20220313T090000
END:DAYLIGHT
BEGIN:STANDARD
TZOFFSETFROM:-0600
TZOFFSETTO:-0700
TZNAME:MST
DTSTART:20221106T080000
END:STANDARD
BEGIN:DAYLIGHT
TZOFFSETFROM:-0700
TZOFFSETTO:-0600
TZNAME:MDT
DTSTART:20230312T090000
END:DAYLIGHT
BEGIN:STANDARD
TZOFFSETFROM:-0600
TZOFFSETTO:-0700
TZNAME:MST
DTSTART:20231105T080000
END:STANDARD
END:VTIMEZONE
BEGIN:VEVENT
DTSTART;TZID=America/Denver:20221104T170000
DTEND;TZID=America/Denver:20221106T160000
DTSTAMP:20260425T185745
CREATED:20221104T155437Z
LAST-MODIFIED:20221104T155437Z
UID:1672-1667581200-1667750400@freegracefellowship.ca
SUMMARY:Ladies Retreat - SABC
DESCRIPTION:
URL:https://freegracefellowship.ca/event/ladies-retreat-sabc/
LOCATION:Southern Alberta Bible Camp
END:VEVENT
BEGIN:VEVENT
DTSTART;TZID=America/Denver:20221104T190000
DTEND;TZID=America/Denver:20221104T190000
DTSTAMP:20260425T185745
CREATED:20221104T155611Z
LAST-MODIFIED:20221104T164016Z
UID:1675-1667588400-1667588400@freegracefellowship.ca
SUMMARY:Living Hope Concert LPCC
DESCRIPTION:
URL:https://freegracefellowship.ca/event/living-hope-concert-lpcc/
LOCATION:Southminster United Church
END:VEVENT
END:VCALENDAR