BEGIN:VCALENDAR
VERSION:2.0
PRODID:-//Free Grace Fellowship - ECPv6.15.20//NONSGML v1.0//EN
CALSCALE:GREGORIAN
METHOD:PUBLISH
X-ORIGINAL-URL:https://freegracefellowship.ca
X-WR-CALDESC:Events for Free Grace Fellowship
REFRESH-INTERVAL;VALUE=DURATION:PT1H
X-Robots-Tag:noindex
X-PUBLISHED-TTL:PT1H
BEGIN:VTIMEZONE
TZID:America/Denver
BEGIN:DAYLIGHT
TZOFFSETFROM:-0700
TZOFFSETTO:-0600
TZNAME:MDT
DTSTART:20220313T090000
END:DAYLIGHT
BEGIN:STANDARD
TZOFFSETFROM:-0600
TZOFFSETTO:-0700
TZNAME:MST
DTSTART:20221106T080000
END:STANDARD
BEGIN:DAYLIGHT
TZOFFSETFROM:-0700
TZOFFSETTO:-0600
TZNAME:MDT
DTSTART:20230312T090000
END:DAYLIGHT
BEGIN:STANDARD
TZOFFSETFROM:-0600
TZOFFSETTO:-0700
TZNAME:MST
DTSTART:20231105T080000
END:STANDARD
BEGIN:DAYLIGHT
TZOFFSETFROM:-0700
TZOFFSETTO:-0600
TZNAME:MDT
DTSTART:20240310T090000
END:DAYLIGHT
BEGIN:STANDARD
TZOFFSETFROM:-0600
TZOFFSETTO:-0700
TZNAME:MST
DTSTART:20241103T080000
END:STANDARD
END:VTIMEZONE
BEGIN:VEVENT
DTSTART;TZID=America/Denver:20230126T190000
DTEND;TZID=America/Denver:20230126T210000
DTSTAMP:20260425T162019
CREATED:20230106T183306Z
LAST-MODIFIED:20230106T183306Z
UID:1821-1674759600-1674766800@freegracefellowship.ca
SUMMARY:Love Lethbridge Youth
DESCRIPTION:
URL:https://freegracefellowship.ca/event/love-lethbridge-youth-44/
LOCATION:Free Grace Fellowship Church\, 1807 2A Ave N\, Lethbridge\, AB\, Canada
ORGANIZER;CN="Love Lethbridge Youth":MAILTO:lovelethbridgeyouth@gmail.com
END:VEVENT
BEGIN:VEVENT
DTSTART;TZID=America/Denver:20230126T193000
DTEND;TZID=America/Denver:20230126T210000
DTSTAMP:20260425T162019
CREATED:20230106T183131Z
LAST-MODIFIED:20230106T183131Z
UID:1819-1674761400-1674766800@freegracefellowship.ca
SUMMARY:Prophetic Ministry Class
DESCRIPTION:Starting out or developing in the Prophetic Ministry with Alan Woodroffe \nContact Alan at 403-308-2161 for more details!
URL:https://freegracefellowship.ca/event/prophetic-ministry-class-2/
LOCATION:The Gathering Grounds
ORGANIZER;CN="Alan Woodroffe":MAILTO:alanannwoodroffe@gmail.com
END:VEVENT
END:VCALENDAR