BEGIN:VCALENDAR
VERSION:2.0
PRODID:-//Free Grace Fellowship - ECPv6.15.20//NONSGML v1.0//EN
CALSCALE:GREGORIAN
METHOD:PUBLISH
X-ORIGINAL-URL:https://freegracefellowship.ca
X-WR-CALDESC:Events for Free Grace Fellowship
REFRESH-INTERVAL;VALUE=DURATION:PT1H
X-Robots-Tag:noindex
X-PUBLISHED-TTL:PT1H
BEGIN:VTIMEZONE
TZID:America/Denver
BEGIN:DAYLIGHT
TZOFFSETFROM:-0700
TZOFFSETTO:-0600
TZNAME:MDT
DTSTART:20220313T090000
END:DAYLIGHT
BEGIN:STANDARD
TZOFFSETFROM:-0600
TZOFFSETTO:-0700
TZNAME:MST
DTSTART:20221106T080000
END:STANDARD
BEGIN:DAYLIGHT
TZOFFSETFROM:-0700
TZOFFSETTO:-0600
TZNAME:MDT
DTSTART:20230312T090000
END:DAYLIGHT
BEGIN:STANDARD
TZOFFSETFROM:-0600
TZOFFSETTO:-0700
TZNAME:MST
DTSTART:20231105T080000
END:STANDARD
BEGIN:DAYLIGHT
TZOFFSETFROM:-0700
TZOFFSETTO:-0600
TZNAME:MDT
DTSTART:20240310T090000
END:DAYLIGHT
BEGIN:STANDARD
TZOFFSETFROM:-0600
TZOFFSETTO:-0700
TZNAME:MST
DTSTART:20241103T080000
END:STANDARD
END:VTIMEZONE
BEGIN:VEVENT
DTSTART;TZID=America/Denver:20230221T190000
DTEND;TZID=America/Denver:20230221T220000
DTSTAMP:20260425T145317
CREATED:20230203T174108Z
LAST-MODIFIED:20230203T174108Z
UID:1894-1677006000-1677016800@freegracefellowship.ca
SUMMARY:Ladies Bible Study
DESCRIPTION:Contact Margaret for more details.
URL:https://freegracefellowship.ca/event/ladies-bible-study-12/
LOCATION:The Gathering Grounds
END:VEVENT
BEGIN:VEVENT
DTSTART;TZID=America/Denver:20230221T193000
DTEND;TZID=America/Denver:20230221T210000
DTSTAMP:20260425T145317
CREATED:20230203T174337Z
LAST-MODIFIED:20230204T024809Z
UID:1898-1677007800-1677013200@freegracefellowship.ca
SUMMARY:Tuesday Night Small Group
DESCRIPTION:Please contact Lea Switzer for more details.
URL:https://freegracefellowship.ca/event/tuesday-night-small-group-b-8/
LOCATION:The Gathering Grounds
ORGANIZER;CN="Alan Woodroffe":MAILTO:alanannwoodroffe@gmail.com
END:VEVENT
END:VCALENDAR