BEGIN:VCALENDAR
VERSION:2.0
PRODID:-//Free Grace Fellowship - ECPv6.15.20//NONSGML v1.0//EN
CALSCALE:GREGORIAN
METHOD:PUBLISH
X-ORIGINAL-URL:https://freegracefellowship.ca
X-WR-CALDESC:Events for Free Grace Fellowship
REFRESH-INTERVAL;VALUE=DURATION:PT1H
X-Robots-Tag:noindex
X-PUBLISHED-TTL:PT1H
BEGIN:VTIMEZONE
TZID:America/Denver
BEGIN:DAYLIGHT
TZOFFSETFROM:-0700
TZOFFSETTO:-0600
TZNAME:MDT
DTSTART:20220313T090000
END:DAYLIGHT
BEGIN:STANDARD
TZOFFSETFROM:-0600
TZOFFSETTO:-0700
TZNAME:MST
DTSTART:20221106T080000
END:STANDARD
BEGIN:DAYLIGHT
TZOFFSETFROM:-0700
TZOFFSETTO:-0600
TZNAME:MDT
DTSTART:20230312T090000
END:DAYLIGHT
BEGIN:STANDARD
TZOFFSETFROM:-0600
TZOFFSETTO:-0700
TZNAME:MST
DTSTART:20231105T080000
END:STANDARD
BEGIN:DAYLIGHT
TZOFFSETFROM:-0700
TZOFFSETTO:-0600
TZNAME:MDT
DTSTART:20240310T090000
END:DAYLIGHT
BEGIN:STANDARD
TZOFFSETFROM:-0600
TZOFFSETTO:-0700
TZNAME:MST
DTSTART:20241103T080000
END:STANDARD
END:VTIMEZONE
BEGIN:VEVENT
DTSTART;TZID=America/Denver:20230224T190000
DTEND;TZID=America/Denver:20230224T210000
DTSTAMP:20260425T145316
CREATED:20230203T174846Z
LAST-MODIFIED:20230203T174846Z
UID:1902-1677265200-1677272400@freegracefellowship.ca
SUMMARY:BURN Worship Night
DESCRIPTION:Please Contact Sam Bretherick for more details.
URL:https://freegracefellowship.ca/event/burn-worship-night/
LOCATION:Free Grace Fellowship Church\, 1807 2A Ave N\, Lethbridge\, AB\, Canada
ORGANIZER;CN="Sam Bretherick":MAILTO:sambretherick@gmail.com
END:VEVENT
BEGIN:VEVENT
DTSTART;TZID=America/Denver:20230224T190000
DTEND;TZID=America/Denver:20230224T220000
DTSTAMP:20260425T145316
CREATED:20230203T174955Z
LAST-MODIFIED:20230203T174955Z
UID:1904-1677265200-1677276000@freegracefellowship.ca
SUMMARY:Young Adults
DESCRIPTION:Please contact Brent & Janey or Craig & Suzanne for more details
URL:https://freegracefellowship.ca/event/young-adults-22/
ORGANIZER;CN="Brent & Janey Feyter":MAILTO:brjafey@gmail.com
END:VEVENT
END:VCALENDAR