BEGIN:VCALENDAR
VERSION:2.0
PRODID:-//Free Grace Fellowship - ECPv6.15.20//NONSGML v1.0//EN
CALSCALE:GREGORIAN
METHOD:PUBLISH
X-ORIGINAL-URL:https://freegracefellowship.ca
X-WR-CALDESC:Events for Free Grace Fellowship
REFRESH-INTERVAL;VALUE=DURATION:PT1H
X-Robots-Tag:noindex
X-PUBLISHED-TTL:PT1H
BEGIN:VTIMEZONE
TZID:America/Denver
BEGIN:DAYLIGHT
TZOFFSETFROM:-0700
TZOFFSETTO:-0600
TZNAME:MDT
DTSTART:20220313T090000
END:DAYLIGHT
BEGIN:STANDARD
TZOFFSETFROM:-0600
TZOFFSETTO:-0700
TZNAME:MST
DTSTART:20221106T080000
END:STANDARD
BEGIN:DAYLIGHT
TZOFFSETFROM:-0700
TZOFFSETTO:-0600
TZNAME:MDT
DTSTART:20230312T090000
END:DAYLIGHT
BEGIN:STANDARD
TZOFFSETFROM:-0600
TZOFFSETTO:-0700
TZNAME:MST
DTSTART:20231105T080000
END:STANDARD
BEGIN:DAYLIGHT
TZOFFSETFROM:-0700
TZOFFSETTO:-0600
TZNAME:MDT
DTSTART:20240310T090000
END:DAYLIGHT
BEGIN:STANDARD
TZOFFSETFROM:-0600
TZOFFSETTO:-0700
TZNAME:MST
DTSTART:20241103T080000
END:STANDARD
END:VTIMEZONE
BEGIN:VEVENT
DTSTART;TZID=America/Denver:20230813T091500
DTEND;TZID=America/Denver:20230813T100000
DTSTAMP:20260425T065751
CREATED:20230815T185037Z
LAST-MODIFIED:20230815T190338Z
UID:2176-1691918100-1691920800@freegracefellowship.ca
SUMMARY:Pre-service prayer
DESCRIPTION:Pre-service prayer happens upstairs before the service. Contact Bill for more information!
URL:https://freegracefellowship.ca/event/pre-service-prayer-2/
END:VEVENT
BEGIN:VEVENT
DTSTART;TZID=America/Denver:20230813T100000
DTEND;TZID=America/Denver:20230813T113000
DTSTAMP:20260425T065751
CREATED:20230815T185806Z
LAST-MODIFIED:20230815T190405Z
UID:2188-1691920800-1691926200@freegracefellowship.ca
SUMMARY:Tim Veldman is speaking
DESCRIPTION:
URL:https://freegracefellowship.ca/event/tim-veldman-is-speaking/
END:VEVENT
BEGIN:VEVENT
DTSTART;TZID=America/Denver:20230813T180000
DTEND;TZID=America/Denver:20230813T210000
DTSTAMP:20260425T065751
CREATED:20230815T185556Z
LAST-MODIFIED:20230815T190425Z
UID:2184-1691949600-1691960400@freegracefellowship.ca
SUMMARY:Volleyball in the Park
DESCRIPTION:Come join us at Kiwanis Shelter at Henderson Lake to play volleyball\, enjoy some snacks\, and fellowship! \nBring a snack to share and a lawn chair!
URL:https://freegracefellowship.ca/event/volleyball-in-the-park-2/
END:VEVENT
END:VCALENDAR