BEGIN:VCALENDAR
VERSION:2.0
PRODID:-//Free Grace Fellowship - ECPv6.15.20//NONSGML v1.0//EN
CALSCALE:GREGORIAN
METHOD:PUBLISH
X-WR-CALNAME:Free Grace Fellowship
X-ORIGINAL-URL:https://freegracefellowship.ca
X-WR-CALDESC:Events for Free Grace Fellowship
REFRESH-INTERVAL;VALUE=DURATION:PT1H
X-Robots-Tag:noindex
X-PUBLISHED-TTL:PT1H
BEGIN:VTIMEZONE
TZID:America/Denver
BEGIN:DAYLIGHT
TZOFFSETFROM:-0700
TZOFFSETTO:-0600
TZNAME:MDT
DTSTART:20230312T090000
END:DAYLIGHT
BEGIN:STANDARD
TZOFFSETFROM:-0600
TZOFFSETTO:-0700
TZNAME:MST
DTSTART:20231105T080000
END:STANDARD
BEGIN:DAYLIGHT
TZOFFSETFROM:-0700
TZOFFSETTO:-0600
TZNAME:MDT
DTSTART:20240310T090000
END:DAYLIGHT
BEGIN:STANDARD
TZOFFSETFROM:-0600
TZOFFSETTO:-0700
TZNAME:MST
DTSTART:20241103T080000
END:STANDARD
BEGIN:DAYLIGHT
TZOFFSETFROM:-0700
TZOFFSETTO:-0600
TZNAME:MDT
DTSTART:20250309T090000
END:DAYLIGHT
BEGIN:STANDARD
TZOFFSETFROM:-0600
TZOFFSETTO:-0700
TZNAME:MST
DTSTART:20251102T080000
END:STANDARD
END:VTIMEZONE
BEGIN:VEVENT
DTSTART;TZID=America/Denver:20240208T190000
DTEND;TZID=America/Denver:20240208T210000
DTSTAMP:20260424T213429
CREATED:20240131T014911Z
LAST-MODIFIED:20240131T014911Z
UID:2566-1707418800-1707426000@freegracefellowship.ca
SUMMARY:Alan's Small Group
DESCRIPTION:This will be in the Gathering Grounds of the church! Contact Alan Woodroffe for more details!
URL:https://freegracefellowship.ca/event/alans-small-group-6/
END:VEVENT
BEGIN:VEVENT
DTSTART;TZID=America/Denver:20240208T190000
DTEND;TZID=America/Denver:20240208T210000
DTSTAMP:20260424T213429
CREATED:20240131T015358Z
LAST-MODIFIED:20240131T015358Z
UID:2576-1707418800-1707426000@freegracefellowship.ca
SUMMARY:Victorious Prayer Warrior Bootcamp
DESCRIPTION:This is led by Jennifer Thomas and is on zoom!
URL:https://freegracefellowship.ca/event/victorious-prayer-warrior-bootcamp-2/
END:VEVENT
BEGIN:VEVENT
DTSTART;TZID=America/Denver:20240208T190000
DTEND;TZID=America/Denver:20240208T210000
DTSTAMP:20260424T213429
CREATED:20240131T020018Z
LAST-MODIFIED:20240131T020018Z
UID:2586-1707418800-1707426000@freegracefellowship.ca
SUMMARY:LLY
DESCRIPTION:Kingdom Night! Contact Jeremy Van Hierden for more details!
URL:https://freegracefellowship.ca/event/lly-17/
END:VEVENT
END:VCALENDAR