BEGIN:VCALENDAR
VERSION:2.0
PRODID:-//Free Grace Fellowship - ECPv6.15.20//NONSGML v1.0//EN
CALSCALE:GREGORIAN
METHOD:PUBLISH
X-WR-CALNAME:Free Grace Fellowship
X-ORIGINAL-URL:https://freegracefellowship.ca
X-WR-CALDESC:Events for Free Grace Fellowship
REFRESH-INTERVAL;VALUE=DURATION:PT1H
X-Robots-Tag:noindex
X-PUBLISHED-TTL:PT1H
BEGIN:VTIMEZONE
TZID:America/Denver
BEGIN:DAYLIGHT
TZOFFSETFROM:-0700
TZOFFSETTO:-0600
TZNAME:MDT
DTSTART:20230312T090000
END:DAYLIGHT
BEGIN:STANDARD
TZOFFSETFROM:-0600
TZOFFSETTO:-0700
TZNAME:MST
DTSTART:20231105T080000
END:STANDARD
BEGIN:DAYLIGHT
TZOFFSETFROM:-0700
TZOFFSETTO:-0600
TZNAME:MDT
DTSTART:20240310T090000
END:DAYLIGHT
BEGIN:STANDARD
TZOFFSETFROM:-0600
TZOFFSETTO:-0700
TZNAME:MST
DTSTART:20241103T080000
END:STANDARD
BEGIN:DAYLIGHT
TZOFFSETFROM:-0700
TZOFFSETTO:-0600
TZNAME:MDT
DTSTART:20250309T090000
END:DAYLIGHT
BEGIN:STANDARD
TZOFFSETFROM:-0600
TZOFFSETTO:-0700
TZNAME:MST
DTSTART:20251102T080000
END:STANDARD
END:VTIMEZONE
BEGIN:VEVENT
DTSTART;TZID=America/Denver:20240215T173000
DTEND;TZID=America/Denver:20240215T213000
DTSTAMP:20260424T213427
CREATED:20240213T021209Z
LAST-MODIFIED:20240213T021209Z
UID:2621-1708018200-1708032600@freegracefellowship.ca
SUMMARY:Alan's Small Group
DESCRIPTION:There will be a potluck at the Bilec’s house! Contact Alan Woodroffe for more details!
URL:https://freegracefellowship.ca/event/alans-small-group-10/
END:VEVENT
BEGIN:VEVENT
DTSTART;TZID=America/Denver:20240215T190000
DTEND;TZID=America/Denver:20240215T210000
DTSTAMP:20260424T213427
CREATED:20240131T014951Z
LAST-MODIFIED:20240131T014951Z
UID:2568-1708023600-1708030800@freegracefellowship.ca
SUMMARY:Alan's Small Group
DESCRIPTION:This will be in the Gathering Grounds of the church! Contact Alan Woodroffe for more details!
URL:https://freegracefellowship.ca/event/alans-small-group-7/
END:VEVENT
BEGIN:VEVENT
DTSTART;TZID=America/Denver:20240215T190000
DTEND;TZID=America/Denver:20240215T210000
DTSTAMP:20260424T213427
CREATED:20240131T015449Z
LAST-MODIFIED:20240131T015449Z
UID:2578-1708023600-1708030800@freegracefellowship.ca
SUMMARY:Victorious Prayer Warrior Bootcamp
DESCRIPTION:This is led by Jennifer Thomas and is on zoom!
URL:https://freegracefellowship.ca/event/victorious-prayer-warrior-bootcamp-3/
END:VEVENT
BEGIN:VEVENT
DTSTART;TZID=America/Denver:20240215T190000
DTEND;TZID=America/Denver:20240215T210000
DTSTAMP:20260424T213427
CREATED:20240131T020124Z
LAST-MODIFIED:20240131T020124Z
UID:2588-1708023600-1708030800@freegracefellowship.ca
SUMMARY:LLY
DESCRIPTION:Fun Night! Contact Jeremy Van Hierden for more details!
URL:https://freegracefellowship.ca/event/lly-18/
END:VEVENT
BEGIN:VEVENT
DTSTART;TZID=America/Denver:20240215T190000
DTEND;TZID=America/Denver:20240215T210000
DTSTAMP:20260424T213427
CREATED:20240213T021501Z
LAST-MODIFIED:20240213T021501Z
UID:2627-1708023600-1708030800@freegracefellowship.ca
SUMMARY:Victorious Prayer Warrior Bootcamp
DESCRIPTION:There is a zoom meeting! Contact Jennifer Thomas for more details!
URL:https://freegracefellowship.ca/event/victorious-prayer-warrior-bootcamp-6/
END:VEVENT
BEGIN:VEVENT
DTSTART;TZID=America/Denver:20240215T190000
DTEND;TZID=America/Denver:20240215T210000
DTSTAMP:20260424T213427
CREATED:20240213T021803Z
LAST-MODIFIED:20240213T021803Z
UID:2633-1708023600-1708030800@freegracefellowship.ca
SUMMARY:LLY
DESCRIPTION:This is for ages 12-17! Please contact Jeremy Van Hierden for more details!
URL:https://freegracefellowship.ca/event/lly-21/
END:VEVENT
END:VCALENDAR