BEGIN:VCALENDAR
VERSION:2.0
PRODID:-//Free Grace Fellowship - ECPv6.15.20//NONSGML v1.0//EN
CALSCALE:GREGORIAN
METHOD:PUBLISH
X-ORIGINAL-URL:https://freegracefellowship.ca
X-WR-CALDESC:Events for Free Grace Fellowship
REFRESH-INTERVAL;VALUE=DURATION:PT1H
X-Robots-Tag:noindex
X-PUBLISHED-TTL:PT1H
BEGIN:VTIMEZONE
TZID:America/Denver
BEGIN:DAYLIGHT
TZOFFSETFROM:-0700
TZOFFSETTO:-0600
TZNAME:MDT
DTSTART:20230312T090000
END:DAYLIGHT
BEGIN:STANDARD
TZOFFSETFROM:-0600
TZOFFSETTO:-0700
TZNAME:MST
DTSTART:20231105T080000
END:STANDARD
BEGIN:DAYLIGHT
TZOFFSETFROM:-0700
TZOFFSETTO:-0600
TZNAME:MDT
DTSTART:20240310T090000
END:DAYLIGHT
BEGIN:STANDARD
TZOFFSETFROM:-0600
TZOFFSETTO:-0700
TZNAME:MST
DTSTART:20241103T080000
END:STANDARD
BEGIN:DAYLIGHT
TZOFFSETFROM:-0700
TZOFFSETTO:-0600
TZNAME:MDT
DTSTART:20250309T090000
END:DAYLIGHT
BEGIN:STANDARD
TZOFFSETFROM:-0600
TZOFFSETTO:-0700
TZNAME:MST
DTSTART:20251102T080000
END:STANDARD
END:VTIMEZONE
BEGIN:VEVENT
DTSTART;TZID=America/Denver:20240222T190000
DTEND;TZID=America/Denver:20240222T210000
DTSTAMP:20260424T213423
CREATED:20240131T015049Z
LAST-MODIFIED:20240131T015049Z
UID:2570-1708628400-1708635600@freegracefellowship.ca
SUMMARY:Alan's Small Group
DESCRIPTION:This will be in the Gathering Grounds of the church! Contact Alan Woodroffe for more details!
URL:https://freegracefellowship.ca/event/alans-small-group-8/
END:VEVENT
BEGIN:VEVENT
DTSTART;TZID=America/Denver:20240222T190000
DTEND;TZID=America/Denver:20240222T210000
DTSTAMP:20260424T213423
CREATED:20240131T015545Z
LAST-MODIFIED:20240131T015545Z
UID:2580-1708628400-1708635600@freegracefellowship.ca
SUMMARY:Victorious Prayer Warrior Bootcamp
DESCRIPTION:This is led by Jennifer Thomas and is on zoom!
URL:https://freegracefellowship.ca/event/victorious-prayer-warrior-bootcamp-4/
END:VEVENT
BEGIN:VEVENT
DTSTART;TZID=America/Denver:20240222T190000
DTEND;TZID=America/Denver:20240222T210000
DTSTAMP:20260424T213423
CREATED:20240213T021320Z
LAST-MODIFIED:20240213T021320Z
UID:2623-1708628400-1708635600@freegracefellowship.ca
SUMMARY:Alan's Small Group
DESCRIPTION:This is in the Gathering Grounds of the church! Please contact Alan Woodroffe for more details!
URL:https://freegracefellowship.ca/event/alans-small-group-11/
END:VEVENT
BEGIN:VEVENT
DTSTART;TZID=America/Denver:20240222T190000
DTEND;TZID=America/Denver:20240222T210000
DTSTAMP:20260424T213423
CREATED:20240213T021552Z
LAST-MODIFIED:20240213T021552Z
UID:2629-1708628400-1708635600@freegracefellowship.ca
SUMMARY:Victorious Prayer Warrior Bootcamp
DESCRIPTION:There is a zoom meeting! Contact Jennifer Thomas for more details!
URL:https://freegracefellowship.ca/event/victorious-prayer-warrior-bootcamp-7/
END:VEVENT
BEGIN:VEVENT
DTSTART;TZID=America/Denver:20240222T190000
DTEND;TZID=America/Denver:20240222T210000
DTSTAMP:20260424T213423
CREATED:20240213T021831Z
LAST-MODIFIED:20240213T021831Z
UID:2635-1708628400-1708635600@freegracefellowship.ca
SUMMARY:LLY
DESCRIPTION:This is for ages 12-17! Please contact Jeremy Van Hierden for more details!
URL:https://freegracefellowship.ca/event/lly-22/
END:VEVENT
END:VCALENDAR