BEGIN:VCALENDAR
VERSION:2.0
PRODID:-//Free Grace Fellowship - ECPv6.15.20//NONSGML v1.0//EN
CALSCALE:GREGORIAN
METHOD:PUBLISH
X-WR-CALNAME:Free Grace Fellowship
X-ORIGINAL-URL:https://freegracefellowship.ca
X-WR-CALDESC:Events for Free Grace Fellowship
REFRESH-INTERVAL;VALUE=DURATION:PT1H
X-Robots-Tag:noindex
X-PUBLISHED-TTL:PT1H
BEGIN:VTIMEZONE
TZID:America/Denver
BEGIN:DAYLIGHT
TZOFFSETFROM:-0700
TZOFFSETTO:-0600
TZNAME:MDT
DTSTART:20230312T090000
END:DAYLIGHT
BEGIN:STANDARD
TZOFFSETFROM:-0600
TZOFFSETTO:-0700
TZNAME:MST
DTSTART:20231105T080000
END:STANDARD
BEGIN:DAYLIGHT
TZOFFSETFROM:-0700
TZOFFSETTO:-0600
TZNAME:MDT
DTSTART:20240310T090000
END:DAYLIGHT
BEGIN:STANDARD
TZOFFSETFROM:-0600
TZOFFSETTO:-0700
TZNAME:MST
DTSTART:20241103T080000
END:STANDARD
BEGIN:DAYLIGHT
TZOFFSETFROM:-0700
TZOFFSETTO:-0600
TZNAME:MDT
DTSTART:20250309T090000
END:DAYLIGHT
BEGIN:STANDARD
TZOFFSETFROM:-0600
TZOFFSETTO:-0700
TZNAME:MST
DTSTART:20251102T080000
END:STANDARD
END:VTIMEZONE
BEGIN:VEVENT
DTSTART;TZID=America/Denver:20240305T094500
DTEND;TZID=America/Denver:20240305T114500
DTSTAMP:20260424T202604
CREATED:20240302T195525Z
LAST-MODIFIED:20240302T195525Z
UID:2672-1709631900-1709639100@freegracefellowship.ca
SUMMARY:Mom's Group
DESCRIPTION:This is in the Gathering Grounds of the church! Contact Margaret Slingerland for more details!
URL:https://freegracefellowship.ca/event/moms-group-24/
END:VEVENT
BEGIN:VEVENT
DTSTART;TZID=America/Denver:20240305T190000
DTEND;TZID=America/Denver:20240305T210000
DTSTAMP:20260424T202604
CREATED:20240302T200026Z
LAST-MODIFIED:20240302T200026Z
UID:2676-1709665200-1709672400@freegracefellowship.ca
SUMMARY:SLA
DESCRIPTION:This is in the Gathering Grounds!
URL:https://freegracefellowship.ca/event/sla-4/
END:VEVENT
END:VCALENDAR