BEGIN:VCALENDAR
VERSION:2.0
PRODID:-//Free Grace Fellowship - ECPv6.15.20//NONSGML v1.0//EN
CALSCALE:GREGORIAN
METHOD:PUBLISH
X-ORIGINAL-URL:https://freegracefellowship.ca
X-WR-CALDESC:Events for Free Grace Fellowship
REFRESH-INTERVAL;VALUE=DURATION:PT1H
X-Robots-Tag:noindex
X-PUBLISHED-TTL:PT1H
BEGIN:VTIMEZONE
TZID:America/Denver
BEGIN:DAYLIGHT
TZOFFSETFROM:-0700
TZOFFSETTO:-0600
TZNAME:MDT
DTSTART:20230312T090000
END:DAYLIGHT
BEGIN:STANDARD
TZOFFSETFROM:-0600
TZOFFSETTO:-0700
TZNAME:MST
DTSTART:20231105T080000
END:STANDARD
BEGIN:DAYLIGHT
TZOFFSETFROM:-0700
TZOFFSETTO:-0600
TZNAME:MDT
DTSTART:20240310T090000
END:DAYLIGHT
BEGIN:STANDARD
TZOFFSETFROM:-0600
TZOFFSETTO:-0700
TZNAME:MST
DTSTART:20241103T080000
END:STANDARD
BEGIN:DAYLIGHT
TZOFFSETFROM:-0700
TZOFFSETTO:-0600
TZNAME:MDT
DTSTART:20250309T090000
END:DAYLIGHT
BEGIN:STANDARD
TZOFFSETFROM:-0600
TZOFFSETTO:-0700
TZNAME:MST
DTSTART:20251102T080000
END:STANDARD
END:VTIMEZONE
BEGIN:VEVENT
DTSTART;TZID=America/Denver:20240310T083000
DTEND;TZID=America/Denver:20240310T123000
DTSTAMP:20260424T202618
CREATED:20240306T210418Z
LAST-MODIFIED:20240306T210418Z
UID:2725-1710059400-1710073800@freegracefellowship.ca
SUMMARY:Guest speaker at Church
DESCRIPTION:Michael Pierce is speaking at both services!
URL:https://freegracefellowship.ca/event/guest-speaker-at-church/
END:VEVENT
BEGIN:VEVENT
DTSTART;TZID=America/Denver:20240310T190000
DTEND;TZID=America/Denver:20240310T210000
DTSTAMP:20260424T202618
CREATED:20240306T210831Z
LAST-MODIFIED:20240306T210831Z
UID:2733-1710097200-1710104400@freegracefellowship.ca
SUMMARY:Young Adults
DESCRIPTION:Meagan and Jaimie Slingerland are running a financial course by David Ramsey. Contact one of them for more details!
URL:https://freegracefellowship.ca/event/young-adults-49/
END:VEVENT
END:VCALENDAR