BEGIN:VCALENDAR
VERSION:2.0
PRODID:-//Free Grace Fellowship - ECPv6.15.20//NONSGML v1.0//EN
CALSCALE:GREGORIAN
METHOD:PUBLISH
X-ORIGINAL-URL:https://freegracefellowship.ca
X-WR-CALDESC:Events for Free Grace Fellowship
REFRESH-INTERVAL;VALUE=DURATION:PT1H
X-Robots-Tag:noindex
X-PUBLISHED-TTL:PT1H
BEGIN:VTIMEZONE
TZID:America/Denver
BEGIN:DAYLIGHT
TZOFFSETFROM:-0700
TZOFFSETTO:-0600
TZNAME:MDT
DTSTART:20230312T090000
END:DAYLIGHT
BEGIN:STANDARD
TZOFFSETFROM:-0600
TZOFFSETTO:-0700
TZNAME:MST
DTSTART:20231105T080000
END:STANDARD
BEGIN:DAYLIGHT
TZOFFSETFROM:-0700
TZOFFSETTO:-0600
TZNAME:MDT
DTSTART:20240310T090000
END:DAYLIGHT
BEGIN:STANDARD
TZOFFSETFROM:-0600
TZOFFSETTO:-0700
TZNAME:MST
DTSTART:20241103T080000
END:STANDARD
BEGIN:DAYLIGHT
TZOFFSETFROM:-0700
TZOFFSETTO:-0600
TZNAME:MDT
DTSTART:20250309T090000
END:DAYLIGHT
BEGIN:STANDARD
TZOFFSETFROM:-0600
TZOFFSETTO:-0700
TZNAME:MST
DTSTART:20251102T080000
END:STANDARD
END:VTIMEZONE
BEGIN:VEVENT
DTSTART;TZID=America/Denver:20240315T190000
DTEND;TZID=America/Denver:20240315T210000
DTSTAMP:20260424T202617
CREATED:20240306T190457Z
LAST-MODIFIED:20240306T190457Z
UID:2707-1710529200-1710536400@freegracefellowship.ca
SUMMARY:Jesus Alphas
DESCRIPTION:This is for anyone 18+ who considers themselves a young adult and wants more Jesus! This is at Jon and Sherrie Bilec’s house. Contact Sherrie Bilec or Larry Schille for more details.
URL:https://freegracefellowship.ca/event/jesus-alphas-22/
END:VEVENT
BEGIN:VEVENT
DTSTART;TZID=America/Denver:20240315T190000
DTEND;TZID=America/Denver:20240315T210000
DTSTAMP:20260424T202617
CREATED:20240306T191800Z
LAST-MODIFIED:20240306T191800Z
UID:2719-1710529200-1710536400@freegracefellowship.ca
SUMMARY:Men's Meat Night
DESCRIPTION:Contact Jaimie Slingerland for more details!
URL:https://freegracefellowship.ca/event/mens-meat-night-14/
END:VEVENT
END:VCALENDAR