BEGIN:VCALENDAR
VERSION:2.0
PRODID:-//Free Grace Fellowship - ECPv6.15.20//NONSGML v1.0//EN
CALSCALE:GREGORIAN
METHOD:PUBLISH
X-ORIGINAL-URL:https://freegracefellowship.ca
X-WR-CALDESC:Events for Free Grace Fellowship
REFRESH-INTERVAL;VALUE=DURATION:PT1H
X-Robots-Tag:noindex
X-PUBLISHED-TTL:PT1H
BEGIN:VTIMEZONE
TZID:America/Denver
BEGIN:DAYLIGHT
TZOFFSETFROM:-0700
TZOFFSETTO:-0600
TZNAME:MDT
DTSTART:20230312T090000
END:DAYLIGHT
BEGIN:STANDARD
TZOFFSETFROM:-0600
TZOFFSETTO:-0700
TZNAME:MST
DTSTART:20231105T080000
END:STANDARD
BEGIN:DAYLIGHT
TZOFFSETFROM:-0700
TZOFFSETTO:-0600
TZNAME:MDT
DTSTART:20240310T090000
END:DAYLIGHT
BEGIN:STANDARD
TZOFFSETFROM:-0600
TZOFFSETTO:-0700
TZNAME:MST
DTSTART:20241103T080000
END:STANDARD
BEGIN:DAYLIGHT
TZOFFSETFROM:-0700
TZOFFSETTO:-0600
TZNAME:MDT
DTSTART:20250309T090000
END:DAYLIGHT
BEGIN:STANDARD
TZOFFSETFROM:-0600
TZOFFSETTO:-0700
TZNAME:MST
DTSTART:20251102T080000
END:STANDARD
END:VTIMEZONE
BEGIN:VEVENT
DTSTART;TZID=America/Denver:20240508T193000
DTEND;TZID=America/Denver:20240508T213000
DTSTAMP:20260424T180106
CREATED:20240503T175709Z
LAST-MODIFIED:20240503T175709Z
UID:2800-1715196600-1715203800@freegracefellowship.ca
SUMMARY:Corporate Prayer Meeting
DESCRIPTION:Our Free Grace Corporate Prayer Meeting in the Gathering Grounds Room in the church basement. Please consider coming and praying with us over our church community\, city\, country\, and world.
URL:https://freegracefellowship.ca/event/corporate-prayer-meeting-19/
LOCATION:The Gathering Grounds
END:VEVENT
END:VCALENDAR