BEGIN:VCALENDAR
VERSION:2.0
PRODID:-//Free Grace Fellowship - ECPv6.15.20//NONSGML v1.0//EN
CALSCALE:GREGORIAN
METHOD:PUBLISH
X-ORIGINAL-URL:https://freegracefellowship.ca
X-WR-CALDESC:Events for Free Grace Fellowship
REFRESH-INTERVAL;VALUE=DURATION:PT1H
X-Robots-Tag:noindex
X-PUBLISHED-TTL:PT1H
BEGIN:VTIMEZONE
TZID:America/Denver
BEGIN:DAYLIGHT
TZOFFSETFROM:-0700
TZOFFSETTO:-0600
TZNAME:MDT
DTSTART:20230312T090000
END:DAYLIGHT
BEGIN:STANDARD
TZOFFSETFROM:-0600
TZOFFSETTO:-0700
TZNAME:MST
DTSTART:20231105T080000
END:STANDARD
BEGIN:DAYLIGHT
TZOFFSETFROM:-0700
TZOFFSETTO:-0600
TZNAME:MDT
DTSTART:20240310T090000
END:DAYLIGHT
BEGIN:STANDARD
TZOFFSETFROM:-0600
TZOFFSETTO:-0700
TZNAME:MST
DTSTART:20241103T080000
END:STANDARD
BEGIN:DAYLIGHT
TZOFFSETFROM:-0700
TZOFFSETTO:-0600
TZNAME:MDT
DTSTART:20250309T090000
END:DAYLIGHT
BEGIN:STANDARD
TZOFFSETFROM:-0600
TZOFFSETTO:-0700
TZNAME:MST
DTSTART:20251102T080000
END:STANDARD
END:VTIMEZONE
BEGIN:VEVENT
DTSTART;TZID=America/Denver:20241008T093000
DTEND;TZID=America/Denver:20241008T113000
DTSTAMP:20260424T121018
CREATED:20241004T162451Z
LAST-MODIFIED:20241004T162451Z
UID:2963-1728379800-1728387000@freegracefellowship.ca
SUMMARY:Mom's Group
DESCRIPTION:
URL:https://freegracefellowship.ca/event/moms-group-32/
LOCATION:The Gathering Grounds
END:VEVENT
BEGIN:VEVENT
DTSTART;TZID=America/Denver:20241008T190000
DTEND;TZID=America/Denver:20241008T210000
DTSTAMP:20260424T121018
CREATED:20241004T161829Z
LAST-MODIFIED:20241004T161829Z
UID:2951-1728414000-1728421200@freegracefellowship.ca
SUMMARY:Tuesday Night Small Group
DESCRIPTION:
URL:https://freegracefellowship.ca/event/tuesday-night-small-group-39/
LOCATION:The Gathering Grounds
ORGANIZER;CN="Alan Woodroffe":MAILTO:alanannwoodroffe@gmail.com
END:VEVENT
BEGIN:VEVENT
DTSTART;TZID=America/Denver:20241008T190000
DTEND;TZID=America/Denver:20241008T210000
DTSTAMP:20260424T121018
CREATED:20241004T161937Z
LAST-MODIFIED:20241004T161937Z
UID:2953-1728414000-1728421200@freegracefellowship.ca
SUMMARY:Mattheology Small Group
DESCRIPTION:
URL:https://freegracefellowship.ca/event/mattheology-small-group-5/
LOCATION:Free Grace Fellowship Church\, 1807 2A Ave N\, Lethbridge\, AB\, Canada
ORGANIZER;CN="Bill Zwartbol":MAILTO:bezwartbol@telus.net
END:VEVENT
END:VCALENDAR