BEGIN:VCALENDAR
VERSION:2.0
PRODID:-//Free Grace Fellowship - ECPv6.15.20//NONSGML v1.0//EN
CALSCALE:GREGORIAN
METHOD:PUBLISH
X-WR-CALNAME:Free Grace Fellowship
X-ORIGINAL-URL:https://freegracefellowship.ca
X-WR-CALDESC:Events for Free Grace Fellowship
REFRESH-INTERVAL;VALUE=DURATION:PT1H
X-Robots-Tag:noindex
X-PUBLISHED-TTL:PT1H
BEGIN:VTIMEZONE
TZID:America/Denver
BEGIN:DAYLIGHT
TZOFFSETFROM:-0700
TZOFFSETTO:-0600
TZNAME:MDT
DTSTART:20240310T090000
END:DAYLIGHT
BEGIN:STANDARD
TZOFFSETFROM:-0600
TZOFFSETTO:-0700
TZNAME:MST
DTSTART:20241103T080000
END:STANDARD
BEGIN:DAYLIGHT
TZOFFSETFROM:-0700
TZOFFSETTO:-0600
TZNAME:MDT
DTSTART:20250309T090000
END:DAYLIGHT
BEGIN:STANDARD
TZOFFSETFROM:-0600
TZOFFSETTO:-0700
TZNAME:MST
DTSTART:20251102T080000
END:STANDARD
BEGIN:DAYLIGHT
TZOFFSETFROM:-0700
TZOFFSETTO:-0600
TZNAME:MDT
DTSTART:20260308T090000
END:DAYLIGHT
BEGIN:STANDARD
TZOFFSETFROM:-0600
TZOFFSETTO:-0700
TZNAME:MST
DTSTART:20261101T080000
END:STANDARD
END:VTIMEZONE
BEGIN:VEVENT
DTSTART;TZID=America/Denver:20250205T100000
DTEND;TZID=America/Denver:20250205T120000
DTSTAMP:20260424T061304
CREATED:20250204T054906Z
LAST-MODIFIED:20250204T054906Z
UID:3144-1738749600-1738756800@freegracefellowship.ca
SUMMARY:Senior Ladies' Bible Study
DESCRIPTION:
URL:https://freegracefellowship.ca/event/senior-ladies-bible-study-3/
END:VEVENT
BEGIN:VEVENT
DTSTART;TZID=America/Denver:20250205T190000
DTEND;TZID=America/Denver:20250205T210000
DTSTAMP:20260424T061304
CREATED:20250204T054722Z
LAST-MODIFIED:20250204T054722Z
UID:3140-1738782000-1738789200@freegracefellowship.ca
SUMMARY:Wednesday Night Small Group
DESCRIPTION:
URL:https://freegracefellowship.ca/event/wednesday-night-small-group-56/
LOCATION:Graham & Sherry’s House
END:VEVENT
BEGIN:VEVENT
DTSTART;TZID=America/Denver:20250205T190000
DTEND;TZID=America/Denver:20250205T210000
DTSTAMP:20260424T061304
CREATED:20250204T054808Z
LAST-MODIFIED:20250204T054808Z
UID:3142-1738782000-1738789200@freegracefellowship.ca
SUMMARY:DivorceCare Group
DESCRIPTION:
URL:https://freegracefellowship.ca/event/divorcecare-group-2/
LOCATION:Free Grace Fellowship Church\, 1807 2A Ave N\, Lethbridge\, AB\, Canada
END:VEVENT
END:VCALENDAR