BEGIN:VCALENDAR
VERSION:2.0
PRODID:-//Free Grace Fellowship - ECPv6.15.20//NONSGML v1.0//EN
CALSCALE:GREGORIAN
METHOD:PUBLISH
X-ORIGINAL-URL:https://freegracefellowship.ca
X-WR-CALDESC:Events for Free Grace Fellowship
REFRESH-INTERVAL;VALUE=DURATION:PT1H
X-Robots-Tag:noindex
X-PUBLISHED-TTL:PT1H
BEGIN:VTIMEZONE
TZID:America/Denver
BEGIN:DAYLIGHT
TZOFFSETFROM:-0700
TZOFFSETTO:-0600
TZNAME:MDT
DTSTART:20240310T090000
END:DAYLIGHT
BEGIN:STANDARD
TZOFFSETFROM:-0600
TZOFFSETTO:-0700
TZNAME:MST
DTSTART:20241103T080000
END:STANDARD
BEGIN:DAYLIGHT
TZOFFSETFROM:-0700
TZOFFSETTO:-0600
TZNAME:MDT
DTSTART:20250309T090000
END:DAYLIGHT
BEGIN:STANDARD
TZOFFSETFROM:-0600
TZOFFSETTO:-0700
TZNAME:MST
DTSTART:20251102T080000
END:STANDARD
BEGIN:DAYLIGHT
TZOFFSETFROM:-0700
TZOFFSETTO:-0600
TZNAME:MDT
DTSTART:20260308T090000
END:DAYLIGHT
BEGIN:STANDARD
TZOFFSETFROM:-0600
TZOFFSETTO:-0700
TZNAME:MST
DTSTART:20261101T080000
END:STANDARD
END:VTIMEZONE
BEGIN:VEVENT
DTSTART;TZID=America/Denver:20250705T093000
DTEND;TZID=America/Denver:20250705T110000
DTSTAMP:20260423T221015
CREATED:20250630T035442Z
LAST-MODIFIED:20250630T035442Z
UID:3451-1751707800-1751713200@freegracefellowship.ca
SUMMARY:Communion Sunday
DESCRIPTION:
URL:https://freegracefellowship.ca/event/communion-sunday-4/
LOCATION:Free Grace Fellowship Church\, 1807 2A Ave N\, Lethbridge\, AB\, Canada
END:VEVENT
BEGIN:VEVENT
DTSTART;TZID=America/Denver:20250705T100000
DTEND;TZID=America/Denver:20250705T120000
DTSTAMP:20260423T221015
CREATED:20250630T035009Z
LAST-MODIFIED:20250630T035009Z
UID:3437-1751709600-1751716800@freegracefellowship.ca
SUMMARY:Evangelism Training
DESCRIPTION:
URL:https://freegracefellowship.ca/event/evangelism-training-17/
LOCATION:Free Grace Fellowship Church\, 1807 2A Ave N\, Lethbridge\, AB\, Canada
END:VEVENT
BEGIN:VEVENT
DTSTART;TZID=America/Denver:20250705T190000
DTEND;TZID=America/Denver:20250705T210000
DTSTAMP:20260423T221015
CREATED:20250630T035324Z
LAST-MODIFIED:20250630T035324Z
UID:3447-1751742000-1751749200@freegracefellowship.ca
SUMMARY:Young Adults
DESCRIPTION:
URL:https://freegracefellowship.ca/event/young-adults-52/
END:VEVENT
END:VCALENDAR