BEGIN:VCALENDAR
VERSION:2.0
PRODID:-//Free Grace Fellowship - ECPv6.15.20//NONSGML v1.0//EN
CALSCALE:GREGORIAN
METHOD:PUBLISH
X-WR-CALNAME:Free Grace Fellowship
X-ORIGINAL-URL:https://freegracefellowship.ca
X-WR-CALDESC:Events for Free Grace Fellowship
REFRESH-INTERVAL;VALUE=DURATION:PT1H
X-Robots-Tag:noindex
X-PUBLISHED-TTL:PT1H
BEGIN:VTIMEZONE
TZID:America/Denver
BEGIN:DAYLIGHT
TZOFFSETFROM:-0700
TZOFFSETTO:-0600
TZNAME:MDT
DTSTART:20240310T090000
END:DAYLIGHT
BEGIN:STANDARD
TZOFFSETFROM:-0600
TZOFFSETTO:-0700
TZNAME:MST
DTSTART:20241103T080000
END:STANDARD
BEGIN:DAYLIGHT
TZOFFSETFROM:-0700
TZOFFSETTO:-0600
TZNAME:MDT
DTSTART:20250309T090000
END:DAYLIGHT
BEGIN:STANDARD
TZOFFSETFROM:-0600
TZOFFSETTO:-0700
TZNAME:MST
DTSTART:20251102T080000
END:STANDARD
BEGIN:DAYLIGHT
TZOFFSETFROM:-0700
TZOFFSETTO:-0600
TZNAME:MDT
DTSTART:20260308T090000
END:DAYLIGHT
BEGIN:STANDARD
TZOFFSETFROM:-0600
TZOFFSETTO:-0700
TZNAME:MST
DTSTART:20261101T080000
END:STANDARD
END:VTIMEZONE
BEGIN:VEVENT
DTSTART;TZID=America/Denver:20251106T100000
DTEND;TZID=America/Denver:20251106T120000
DTSTAMP:20260423T152736
CREATED:20251126T030623Z
LAST-MODIFIED:20251126T030623Z
UID:3629-1762423200-1762430400@freegracefellowship.ca
SUMMARY:Senior Ladies' Group
DESCRIPTION:
URL:https://freegracefellowship.ca/event/senior-ladies-group-2/
END:VEVENT
BEGIN:VEVENT
DTSTART;TZID=America/Denver:20251106T190000
DTEND;TZID=America/Denver:20251106T210000
DTSTAMP:20260423T152736
CREATED:20251126T025231Z
LAST-MODIFIED:20251126T025231Z
UID:3589-1762455600-1762462800@freegracefellowship.ca
SUMMARY:LLY
DESCRIPTION:
URL:https://freegracefellowship.ca/event/lly-43/
END:VEVENT
END:VCALENDAR