BEGIN:VCALENDAR
VERSION:2.0
PRODID:-//Free Grace Fellowship - ECPv6.15.20//NONSGML v1.0//EN
CALSCALE:GREGORIAN
METHOD:PUBLISH
X-WR-CALNAME:Free Grace Fellowship
X-ORIGINAL-URL:https://freegracefellowship.ca
X-WR-CALDESC:Events for Free Grace Fellowship
REFRESH-INTERVAL;VALUE=DURATION:PT1H
X-Robots-Tag:noindex
X-PUBLISHED-TTL:PT1H
BEGIN:VTIMEZONE
TZID:America/Denver
BEGIN:DAYLIGHT
TZOFFSETFROM:-0700
TZOFFSETTO:-0600
TZNAME:MDT
DTSTART:20220313T090000
END:DAYLIGHT
BEGIN:STANDARD
TZOFFSETFROM:-0600
TZOFFSETTO:-0700
TZNAME:MST
DTSTART:20221106T080000
END:STANDARD
BEGIN:DAYLIGHT
TZOFFSETFROM:-0700
TZOFFSETTO:-0600
TZNAME:MDT
DTSTART:20230312T090000
END:DAYLIGHT
BEGIN:STANDARD
TZOFFSETFROM:-0600
TZOFFSETTO:-0700
TZNAME:MST
DTSTART:20231105T080000
END:STANDARD
BEGIN:DAYLIGHT
TZOFFSETFROM:-0700
TZOFFSETTO:-0600
TZNAME:MDT
DTSTART:20240310T090000
END:DAYLIGHT
BEGIN:STANDARD
TZOFFSETFROM:-0600
TZOFFSETTO:-0700
TZNAME:MST
DTSTART:20241103T080000
END:STANDARD
END:VTIMEZONE
BEGIN:VEVENT
DTSTART;TZID=America/Denver:20230806T180000
DTEND;TZID=America/Denver:20230806T210000
DTSTAMP:20260425T105602
CREATED:20230815T185522Z
LAST-MODIFIED:20230815T190253Z
UID:2182-1691344800-1691355600@freegracefellowship.ca
SUMMARY:Volleyball in the Park
DESCRIPTION:Come join us at Kiwanis Shelter at Henderson Lake to play volleyball\, enjoy some snacks\, and fellowship! \nBring a snack to share and a lawn chair!
URL:https://freegracefellowship.ca/event/volleyball-in-the-park/
END:VEVENT
BEGIN:VEVENT
DTSTART;TZID=America/Denver:20230806T100000
DTEND;TZID=America/Denver:20230806T113000
DTSTAMP:20260425T105602
CREATED:20230815T185239Z
LAST-MODIFIED:20230815T190229Z
UID:2180-1691316000-1691321400@freegracefellowship.ca
SUMMARY:Communion
DESCRIPTION:Take part in Communion this service!
URL:https://freegracefellowship.ca/event/communion/
END:VEVENT
BEGIN:VEVENT
DTSTART;TZID=America/Denver:20230806T091500
DTEND;TZID=America/Denver:20230806T100000
DTSTAMP:20260425T105602
CREATED:20230815T184849Z
LAST-MODIFIED:20230815T184849Z
UID:2174-1691313300-1691316000@freegracefellowship.ca
SUMMARY:Pre-service prayer
DESCRIPTION:Pre-service prayer happens upstairs. Contact Bill for more information!
URL:https://freegracefellowship.ca/event/pre-service-prayer/
END:VEVENT
BEGIN:VEVENT
DTSTART;TZID=America/Denver:20230619T193000
DTEND;TZID=America/Denver:20230619T210000
DTSTAMP:20260425T105602
CREATED:20230615T160424Z
LAST-MODIFIED:20230615T160424Z
UID:2158-1687203000-1687208400@freegracefellowship.ca
SUMMARY:Monday Night Small Group
DESCRIPTION:Contact Bill for more details.
URL:https://freegracefellowship.ca/event/monday-night-small-group-29/
LOCATION:Harvey & Susan’s House
ORGANIZER;CN="Bill Zwartbol":MAILTO:bezwartbol@telus.net
END:VEVENT
BEGIN:VEVENT
DTSTART;TZID=America/Denver:20230606T094500
DTEND;TZID=America/Denver:20230606T114500
DTSTAMP:20260425T105602
CREATED:20230610T173741Z
LAST-MODIFIED:20230610T173741Z
UID:2147-1686044700-1686051900@freegracefellowship.ca
SUMMARY:Moms Group
DESCRIPTION:Please contact Margaret for more details.
URL:https://freegracefellowship.ca/event/moms-group-12/
LOCATION:The Gathering Grounds
END:VEVENT
BEGIN:VEVENT
DTSTART;TZID=America/Denver:20230531T193000
DTEND;TZID=America/Denver:20230531T210000
DTSTAMP:20260425T105602
CREATED:20230427T030848Z
LAST-MODIFIED:20230427T030848Z
UID:2109-1685561400-1685566800@freegracefellowship.ca
SUMMARY:Wednesday Night Small Group
DESCRIPTION:Please contact Graham for more details
URL:https://freegracefellowship.ca/event/wednesday-night-small-group-10/
LOCATION:Graham & Sherry’s House
ORGANIZER;CN="Graham Bretherick":MAILTO:grahambretherick@gmail.com
END:VEVENT
BEGIN:VEVENT
DTSTART;TZID=America/Denver:20230530T193000
DTEND;TZID=America/Denver:20230530T210000
DTSTAMP:20260425T105602
CREATED:20230427T025701Z
LAST-MODIFIED:20230427T025701Z
UID:2099-1685475000-1685480400@freegracefellowship.ca
SUMMARY:Tuesday Night Small Group
DESCRIPTION:Please contact Alan for more details.
URL:https://freegracefellowship.ca/event/tuesday-night-small-group-14/
LOCATION:The Gathering Grounds
ORGANIZER;CN="Alan Woodroffe":MAILTO:alanannwoodroffe@gmail.com
END:VEVENT
BEGIN:VEVENT
DTSTART;TZID=America/Denver:20230529T193000
DTEND;TZID=America/Denver:20230529T213000
DTSTAMP:20260425T105602
CREATED:20230427T024850Z
LAST-MODIFIED:20230427T024850Z
UID:2089-1685388600-1685395800@freegracefellowship.ca
SUMMARY:Monday Night Small Group
DESCRIPTION:Please contact Bill for more details!
URL:https://freegracefellowship.ca/event/monday-night-small-group-28/
LOCATION:Harvey & Susan’s House
ORGANIZER;CN="Bill Zwartbol":MAILTO:bezwartbol@telus.net
END:VEVENT
BEGIN:VEVENT
DTSTART;TZID=America/Denver:20230526T190000
DTEND;TZID=America/Denver:20230526T220000
DTSTAMP:20260425T105602
CREATED:20230427T032904Z
LAST-MODIFIED:20230427T032904Z
UID:2125-1685127600-1685138400@freegracefellowship.ca
SUMMARY:Young Adults
DESCRIPTION:Contact Brent & Janey or Craig & Suzanne for more details.
URL:https://freegracefellowship.ca/event/young-adults-35/
ORGANIZER;CN="Brent & Janey Feyter":MAILTO:brjafey@gmail.com
END:VEVENT
BEGIN:VEVENT
DTSTART;TZID=America/Denver:20230525T190000
DTEND;TZID=America/Denver:20230525T210000
DTSTAMP:20260425T105602
CREATED:20230427T032059Z
LAST-MODIFIED:20230427T032059Z
UID:2117-1685041200-1685048400@freegracefellowship.ca
SUMMARY:Love Lethbridge Youth
DESCRIPTION:
URL:https://freegracefellowship.ca/event/love-lethbridge-youth-61/
LOCATION:Free Grace Fellowship Church\, 1807 2A Ave N\, Lethbridge\, AB\, Canada
ORGANIZER;CN="Love Lethbridge Youth":MAILTO:lovelethbridgeyouth@gmail.com
END:VEVENT
BEGIN:VEVENT
DTSTART;TZID=America/Denver:20230524T193000
DTEND;TZID=America/Denver:20230524T210000
DTSTAMP:20260425T105602
CREATED:20230427T030720Z
LAST-MODIFIED:20230427T030720Z
UID:2107-1684956600-1684962000@freegracefellowship.ca
SUMMARY:Wednesday Night Small Group
DESCRIPTION:Please contact Graham for more details
URL:https://freegracefellowship.ca/event/wednesday-night-small-group-9/
LOCATION:Graham & Sherry’s House
ORGANIZER;CN="Graham Bretherick":MAILTO:grahambretherick@gmail.com
END:VEVENT
BEGIN:VEVENT
DTSTART;TZID=America/Denver:20230523T193000
DTEND;TZID=America/Denver:20230523T210000
DTSTAMP:20260425T105602
CREATED:20230427T025555Z
LAST-MODIFIED:20230427T025555Z
UID:2097-1684870200-1684875600@freegracefellowship.ca
SUMMARY:Tuesday Night Small Group
DESCRIPTION:Please contact Alan for more details.
URL:https://freegracefellowship.ca/event/tuesday-night-small-group-13/
LOCATION:The Gathering Grounds
ORGANIZER;CN="Alan Woodroffe":MAILTO:alanannwoodroffe@gmail.com
END:VEVENT
BEGIN:VEVENT
DTSTART;TZID=America/Denver:20230523T094500
DTEND;TZID=America/Denver:20230523T114500
DTSTAMP:20260425T105602
CREATED:20230427T033637Z
LAST-MODIFIED:20230427T033637Z
UID:2133-1684835100-1684842300@freegracefellowship.ca
SUMMARY:Moms Group
DESCRIPTION:Please contact Margaret for more details.
URL:https://freegracefellowship.ca/event/moms-group-11/
LOCATION:The Gathering Grounds
END:VEVENT
BEGIN:VEVENT
DTSTART;TZID=America/Denver:20230522T193000
DTEND;TZID=America/Denver:20230522T210000
DTSTAMP:20260425T105602
CREATED:20230427T024732Z
LAST-MODIFIED:20230427T024732Z
UID:2087-1684783800-1684789200@freegracefellowship.ca
SUMMARY:Monday Night Small Group
DESCRIPTION:Please contact Bill for more details!
URL:https://freegracefellowship.ca/event/monday-night-small-group-27/
LOCATION:Harvey & Susan’s House
ORGANIZER;CN="Bill Zwartbol":MAILTO:bezwartbol@telus.net
END:VEVENT
BEGIN:VEVENT
DTSTART;TZID=America/Denver:20230519T190000
DTEND;TZID=America/Denver:20230519T220000
DTSTAMP:20260425T105602
CREATED:20230427T032811Z
LAST-MODIFIED:20230427T032811Z
UID:2123-1684522800-1684533600@freegracefellowship.ca
SUMMARY:Young Adults
DESCRIPTION:Contact Brent & Janey or Craig & Suzanne for more details.
URL:https://freegracefellowship.ca/event/young-adults-34/
ORGANIZER;CN="Brent & Janey Feyter":MAILTO:brjafey@gmail.com
END:VEVENT
BEGIN:VEVENT
DTSTART;TZID=America/Denver:20230518T190000
DTEND;TZID=America/Denver:20230518T210000
DTSTAMP:20260425T105602
CREATED:20230427T032002Z
LAST-MODIFIED:20230427T032002Z
UID:2115-1684436400-1684443600@freegracefellowship.ca
SUMMARY:Love Lethbridge Youth
DESCRIPTION:
URL:https://freegracefellowship.ca/event/love-lethbridge-youth-60/
LOCATION:Free Grace Fellowship Church\, 1807 2A Ave N\, Lethbridge\, AB\, Canada
ORGANIZER;CN="Love Lethbridge Youth":MAILTO:lovelethbridgeyouth@gmail.com
END:VEVENT
BEGIN:VEVENT
DTSTART;TZID=America/Denver:20230517T193000
DTEND;TZID=America/Denver:20230517T210000
DTSTAMP:20260425T105602
CREATED:20230427T030609Z
LAST-MODIFIED:20230427T030609Z
UID:2105-1684351800-1684357200@freegracefellowship.ca
SUMMARY:Wednesday Night Small Group
DESCRIPTION:Please contact Graham for more details
URL:https://freegracefellowship.ca/event/wednesday-night-small-group-8/
LOCATION:Graham & Sherry’s House
ORGANIZER;CN="Graham Bretherick":MAILTO:grahambretherick@gmail.com
END:VEVENT
BEGIN:VEVENT
DTSTART;TZID=America/Denver:20230516T193000
DTEND;TZID=America/Denver:20230516T210000
DTSTAMP:20260425T105602
CREATED:20230427T033342Z
LAST-MODIFIED:20230427T033342Z
UID:2129-1684265400-1684270800@freegracefellowship.ca
SUMMARY:Ladies Bible Study
DESCRIPTION:Please contact Margaret for more details.
URL:https://freegracefellowship.ca/event/ladies-bible-study-15/
LOCATION:The Gathering Grounds
END:VEVENT
BEGIN:VEVENT
DTSTART;TZID=America/Denver:20230515T193000
DTEND;TZID=America/Denver:20230515T210000
DTSTAMP:20260425T105602
CREATED:20230427T025332Z
LAST-MODIFIED:20230427T025805Z
UID:2093-1684179000-1684184400@freegracefellowship.ca
SUMMARY:Tuesday Night Small Group
DESCRIPTION:Please contact Alan for more details.
URL:https://freegracefellowship.ca/event/tuesday-night-small-group-11/
LOCATION:The Gathering Grounds
ORGANIZER;CN="Alan Woodroffe":MAILTO:alanannwoodroffe@gmail.com
END:VEVENT
BEGIN:VEVENT
DTSTART;TZID=America/Denver:20230515T193000
DTEND;TZID=America/Denver:20230515T210000
DTSTAMP:20260425T105602
CREATED:20230427T024624Z
LAST-MODIFIED:20230427T024624Z
UID:2085-1684179000-1684184400@freegracefellowship.ca
SUMMARY:Monday Night Small Group
DESCRIPTION:Please contact Bill for more details!
URL:https://freegracefellowship.ca/event/monday-night-small-group-26/
LOCATION:Harvey & Susan’s House
ORGANIZER;CN="Bill Zwartbol":MAILTO:bezwartbol@telus.net
END:VEVENT
BEGIN:VEVENT
DTSTART;TZID=America/Denver:20230513T190000
DTEND;TZID=America/Denver:20230513T220000
DTSTAMP:20260425T105602
CREATED:20230427T033045Z
LAST-MODIFIED:20230427T033045Z
UID:2127-1684004400-1684015200@freegracefellowship.ca
SUMMARY:Mens Meat Night
DESCRIPTION:Please contact Jaimie for more details.
URL:https://freegracefellowship.ca/event/mens-meat-night-12/
LOCATION:The Gathering Grounds
ORGANIZER;CN="Jamie Slingerland":MAILTO:slingerlandjaimie@gmail.com
END:VEVENT
BEGIN:VEVENT
DTSTART;TZID=America/Denver:20230512T190000
DTEND;TZID=America/Denver:20230512T220000
DTSTAMP:20260425T105602
CREATED:20230427T032706Z
LAST-MODIFIED:20230427T032706Z
UID:2121-1683918000-1683928800@freegracefellowship.ca
SUMMARY:Young Adults
DESCRIPTION:Contact Brent & Janey or Craig & Suzanne for more details.
URL:https://freegracefellowship.ca/event/young-adults-33/
ORGANIZER;CN="Brent & Janey Feyter":MAILTO:brjafey@gmail.com
END:VEVENT
BEGIN:VEVENT
DTSTART;TZID=America/Denver:20230511T190000
DTEND;TZID=America/Denver:20230511T210000
DTSTAMP:20260425T105602
CREATED:20230427T031818Z
LAST-MODIFIED:20230427T031818Z
UID:2113-1683831600-1683838800@freegracefellowship.ca
SUMMARY:Love Lethbridge Youth
DESCRIPTION:
URL:https://freegracefellowship.ca/event/love-lethbridge-youth-59/
LOCATION:Free Grace Fellowship Church\, 1807 2A Ave N\, Lethbridge\, AB\, Canada
ORGANIZER;CN="Love Lethbridge Youth":MAILTO:lovelethbridgeyouth@gmail.com
END:VEVENT
BEGIN:VEVENT
DTSTART;TZID=America/Denver:20230510T193000
DTEND;TZID=America/Denver:20230510T210000
DTSTAMP:20260425T105602
CREATED:20230427T030429Z
LAST-MODIFIED:20230427T030429Z
UID:2103-1683747000-1683752400@freegracefellowship.ca
SUMMARY:Wednesday Night Small Group
DESCRIPTION:Please contact Graham for more details
URL:https://freegracefellowship.ca/event/wednesday-night-small-group-7/
LOCATION:Graham & Sherry’s House
ORGANIZER;CN="Graham Bretherick":MAILTO:grahambretherick@gmail.com
END:VEVENT
BEGIN:VEVENT
DTSTART;TZID=America/Denver:20230509T193000
DTEND;TZID=America/Denver:20230509T210000
DTSTAMP:20260425T105602
CREATED:20230427T025431Z
LAST-MODIFIED:20230427T025431Z
UID:2095-1683660600-1683666000@freegracefellowship.ca
SUMMARY:Tuesday Night Small Group
DESCRIPTION:Please contact Alan for more details.
URL:https://freegracefellowship.ca/event/tuesday-night-small-group-12/
LOCATION:The Gathering Grounds
ORGANIZER;CN="Alan Woodroffe":MAILTO:alanannwoodroffe@gmail.com
END:VEVENT
BEGIN:VEVENT
DTSTART;TZID=America/Denver:20230509T094500
DTEND;TZID=America/Denver:20230509T114500
DTSTAMP:20260425T105602
CREATED:20230427T033525Z
LAST-MODIFIED:20230427T033525Z
UID:2131-1683625500-1683632700@freegracefellowship.ca
SUMMARY:Moms Group
DESCRIPTION:Please contact Margaret for more details.
URL:https://freegracefellowship.ca/event/moms-group-10/
LOCATION:The Gathering Grounds
END:VEVENT
BEGIN:VEVENT
DTSTART;TZID=America/Denver:20230508T193000
DTEND;TZID=America/Denver:20230508T210000
DTSTAMP:20260425T105602
CREATED:20230427T024454Z
LAST-MODIFIED:20230427T024454Z
UID:2083-1683574200-1683579600@freegracefellowship.ca
SUMMARY:Monday Night Small Group
DESCRIPTION:Please contact Bill for more details!
URL:https://freegracefellowship.ca/event/monday-night-small-group-25/
LOCATION:Harvey & Susan’s House
ORGANIZER;CN="Bill Zwartbol":MAILTO:bezwartbol@telus.net
END:VEVENT
BEGIN:VEVENT
DTSTART;TZID=America/Denver:20230505T190000
DTEND;TZID=America/Denver:20230505T220000
DTSTAMP:20260425T105602
CREATED:20230427T032319Z
LAST-MODIFIED:20230427T032319Z
UID:2119-1683313200-1683324000@freegracefellowship.ca
SUMMARY:Young Adults
DESCRIPTION:Contact Brent & Janey or Craig & Suzanne for more details.
URL:https://freegracefellowship.ca/event/young-adults-32/
ORGANIZER;CN="Brent & Janey Feyter":MAILTO:brjafey@gmail.com
END:VEVENT
BEGIN:VEVENT
DTSTART;TZID=America/Denver:20230504T190000
DTEND;TZID=America/Denver:20230504T210000
DTSTAMP:20260425T105602
CREATED:20230427T031638Z
LAST-MODIFIED:20230427T031705Z
UID:2111-1683226800-1683234000@freegracefellowship.ca
SUMMARY:Love Lethbridge Youth
DESCRIPTION:
URL:https://freegracefellowship.ca/event/love-lethbridge-youth-58/
LOCATION:Free Grace Fellowship Church\, 1807 2A Ave N\, Lethbridge\, AB\, Canada
ORGANIZER;CN="Love Lethbridge Youth":MAILTO:lovelethbridgeyouth@gmail.com
END:VEVENT
BEGIN:VEVENT
DTSTART;TZID=America/Denver:20230503T193000
DTEND;TZID=America/Denver:20230503T210000
DTSTAMP:20260425T105602
CREATED:20230427T030126Z
LAST-MODIFIED:20230427T030126Z
UID:2101-1683142200-1683147600@freegracefellowship.ca
SUMMARY:Wednesday Night Small Group
DESCRIPTION:Please contact Graham for more details.
URL:https://freegracefellowship.ca/event/wednesday-night-small-group-6/
LOCATION:Graham & Sherry’s House
ORGANIZER;CN="Graham Bretherick":MAILTO:grahambretherick@gmail.com
END:VEVENT
END:VCALENDAR