BEGIN:VCALENDAR
VERSION:2.0
PRODID:-//Free Grace Fellowship - ECPv6.15.20//NONSGML v1.0//EN
CALSCALE:GREGORIAN
METHOD:PUBLISH
X-WR-CALNAME:Free Grace Fellowship
X-ORIGINAL-URL:https://freegracefellowship.ca
X-WR-CALDESC:Events for Free Grace Fellowship
REFRESH-INTERVAL;VALUE=DURATION:PT1H
X-Robots-Tag:noindex
X-PUBLISHED-TTL:PT1H
BEGIN:VTIMEZONE
TZID:America/Denver
BEGIN:DAYLIGHT
TZOFFSETFROM:-0700
TZOFFSETTO:-0600
TZNAME:MDT
DTSTART:20240310T090000
END:DAYLIGHT
BEGIN:STANDARD
TZOFFSETFROM:-0600
TZOFFSETTO:-0700
TZNAME:MST
DTSTART:20241103T080000
END:STANDARD
BEGIN:DAYLIGHT
TZOFFSETFROM:-0700
TZOFFSETTO:-0600
TZNAME:MDT
DTSTART:20250309T090000
END:DAYLIGHT
BEGIN:STANDARD
TZOFFSETFROM:-0600
TZOFFSETTO:-0700
TZNAME:MST
DTSTART:20251102T080000
END:STANDARD
BEGIN:DAYLIGHT
TZOFFSETFROM:-0700
TZOFFSETTO:-0600
TZNAME:MDT
DTSTART:20260308T090000
END:DAYLIGHT
BEGIN:STANDARD
TZOFFSETFROM:-0600
TZOFFSETTO:-0700
TZNAME:MST
DTSTART:20261101T080000
END:STANDARD
BEGIN:DAYLIGHT
TZOFFSETFROM:-0700
TZOFFSETTO:-0600
TZNAME:MDT
DTSTART:20270314T090000
END:DAYLIGHT
BEGIN:STANDARD
TZOFFSETFROM:-0600
TZOFFSETTO:-0700
TZNAME:MST
DTSTART:20271107T080000
END:STANDARD
END:VTIMEZONE
BEGIN:VEVENT
DTSTART;TZID=America/Denver:20260117T200000
DTEND;TZID=America/Denver:20260117T210000
DTSTAMP:20260423T153508
CREATED:20260104T060036Z
LAST-MODIFIED:20260104T060036Z
UID:3676-1768680000-1768683600@freegracefellowship.ca
SUMMARY:Men's Night
DESCRIPTION:
URL:https://freegracefellowship.ca/event/mens-night/
END:VEVENT
BEGIN:VEVENT
DTSTART;TZID=America/Denver:20260116T170000
DTEND;TZID=America/Denver:20260117T170000
DTSTAMP:20260423T153508
CREATED:20260104T060012Z
LAST-MODIFIED:20260104T060012Z
UID:3674-1768582800-1768669200@freegracefellowship.ca
SUMMARY:DiscipleShift
DESCRIPTION:
URL:https://freegracefellowship.ca/event/discipleshift/
END:VEVENT
BEGIN:VEVENT
DTSTART;TZID=America/Denver:20260115T190000
DTEND;TZID=America/Denver:20260115T210000
DTSTAMP:20260423T153508
CREATED:20260104T055934Z
LAST-MODIFIED:20260104T055934Z
UID:3672-1768503600-1768510800@freegracefellowship.ca
SUMMARY:LLY
DESCRIPTION:
URL:https://freegracefellowship.ca/event/lly-49/
END:VEVENT
BEGIN:VEVENT
DTSTART;TZID=America/Denver:20260114T190000
DTEND;TZID=America/Denver:20260114T210000
DTSTAMP:20260423T153508
CREATED:20260104T060809Z
LAST-MODIFIED:20260104T060809Z
UID:3698-1768417200-1768424400@freegracefellowship.ca
SUMMARY:Corporate Prayer Meeting
DESCRIPTION:
URL:https://freegracefellowship.ca/event/corporate-prayer-meeting-30/
END:VEVENT
BEGIN:VEVENT
DTSTART;TZID=America/Denver:20260113T190000
DTEND;TZID=America/Denver:20260113T210000
DTSTAMP:20260423T153508
CREATED:20260104T055759Z
LAST-MODIFIED:20260104T055759Z
UID:3666-1768330800-1768338000@freegracefellowship.ca
SUMMARY:Mattheology Small Group
DESCRIPTION:
URL:https://freegracefellowship.ca/event/mattheology-small-group-35/
END:VEVENT
BEGIN:VEVENT
DTSTART;TZID=America/Denver:20260113T190000
DTEND;TZID=America/Denver:20260113T210000
DTSTAMP:20260423T153508
CREATED:20260104T055729Z
LAST-MODIFIED:20260104T055729Z
UID:3664-1768330800-1768338000@freegracefellowship.ca
SUMMARY:Tuesday Night Small Group
DESCRIPTION:
URL:https://freegracefellowship.ca/event/tuesday-night-small-group-83/
END:VEVENT
BEGIN:VEVENT
DTSTART;TZID=America/Denver:20260113T093000
DTEND;TZID=America/Denver:20260113T113000
DTSTAMP:20260423T153508
CREATED:20260104T055820Z
LAST-MODIFIED:20260104T055820Z
UID:3668-1768296600-1768303800@freegracefellowship.ca
SUMMARY:Mom's Group
DESCRIPTION:
URL:https://freegracefellowship.ca/event/moms-group-52/
END:VEVENT
BEGIN:VEVENT
DTSTART;TZID=America/Denver:20260108T190000
DTEND;TZID=America/Denver:20260108T210000
DTSTAMP:20260423T153508
CREATED:20260104T055654Z
LAST-MODIFIED:20260104T055654Z
UID:3662-1767898800-1767906000@freegracefellowship.ca
SUMMARY:LLY
DESCRIPTION:
URL:https://freegracefellowship.ca/event/lly-48/
END:VEVENT
BEGIN:VEVENT
DTSTART;TZID=America/Denver:20260107T190000
DTEND;TZID=America/Denver:20260107T210000
DTSTAMP:20260423T153508
CREATED:20260104T055633Z
LAST-MODIFIED:20260104T055633Z
UID:3660-1767812400-1767819600@freegracefellowship.ca
SUMMARY:Wednesday Night Small Group
DESCRIPTION:
URL:https://freegracefellowship.ca/event/wednesday-night-small-group-83/
END:VEVENT
BEGIN:VEVENT
DTSTART;TZID=America/Denver:20260106T190000
DTEND;TZID=America/Denver:20260106T210000
DTSTAMP:20260423T153508
CREATED:20260104T055604Z
LAST-MODIFIED:20260104T055604Z
UID:3658-1767726000-1767733200@freegracefellowship.ca
SUMMARY:Mattheology Small Group
DESCRIPTION:
URL:https://freegracefellowship.ca/event/mattheology-small-group-34/
END:VEVENT
BEGIN:VEVENT
DTSTART;TZID=America/Denver:20260106T190000
DTEND;TZID=America/Denver:20260106T210000
DTSTAMP:20260423T153508
CREATED:20260104T055540Z
LAST-MODIFIED:20260104T055540Z
UID:3656-1767726000-1767733200@freegracefellowship.ca
SUMMARY:Tuesday Night Small Group
DESCRIPTION:
URL:https://freegracefellowship.ca/event/tuesday-night-small-group-82/
END:VEVENT
BEGIN:VEVENT
DTSTART;TZID=America/Denver:20260104T093000
DTEND;TZID=America/Denver:20260104T120000
DTSTAMP:20260423T153508
CREATED:20260104T055511Z
LAST-MODIFIED:20260104T055511Z
UID:3654-1767519000-1767528000@freegracefellowship.ca
SUMMARY:Communion Sunday
DESCRIPTION:
URL:https://freegracefellowship.ca/event/communion-sunday-8/
END:VEVENT
BEGIN:VEVENT
DTSTART;TZID=America/Denver:20260103T100000
DTEND;TZID=America/Denver:20260103T120000
DTSTAMP:20260423T153508
CREATED:20260104T055443Z
LAST-MODIFIED:20260104T055443Z
UID:3652-1767434400-1767441600@freegracefellowship.ca
SUMMARY:Evangelism Training
DESCRIPTION:
URL:https://freegracefellowship.ca/event/evangelism-training-38/
END:VEVENT
BEGIN:VEVENT
DTSTART;TZID=America/Denver:20251206T100000
DTEND;TZID=America/Denver:20251206T120000
DTSTAMP:20260423T153508
CREATED:20251204T013901Z
LAST-MODIFIED:20251204T013901Z
UID:3649-1765015200-1765022400@freegracefellowship.ca
SUMMARY:Evangelism Training
DESCRIPTION:
URL:https://freegracefellowship.ca/event/evangelism-training-37/
END:VEVENT
BEGIN:VEVENT
DTSTART;TZID=America/Denver:20251206T093000
DTEND;TZID=America/Denver:20251206T120000
DTSTAMP:20260423T153508
CREATED:20251204T013549Z
LAST-MODIFIED:20251204T013549Z
UID:3639-1765013400-1765022400@freegracefellowship.ca
SUMMARY:Communion Sunday
DESCRIPTION:
URL:https://freegracefellowship.ca/event/communion-sunday-7/
END:VEVENT
BEGIN:VEVENT
DTSTART;TZID=America/Denver:20251204T190000
DTEND;TZID=America/Denver:20251204T210000
DTSTAMP:20260423T153508
CREATED:20251204T013831Z
LAST-MODIFIED:20251204T013831Z
UID:3647-1764874800-1764882000@freegracefellowship.ca
SUMMARY:LLY
DESCRIPTION:
URL:https://freegracefellowship.ca/event/lly-47/
END:VEVENT
BEGIN:VEVENT
DTSTART;TZID=America/Denver:20251203T190000
DTEND;TZID=America/Denver:20251203T210000
DTSTAMP:20260423T153508
CREATED:20251204T013800Z
LAST-MODIFIED:20251204T013800Z
UID:3645-1764788400-1764795600@freegracefellowship.ca
SUMMARY:Wednesday Night Small Group
DESCRIPTION:
URL:https://freegracefellowship.ca/event/wednesday-night-small-group-82/
END:VEVENT
BEGIN:VEVENT
DTSTART;TZID=America/Denver:20251202T190000
DTEND;TZID=America/Denver:20251202T210000
DTSTAMP:20260423T153508
CREATED:20251204T013731Z
LAST-MODIFIED:20251204T013731Z
UID:3643-1764702000-1764709200@freegracefellowship.ca
SUMMARY:Mattheology Small Group
DESCRIPTION:
URL:https://freegracefellowship.ca/event/mattheology-small-group-33/
END:VEVENT
BEGIN:VEVENT
DTSTART;TZID=America/Denver:20251202T190000
DTEND;TZID=America/Denver:20251202T210000
DTSTAMP:20260423T153508
CREATED:20251204T013650Z
LAST-MODIFIED:20251204T013650Z
UID:3641-1764702000-1764709200@freegracefellowship.ca
SUMMARY:Tuesday Night Small Group
DESCRIPTION:
URL:https://freegracefellowship.ca/event/tuesday-night-small-group-81/
END:VEVENT
BEGIN:VEVENT
DTSTART;TZID=America/Denver:20251129T100000
DTEND;TZID=America/Denver:20251129T120000
DTSTAMP:20260423T153508
CREATED:20251126T030429Z
LAST-MODIFIED:20251126T030429Z
UID:3623-1764410400-1764417600@freegracefellowship.ca
SUMMARY:Evangelism Training
DESCRIPTION:
URL:https://freegracefellowship.ca/event/evangelism-training-36/
END:VEVENT
BEGIN:VEVENT
DTSTART;TZID=America/Denver:20251127T190000
DTEND;TZID=America/Denver:20251127T210000
DTSTAMP:20260423T153508
CREATED:20251126T030357Z
LAST-MODIFIED:20251126T030357Z
UID:3621-1764270000-1764277200@freegracefellowship.ca
SUMMARY:LLY
DESCRIPTION:
URL:https://freegracefellowship.ca/event/lly-46/
END:VEVENT
BEGIN:VEVENT
DTSTART;TZID=America/Denver:20251126T190000
DTEND;TZID=America/Denver:20251126T210000
DTSTAMP:20260423T153508
CREATED:20251126T030327Z
LAST-MODIFIED:20251126T030327Z
UID:3619-1764183600-1764190800@freegracefellowship.ca
SUMMARY:Wednesday Night Small Group
DESCRIPTION:
URL:https://freegracefellowship.ca/event/wednesday-night-small-group-81/
END:VEVENT
BEGIN:VEVENT
DTSTART;TZID=America/Denver:20251125T190000
DTEND;TZID=America/Denver:20251125T210000
DTSTAMP:20260423T153508
CREATED:20251126T030145Z
LAST-MODIFIED:20251126T030145Z
UID:3617-1764097200-1764104400@freegracefellowship.ca
SUMMARY:Tuesday Night Small Group
DESCRIPTION:
URL:https://freegracefellowship.ca/event/tuesday-night-small-group-80/
END:VEVENT
BEGIN:VEVENT
DTSTART;TZID=America/Denver:20251125T190000
DTEND;TZID=America/Denver:20251125T210000
DTSTAMP:20260423T153508
CREATED:20251126T030109Z
LAST-MODIFIED:20251126T030109Z
UID:3615-1764097200-1764104400@freegracefellowship.ca
SUMMARY:Mattheology Small Group
DESCRIPTION:
URL:https://freegracefellowship.ca/event/mattheology-small-group-32/
END:VEVENT
BEGIN:VEVENT
DTSTART;TZID=America/Denver:20251122T190000
DTEND;TZID=America/Denver:20251122T210000
DTSTAMP:20260423T153508
CREATED:20251126T030856Z
LAST-MODIFIED:20251126T030856Z
UID:3637-1763838000-1763845200@freegracefellowship.ca
SUMMARY:Young Adults
DESCRIPTION:
URL:https://freegracefellowship.ca/event/young-adults-59/
END:VEVENT
BEGIN:VEVENT
DTSTART;TZID=America/Denver:20251122T100000
DTEND;TZID=America/Denver:20251122T120000
DTSTAMP:20260423T153508
CREATED:20251126T030028Z
LAST-MODIFIED:20251126T030028Z
UID:3613-1763805600-1763812800@freegracefellowship.ca
SUMMARY:Evangelism Training
DESCRIPTION:
URL:https://freegracefellowship.ca/event/evangelism-training-35/
END:VEVENT
BEGIN:VEVENT
DTSTART;TZID=America/Denver:20251120T190000
DTEND;TZID=America/Denver:20251120T210000
DTSTAMP:20260423T153508
CREATED:20251126T025951Z
LAST-MODIFIED:20251126T025951Z
UID:3611-1763665200-1763672400@freegracefellowship.ca
SUMMARY:LLY
DESCRIPTION:
URL:https://freegracefellowship.ca/event/lly-45/
END:VEVENT
BEGIN:VEVENT
DTSTART;TZID=America/Denver:20251119T190000
DTEND;TZID=America/Denver:20251119T210000
DTSTAMP:20260423T153508
CREATED:20251126T025913Z
LAST-MODIFIED:20251126T025913Z
UID:3609-1763578800-1763586000@freegracefellowship.ca
SUMMARY:Wednesday Night Small Group
DESCRIPTION:
URL:https://freegracefellowship.ca/event/wednesday-night-small-group-80/
END:VEVENT
BEGIN:VEVENT
DTSTART;TZID=America/Denver:20251118T190000
DTEND;TZID=America/Denver:20251118T210000
DTSTAMP:20260423T153508
CREATED:20251126T030541Z
LAST-MODIFIED:20251126T030541Z
UID:3627-1763492400-1763499600@freegracefellowship.ca
SUMMARY:Ladies' Bible Study
DESCRIPTION:
URL:https://freegracefellowship.ca/event/ladies-bible-study-36/
END:VEVENT
BEGIN:VEVENT
DTSTART;TZID=America/Denver:20251118T190000
DTEND;TZID=America/Denver:20251118T210000
DTSTAMP:20260423T153508
CREATED:20251126T025837Z
LAST-MODIFIED:20251126T025837Z
UID:3607-1763492400-1763499600@freegracefellowship.ca
SUMMARY:Tuesday Night Small Group
DESCRIPTION:
URL:https://freegracefellowship.ca/event/tuesday-night-small-group-79/
END:VEVENT
END:VCALENDAR