BEGIN:VCALENDAR
VERSION:2.0
PRODID:-//Free Grace Fellowship - ECPv6.15.20//NONSGML v1.0//EN
CALSCALE:GREGORIAN
METHOD:PUBLISH
X-WR-CALNAME:Free Grace Fellowship
X-ORIGINAL-URL:https://freegracefellowship.ca
X-WR-CALDESC:Events for Free Grace Fellowship
REFRESH-INTERVAL;VALUE=DURATION:PT1H
X-Robots-Tag:noindex
X-PUBLISHED-TTL:PT1H
BEGIN:VTIMEZONE
TZID:America/Denver
BEGIN:DAYLIGHT
TZOFFSETFROM:-0700
TZOFFSETTO:-0600
TZNAME:MDT
DTSTART:20230312T090000
END:DAYLIGHT
BEGIN:STANDARD
TZOFFSETFROM:-0600
TZOFFSETTO:-0700
TZNAME:MST
DTSTART:20231105T080000
END:STANDARD
BEGIN:DAYLIGHT
TZOFFSETFROM:-0700
TZOFFSETTO:-0600
TZNAME:MDT
DTSTART:20240310T090000
END:DAYLIGHT
BEGIN:STANDARD
TZOFFSETFROM:-0600
TZOFFSETTO:-0700
TZNAME:MST
DTSTART:20241103T080000
END:STANDARD
BEGIN:DAYLIGHT
TZOFFSETFROM:-0700
TZOFFSETTO:-0600
TZNAME:MDT
DTSTART:20250309T090000
END:DAYLIGHT
BEGIN:STANDARD
TZOFFSETFROM:-0600
TZOFFSETTO:-0700
TZNAME:MST
DTSTART:20251102T080000
END:STANDARD
END:VTIMEZONE
BEGIN:VEVENT
DTSTART;TZID=America/Denver:20240307T190000
DTEND;TZID=America/Denver:20240307T210000
DTSTAMP:20260425T071435
CREATED:20240306T164956Z
LAST-MODIFIED:20240306T164956Z
UID:2689-1709838000-1709845200@freegracefellowship.ca
SUMMARY:Alan's Small Group
DESCRIPTION:This is in the Gathering Grounds of the Church. If you are looking for a small group\, come and join! Contact Alan Woodroffe for more details!
URL:https://freegracefellowship.ca/event/alans-small-group-13/
END:VEVENT
BEGIN:VEVENT
DTSTART;TZID=America/Denver:20240306T193000
DTEND;TZID=America/Denver:20240306T213000
DTSTAMP:20260425T071435
CREATED:20240305T203212Z
LAST-MODIFIED:20240305T203212Z
UID:2683-1709753400-1709760600@freegracefellowship.ca
SUMMARY:Wednesday Night Small Group
DESCRIPTION:This at Graham and Sherry Bretherick’s house! Please contact Bill Zwartbol for more details!
URL:https://freegracefellowship.ca/event/wednesday-night-small-group-27/
END:VEVENT
BEGIN:VEVENT
DTSTART;TZID=America/Denver:20240305T190000
DTEND;TZID=America/Denver:20240305T210000
DTSTAMP:20260425T071435
CREATED:20240302T200026Z
LAST-MODIFIED:20240302T200026Z
UID:2676-1709665200-1709672400@freegracefellowship.ca
SUMMARY:SLA
DESCRIPTION:This is in the Gathering Grounds!
URL:https://freegracefellowship.ca/event/sla-4/
END:VEVENT
BEGIN:VEVENT
DTSTART;TZID=America/Denver:20240305T094500
DTEND;TZID=America/Denver:20240305T114500
DTSTAMP:20260425T071435
CREATED:20240302T195525Z
LAST-MODIFIED:20240302T195525Z
UID:2672-1709631900-1709639100@freegracefellowship.ca
SUMMARY:Mom's Group
DESCRIPTION:This is in the Gathering Grounds of the church! Contact Margaret Slingerland for more details!
URL:https://freegracefellowship.ca/event/moms-group-24/
END:VEVENT
BEGIN:VEVENT
DTSTART;TZID=America/Denver:20240304T193000
DTEND;TZID=America/Denver:20240304T213000
DTSTAMP:20260425T071435
CREATED:20240302T195031Z
LAST-MODIFIED:20240302T195031Z
UID:2666-1709580600-1709587800@freegracefellowship.ca
SUMMARY:Monday Night Small Group
DESCRIPTION:This small group starts at 7:30pm at Harvey and Susan Grant’s house! Contact Bill Zwartbol for more details!
URL:https://freegracefellowship.ca/event/monday-night-small-group-44/
END:VEVENT
BEGIN:VEVENT
DTSTART;TZID=America/Denver:20240304T100000
DTEND;TZID=America/Denver:20240304T120000
DTSTAMP:20260425T071435
CREATED:20240302T194751Z
LAST-MODIFIED:20240302T194751Z
UID:2664-1709546400-1709553600@freegracefellowship.ca
SUMMARY:Ladies Senior's Group 60+
DESCRIPTION:If you are 60 years or older and are a lady! Come join for prayer\, fellowship and encouragement! Contact Margaret Slingerland for more details!
URL:https://freegracefellowship.ca/event/ladies-seniors-group-60-2/
END:VEVENT
BEGIN:VEVENT
DTSTART;TZID=America/Denver:20240303T083000
DTEND;TZID=America/Denver:20240303T123000
DTSTAMP:20260425T071435
CREATED:20240302T194149Z
LAST-MODIFIED:20240302T194149Z
UID:2662-1709454600-1709469000@freegracefellowship.ca
SUMMARY:Communion
DESCRIPTION:We will be participating in communion at both church services this Sunday!
URL:https://freegracefellowship.ca/event/communion-8/
END:VEVENT
BEGIN:VEVENT
DTSTART;TZID=America/Denver:20240229T190000
DTEND;TZID=America/Denver:20240229T210000
DTSTAMP:20260425T071435
CREATED:20240213T021902Z
LAST-MODIFIED:20240213T021902Z
UID:2637-1709233200-1709240400@freegracefellowship.ca
SUMMARY:LLY
DESCRIPTION:This is for ages 12-17! Please contact Jeremy Van Hierden for more details!
URL:https://freegracefellowship.ca/event/lly-23/
END:VEVENT
BEGIN:VEVENT
DTSTART;TZID=America/Denver:20240229T190000
DTEND;TZID=America/Denver:20240229T210000
DTSTAMP:20260425T071435
CREATED:20240213T021646Z
LAST-MODIFIED:20240213T021646Z
UID:2631-1709233200-1709240400@freegracefellowship.ca
SUMMARY:Victorious Prayer Warrior Bootcamp
DESCRIPTION:There is a zoom meeting! Contact Jennifer Thomas for more details!
URL:https://freegracefellowship.ca/event/victorious-prayer-warrior-bootcamp-8/
END:VEVENT
BEGIN:VEVENT
DTSTART;TZID=America/Denver:20240229T190000
DTEND;TZID=America/Denver:20240229T210000
DTSTAMP:20260425T071435
CREATED:20240213T021354Z
LAST-MODIFIED:20240213T021354Z
UID:2625-1709233200-1709240400@freegracefellowship.ca
SUMMARY:Alan's Small Group
DESCRIPTION:This is in the Gathering Grounds of the church! Please contact Alan Woodroffe for more details!
URL:https://freegracefellowship.ca/event/alans-small-group-12/
END:VEVENT
BEGIN:VEVENT
DTSTART;TZID=America/Denver:20240229T190000
DTEND;TZID=America/Denver:20240229T210000
DTSTAMP:20260425T071435
CREATED:20240131T020336Z
LAST-MODIFIED:20240131T020336Z
UID:2592-1709233200-1709240400@freegracefellowship.ca
SUMMARY:LLY
DESCRIPTION:Testimony Night! Contact Jeremy Van Hierden for more details!
URL:https://freegracefellowship.ca/event/lly-20/
END:VEVENT
BEGIN:VEVENT
DTSTART;TZID=America/Denver:20240229T190000
DTEND;TZID=America/Denver:20240229T210000
DTSTAMP:20260425T071435
CREATED:20240131T015632Z
LAST-MODIFIED:20240131T015632Z
UID:2582-1709233200-1709240400@freegracefellowship.ca
SUMMARY:Victorious Prayer Warrior Bootcamp
DESCRIPTION:This is led by Jennifer Thomas and is on zoom!
URL:https://freegracefellowship.ca/event/victorious-prayer-warrior-bootcamp-5/
END:VEVENT
BEGIN:VEVENT
DTSTART;TZID=America/Denver:20240229T190000
DTEND;TZID=America/Denver:20240229T210000
DTSTAMP:20260425T071435
CREATED:20240131T015138Z
LAST-MODIFIED:20240131T015138Z
UID:2572-1709233200-1709240400@freegracefellowship.ca
SUMMARY:Alan's Small Group
DESCRIPTION:This will be in the Gathering Grounds of the church! Contact Alan Woodroffe for more details!
URL:https://freegracefellowship.ca/event/alans-small-group-9/
END:VEVENT
BEGIN:VEVENT
DTSTART;TZID=America/Denver:20240228T193000
DTEND;TZID=America/Denver:20240228T213000
DTSTAMP:20260425T071435
CREATED:20240213T022707Z
LAST-MODIFIED:20240213T022707Z
UID:2653-1709148600-1709155800@freegracefellowship.ca
SUMMARY:Wednesday Night Small Group
DESCRIPTION:This is at Graham and Sherry Bretherick’s house! Please contact Graham for more details!
URL:https://freegracefellowship.ca/event/wednesday-night-small-group-26/
END:VEVENT
BEGIN:VEVENT
DTSTART;TZID=America/Denver:20240227T190000
DTEND;TZID=America/Denver:20240227T210000
DTSTAMP:20260425T071435
CREATED:20240213T020920Z
LAST-MODIFIED:20240213T020920Z
UID:2617-1709060400-1709067600@freegracefellowship.ca
SUMMARY:SLA
DESCRIPTION:This is in the Gathering Grounds of the church! Contact Bill Zwartbol or Neil Slingerland for more details!
URL:https://freegracefellowship.ca/event/sla-3/
END:VEVENT
BEGIN:VEVENT
DTSTART;TZID=America/Denver:20240226T193000
DTEND;TZID=America/Denver:20240226T213000
DTSTAMP:20260425T071435
CREATED:20240213T020648Z
LAST-MODIFIED:20240213T020648Z
UID:2611-1708975800-1708983000@freegracefellowship.ca
SUMMARY:Monday Night Small Group
DESCRIPTION:This is at Harvey and Susan Grant’s house! Please contact Bill Zwartbol for more details!
URL:https://freegracefellowship.ca/event/monday-night-small-group-43/
END:VEVENT
BEGIN:VEVENT
DTSTART;TZID=America/Denver:20240225T190000
DTEND;TZID=America/Denver:20240225T210000
DTSTAMP:20260425T071435
CREATED:20240131T020928Z
LAST-MODIFIED:20240131T020928Z
UID:2602-1708887600-1708894800@freegracefellowship.ca
SUMMARY:Young Adults
DESCRIPTION:This is for anyone 18+ and if you consider yourself a young adult! Come for fellowship and ready to learn! Contact one of the young adult leaders for more information!
URL:https://freegracefellowship.ca/event/young-adults-48/
END:VEVENT
BEGIN:VEVENT
DTSTART;TZID=America/Denver:20240224T160000
DTEND;TZID=America/Denver:20240224T190000
DTSTAMP:20260425T071435
CREATED:20240213T022445Z
LAST-MODIFIED:20240213T022445Z
UID:2649-1708790400-1708801200@freegracefellowship.ca
SUMMARY:Coldest Night of the Year
DESCRIPTION:This is at Festival Square! Come support Streets Alive!
URL:https://freegracefellowship.ca/event/coldest-night-of-the-year/
END:VEVENT
BEGIN:VEVENT
DTSTART;TZID=America/Denver:20240223T190000
DTEND;TZID=America/Denver:20240223T210000
DTSTAMP:20260425T071435
CREATED:20240213T022347Z
LAST-MODIFIED:20240213T022347Z
UID:2647-1708714800-1708722000@freegracefellowship.ca
SUMMARY:BURN
DESCRIPTION:This is at Free Grace Fellowship! Come and praise our Lord and Savior!
URL:https://freegracefellowship.ca/event/burn-4/
END:VEVENT
BEGIN:VEVENT
DTSTART;TZID=America/Denver:20240223T190000
DTEND;TZID=America/Denver:20240223T210000
DTSTAMP:20260425T071435
CREATED:20240213T022039Z
LAST-MODIFIED:20240213T022039Z
UID:2641-1708714800-1708722000@freegracefellowship.ca
SUMMARY:Jesus Alphas
DESCRIPTION:This is at the Bilec’s house! Please contact Sherrie Bilec or Larry Schille for more details!
URL:https://freegracefellowship.ca/event/jesus-alphas-20/
END:VEVENT
BEGIN:VEVENT
DTSTART;TZID=America/Denver:20240222T190000
DTEND;TZID=America/Denver:20240222T210000
DTSTAMP:20260425T071435
CREATED:20240213T021831Z
LAST-MODIFIED:20240213T021831Z
UID:2635-1708628400-1708635600@freegracefellowship.ca
SUMMARY:LLY
DESCRIPTION:This is for ages 12-17! Please contact Jeremy Van Hierden for more details!
URL:https://freegracefellowship.ca/event/lly-22/
END:VEVENT
BEGIN:VEVENT
DTSTART;TZID=America/Denver:20240222T190000
DTEND;TZID=America/Denver:20240222T210000
DTSTAMP:20260425T071435
CREATED:20240213T021552Z
LAST-MODIFIED:20240213T021552Z
UID:2629-1708628400-1708635600@freegracefellowship.ca
SUMMARY:Victorious Prayer Warrior Bootcamp
DESCRIPTION:There is a zoom meeting! Contact Jennifer Thomas for more details!
URL:https://freegracefellowship.ca/event/victorious-prayer-warrior-bootcamp-7/
END:VEVENT
BEGIN:VEVENT
DTSTART;TZID=America/Denver:20240222T190000
DTEND;TZID=America/Denver:20240222T210000
DTSTAMP:20260425T071435
CREATED:20240213T021320Z
LAST-MODIFIED:20240213T021320Z
UID:2623-1708628400-1708635600@freegracefellowship.ca
SUMMARY:Alan's Small Group
DESCRIPTION:This is in the Gathering Grounds of the church! Please contact Alan Woodroffe for more details!
URL:https://freegracefellowship.ca/event/alans-small-group-11/
END:VEVENT
BEGIN:VEVENT
DTSTART;TZID=America/Denver:20240222T190000
DTEND;TZID=America/Denver:20240222T210000
DTSTAMP:20260425T071435
CREATED:20240131T015545Z
LAST-MODIFIED:20240131T015545Z
UID:2580-1708628400-1708635600@freegracefellowship.ca
SUMMARY:Victorious Prayer Warrior Bootcamp
DESCRIPTION:This is led by Jennifer Thomas and is on zoom!
URL:https://freegracefellowship.ca/event/victorious-prayer-warrior-bootcamp-4/
END:VEVENT
BEGIN:VEVENT
DTSTART;TZID=America/Denver:20240222T190000
DTEND;TZID=America/Denver:20240222T210000
DTSTAMP:20260425T071435
CREATED:20240131T015049Z
LAST-MODIFIED:20240131T015049Z
UID:2570-1708628400-1708635600@freegracefellowship.ca
SUMMARY:Alan's Small Group
DESCRIPTION:This will be in the Gathering Grounds of the church! Contact Alan Woodroffe for more details!
URL:https://freegracefellowship.ca/event/alans-small-group-8/
END:VEVENT
BEGIN:VEVENT
DTSTART;TZID=America/Denver:20240221T193000
DTEND;TZID=America/Denver:20240221T213000
DTSTAMP:20260425T071435
CREATED:20240213T022621Z
LAST-MODIFIED:20240213T022621Z
UID:2651-1708543800-1708551000@freegracefellowship.ca
SUMMARY:Wednesday Night Small Group
DESCRIPTION:This is at Graham and Sherry Bretherick’s house! Please contact Graham for more details!
URL:https://freegracefellowship.ca/event/wednesday-night-small-group-25/
END:VEVENT
BEGIN:VEVENT
DTSTART;TZID=America/Denver:20240220T190000
DTEND;TZID=America/Denver:20240220T210000
DTSTAMP:20260425T071435
CREATED:20240213T022253Z
LAST-MODIFIED:20240213T022253Z
UID:2645-1708455600-1708462800@freegracefellowship.ca
SUMMARY:Ladies Bible Study
DESCRIPTION:This is in the Gathering Grounds of the church! Please contact Margaret Slingerland for more details!
URL:https://freegracefellowship.ca/event/ladies-bible-study-21/
END:VEVENT
BEGIN:VEVENT
DTSTART;TZID=America/Denver:20240220T190000
DTEND;TZID=America/Denver:20240220T210000
DTSTAMP:20260425T071435
CREATED:20240213T020842Z
LAST-MODIFIED:20240213T020842Z
UID:2615-1708455600-1708462800@freegracefellowship.ca
SUMMARY:SLA
DESCRIPTION:This is in the Gathering Grounds of the church! Contact Bill Zwartbol or Neil Slingerland for more details!
URL:https://freegracefellowship.ca/event/sla-2/
END:VEVENT
BEGIN:VEVENT
DTSTART;TZID=America/Denver:20240220T094500
DTEND;TZID=America/Denver:20240220T114500
DTSTAMP:20260425T071435
CREATED:20240213T022153Z
LAST-MODIFIED:20240213T022153Z
UID:2643-1708422300-1708429500@freegracefellowship.ca
SUMMARY:Mom's Group
DESCRIPTION:This is in the Gathering Grounds of the church! Please contact Margaret Slingerland for more details!
URL:https://freegracefellowship.ca/event/moms-group-23/
END:VEVENT
BEGIN:VEVENT
DTSTART;TZID=America/Denver:20240219T193000
DTEND;TZID=America/Denver:20240219T213000
DTSTAMP:20260425T071435
CREATED:20240213T020617Z
LAST-MODIFIED:20240213T020617Z
UID:2609-1708371000-1708378200@freegracefellowship.ca
SUMMARY:Monday Night Small Group
DESCRIPTION:This is at Harvey and Susan Grant’s house! Please contact Bill Zwartbol for more details!
URL:https://freegracefellowship.ca/event/monday-night-small-group-42/
END:VEVENT
END:VCALENDAR