BEGIN:VCALENDAR
VERSION:2.0
PRODID:-//Free Grace Fellowship - ECPv6.15.20//NONSGML v1.0//EN
CALSCALE:GREGORIAN
METHOD:PUBLISH
X-WR-CALNAME:Free Grace Fellowship
X-ORIGINAL-URL:https://freegracefellowship.ca
X-WR-CALDESC:Events for Free Grace Fellowship
REFRESH-INTERVAL;VALUE=DURATION:PT1H
X-Robots-Tag:noindex
X-PUBLISHED-TTL:PT1H
BEGIN:VTIMEZONE
TZID:America/Denver
BEGIN:DAYLIGHT
TZOFFSETFROM:-0700
TZOFFSETTO:-0600
TZNAME:MDT
DTSTART:20230312T090000
END:DAYLIGHT
BEGIN:STANDARD
TZOFFSETFROM:-0600
TZOFFSETTO:-0700
TZNAME:MST
DTSTART:20231105T080000
END:STANDARD
BEGIN:DAYLIGHT
TZOFFSETFROM:-0700
TZOFFSETTO:-0600
TZNAME:MDT
DTSTART:20240310T090000
END:DAYLIGHT
BEGIN:STANDARD
TZOFFSETFROM:-0600
TZOFFSETTO:-0700
TZNAME:MST
DTSTART:20241103T080000
END:STANDARD
BEGIN:DAYLIGHT
TZOFFSETFROM:-0700
TZOFFSETTO:-0600
TZNAME:MDT
DTSTART:20250309T090000
END:DAYLIGHT
BEGIN:STANDARD
TZOFFSETFROM:-0600
TZOFFSETTO:-0700
TZNAME:MST
DTSTART:20251102T080000
END:STANDARD
END:VTIMEZONE
BEGIN:VEVENT
DTSTART;TZID=America/Denver:20240501T190000
DTEND;TZID=America/Denver:20240501T210000
DTSTAMP:20260425T045337
CREATED:20240426T201057Z
LAST-MODIFIED:20240426T201057Z
UID:2789-1714590000-1714597200@freegracefellowship.ca
SUMMARY:Wednesday Night Small Group
DESCRIPTION:This is at Graham and Sherry Bretherick’s house\, so please contact Graham for more details!
URL:https://freegracefellowship.ca/event/wednesday-night-small-group-33/
END:VEVENT
BEGIN:VEVENT
DTSTART;TZID=America/Denver:20240430T094500
DTEND;TZID=America/Denver:20240430T114500
DTSTAMP:20260425T045337
CREATED:20240401T152937Z
LAST-MODIFIED:20240401T152937Z
UID:2785-1714470300-1714477500@freegracefellowship.ca
SUMMARY:Mom's Group
DESCRIPTION:This is in the Gathering Grounds in the church! Please contact Margaret Slingerland for more details.
URL:https://freegracefellowship.ca/event/moms-group-28/
END:VEVENT
BEGIN:VEVENT
DTSTART;TZID=America/Denver:20240429T193000
DTEND;TZID=America/Denver:20240429T213000
DTSTAMP:20260425T045337
CREATED:20240326T195404Z
LAST-MODIFIED:20240326T195404Z
UID:2777-1714419000-1714426200@freegracefellowship.ca
SUMMARY:Monday Night Small Group
DESCRIPTION:This is at Harvey and Susan Grant’s house! Please contact Bill Zwartbol for more details!
URL:https://freegracefellowship.ca/event/monday-night-small-group-50/
END:VEVENT
BEGIN:VEVENT
DTSTART;TZID=America/Denver:20240426T190000
DTEND;TZID=America/Denver:20240426T190000
DTSTAMP:20260425T045337
CREATED:20240326T184626Z
LAST-MODIFIED:20240326T184626Z
UID:2768-1714158000-1714158000@freegracefellowship.ca
SUMMARY:12 hour BURN
DESCRIPTION:This is the 12 hour burn!! Come and worship our King at Free Grace Fellowship!
URL:https://freegracefellowship.ca/event/12-hour-burn/
END:VEVENT
BEGIN:VEVENT
DTSTART;TZID=America/Denver:20240425T190000
DTEND;TZID=America/Denver:20240425T210000
DTSTAMP:20260425T045337
CREATED:20240326T184151Z
LAST-MODIFIED:20240326T184151Z
UID:2760-1714071600-1714078800@freegracefellowship.ca
SUMMARY:LLY
DESCRIPTION:This is for ages 12-17! This is a worship night! Please contact Jeremy Van Hierden for more details.
URL:https://freegracefellowship.ca/event/lly-31/
END:VEVENT
BEGIN:VEVENT
DTSTART;TZID=America/Denver:20240424T190000
DTEND;TZID=America/Denver:20240424T210000
DTSTAMP:20260425T045337
CREATED:20240326T183425Z
LAST-MODIFIED:20240326T183425Z
UID:2750-1713985200-1713992400@freegracefellowship.ca
SUMMARY:Wednesday Night Small Group
DESCRIPTION:This is at Graham and Sherry Bretherick’s house. Please contact Graham for more details.
URL:https://freegracefellowship.ca/event/wednesday-night-small-group-32/
END:VEVENT
BEGIN:VEVENT
DTSTART;TZID=America/Denver:20240422T193000
DTEND;TZID=America/Denver:20240422T213000
DTSTAMP:20260425T045337
CREATED:20240326T195333Z
LAST-MODIFIED:20240326T195333Z
UID:2775-1713814200-1713821400@freegracefellowship.ca
SUMMARY:Monday Night Small Group
DESCRIPTION:This is at Harvey and Susan Grant’s house! Please contact Bill Zwartbol for more details!
URL:https://freegracefellowship.ca/event/monday-night-small-group-49/
END:VEVENT
BEGIN:VEVENT
DTSTART;TZID=America/Denver:20240419T190000
DTEND;TZID=America/Denver:20240419T210000
DTSTAMP:20260425T045337
CREATED:20240326T184523Z
LAST-MODIFIED:20240326T184523Z
UID:2766-1713553200-1713560400@freegracefellowship.ca
SUMMARY:Jesus Alphas
DESCRIPTION:This is for young adults who want more Jesus in their lives! We do worship and then have a discussion led by the Holy Spirit and pray for one another! This is at Jon and Sherrie Bilec’s house! Please contact Sherrie Bilec or Larry Schille for more details!
URL:https://freegracefellowship.ca/event/jesus-alphas-27/
END:VEVENT
BEGIN:VEVENT
DTSTART;TZID=America/Denver:20240418T190000
DTEND;TZID=America/Denver:20240418T210000
DTSTAMP:20260425T045337
CREATED:20240326T184032Z
LAST-MODIFIED:20240326T184032Z
UID:2758-1713466800-1713474000@freegracefellowship.ca
SUMMARY:LLY
DESCRIPTION:This is for ages 12-17! This is a fun night. Please contact Jeremy Van Hierden for more details.
URL:https://freegracefellowship.ca/event/lly-30/
END:VEVENT
BEGIN:VEVENT
DTSTART;TZID=America/Denver:20240417T190000
DTEND;TZID=America/Denver:20240417T210000
DTSTAMP:20260425T045337
CREATED:20240326T183340Z
LAST-MODIFIED:20240326T183340Z
UID:2748-1713380400-1713387600@freegracefellowship.ca
SUMMARY:Wednesday Night Small Group
DESCRIPTION:This is at Graham and Sherry Bretherick’s house. Please contact Graham for more details.
URL:https://freegracefellowship.ca/event/wednesday-night-small-group-31/
END:VEVENT
BEGIN:VEVENT
DTSTART;TZID=America/Denver:20240416T190000
DTEND;TZID=America/Denver:20240416T210000
DTSTAMP:20260425T045337
CREATED:20240326T195541Z
LAST-MODIFIED:20240326T195541Z
UID:2779-1713294000-1713301200@freegracefellowship.ca
SUMMARY:Ladies Bible Study
DESCRIPTION:Come and join us in an evening of fellowship and diving into a chapter of the Bible! This is in the Gathering Grounds of the church. Please contact Margaret Slingerland for more details!
URL:https://freegracefellowship.ca/event/ladies-bible-study-23/
END:VEVENT
BEGIN:VEVENT
DTSTART;TZID=America/Denver:20240416T190000
DTEND;TZID=America/Denver:20240416T210000
DTSTAMP:20260425T045337
CREATED:20240326T183011Z
LAST-MODIFIED:20240326T183011Z
UID:2744-1713294000-1713301200@freegracefellowship.ca
SUMMARY:SLA
DESCRIPTION:This is in the Gathering Grounds of the church! Contact Bill Zwartbol for more details!
URL:https://freegracefellowship.ca/event/sla-9/
END:VEVENT
BEGIN:VEVENT
DTSTART;TZID=America/Denver:20240416T094500
DTEND;TZID=America/Denver:20240416T114500
DTSTAMP:20260425T045337
CREATED:20240401T152900Z
LAST-MODIFIED:20240401T152900Z
UID:2783-1713260700-1713267900@freegracefellowship.ca
SUMMARY:Mom's Group
DESCRIPTION:This is in the Gathering Grounds in the church! Please contact Margaret Slingerland for more details.
URL:https://freegracefellowship.ca/event/moms-group-27/
END:VEVENT
BEGIN:VEVENT
DTSTART;TZID=America/Denver:20240415T193000
DTEND;TZID=America/Denver:20240415T213000
DTSTAMP:20260425T045337
CREATED:20240326T195258Z
LAST-MODIFIED:20240326T195258Z
UID:2773-1713209400-1713216600@freegracefellowship.ca
SUMMARY:Monday Night Small Group
DESCRIPTION:This is at Harvey and Susan Grant’s house! Please contact Bill Zwartbol for more details!
URL:https://freegracefellowship.ca/event/monday-night-small-group-48/
END:VEVENT
BEGIN:VEVENT
DTSTART;TZID=America/Denver:20240412T190000
DTEND;TZID=America/Denver:20240412T210000
DTSTAMP:20260425T045337
CREATED:20240326T184448Z
LAST-MODIFIED:20240326T184448Z
UID:2764-1712948400-1712955600@freegracefellowship.ca
SUMMARY:Jesus Alphas
DESCRIPTION:This is for young adults who want more Jesus in their lives! We do worship and then have a discussion led by the Holy Spirit and pray for one another! This is at Jon and Sherrie Bilec’s house! Please contact Sherrie Bilec or Larry Schille for more details!
URL:https://freegracefellowship.ca/event/jesus-alphas-26/
END:VEVENT
BEGIN:VEVENT
DTSTART;TZID=America/Denver:20240411T190000
DTEND;TZID=America/Denver:20240411T210000
DTSTAMP:20260425T045337
CREATED:20240326T183942Z
LAST-MODIFIED:20240326T184058Z
UID:2756-1712862000-1712869200@freegracefellowship.ca
SUMMARY:LLY
DESCRIPTION:This is for ages 12-17! This is a worship night! Please contact Jeremy Van Hierden for more details.
URL:https://freegracefellowship.ca/event/lly-29/
END:VEVENT
BEGIN:VEVENT
DTSTART;TZID=America/Denver:20240410T193000
DTEND;TZID=America/Denver:20240410T213000
DTSTAMP:20260425T045337
CREATED:20240326T183553Z
LAST-MODIFIED:20240326T183553Z
UID:2752-1712777400-1712784600@freegracefellowship.ca
SUMMARY:Corporate Prayer Meeting
DESCRIPTION:Our Free Grace Corporate Prayer Meeting is in the Gathering Grounds of the church basement. Please consider coming and praying with us over our church community\, city\, country\, and world.
URL:https://freegracefellowship.ca/event/corporate-prayer-meeting-18/
END:VEVENT
BEGIN:VEVENT
DTSTART;TZID=America/Denver:20240409T190000
DTEND;TZID=America/Denver:20240409T210000
DTSTAMP:20260425T045337
CREATED:20240326T182922Z
LAST-MODIFIED:20240326T182922Z
UID:2742-1712689200-1712696400@freegracefellowship.ca
SUMMARY:SLA
DESCRIPTION:This is in the Gathering Grounds of the church! Contact Bill Zwartbol for more details!
URL:https://freegracefellowship.ca/event/sla-8/
END:VEVENT
BEGIN:VEVENT
DTSTART;TZID=America/Denver:20240408T193000
DTEND;TZID=America/Denver:20240408T213000
DTSTAMP:20260425T045337
CREATED:20240326T195215Z
LAST-MODIFIED:20240326T195215Z
UID:2771-1712604600-1712611800@freegracefellowship.ca
SUMMARY:Monday Night Small Group
DESCRIPTION:This is at Harvey and Susan Grant’s house! Please contact Bill Zwartbol for more details!
URL:https://freegracefellowship.ca/event/monday-night-small-group-47/
END:VEVENT
BEGIN:VEVENT
DTSTART;TZID=America/Denver:20240405T190000
DTEND;TZID=America/Denver:20240405T210000
DTSTAMP:20260425T045337
CREATED:20240326T184407Z
LAST-MODIFIED:20240326T184407Z
UID:2762-1712343600-1712350800@freegracefellowship.ca
SUMMARY:Jesus Alphas
DESCRIPTION:This is for young adults who want more Jesus in their lives! We do worship and then have a discussion led by the Holy Spirit and pray for one another! This is at Jon and Sherrie Bilec’s house! Please contact Sherrie Bilec or Larry Schille for more details!
URL:https://freegracefellowship.ca/event/jesus-alphas-25/
END:VEVENT
BEGIN:VEVENT
DTSTART;TZID=America/Denver:20240404T190000
DTEND;TZID=America/Denver:20240404T210000
DTSTAMP:20260425T045337
CREATED:20240326T183854Z
LAST-MODIFIED:20240326T183854Z
UID:2754-1712257200-1712264400@freegracefellowship.ca
SUMMARY:LLY
DESCRIPTION:This is for ages 12-17! This is a service event and we will be doing a food drive! Please contact Jeremy Van Hierden for more details.
URL:https://freegracefellowship.ca/event/lly-28/
END:VEVENT
BEGIN:VEVENT
DTSTART;TZID=America/Denver:20240403T190000
DTEND;TZID=America/Denver:20240403T210000
DTSTAMP:20260425T045337
CREATED:20240326T183206Z
LAST-MODIFIED:20240326T183206Z
UID:2746-1712170800-1712178000@freegracefellowship.ca
SUMMARY:Wednesday Night Small Group
DESCRIPTION:This is at Graham and Sherry Bretherick’s house! Please contact Graham for more details.
URL:https://freegracefellowship.ca/event/wednesday-night-small-group-30/
END:VEVENT
BEGIN:VEVENT
DTSTART;TZID=America/Denver:20240403T100000
DTEND;TZID=America/Denver:20240403T120000
DTSTAMP:20260425T045337
CREATED:20240401T173104Z
LAST-MODIFIED:20240401T173104Z
UID:2787-1712138400-1712145600@freegracefellowship.ca
SUMMARY:Ladies Senior's 60+ Group
DESCRIPTION:This is at Margaret Slingerland’s house\, so please contact her for more details.
URL:https://freegracefellowship.ca/event/ladies-seniors-60-group/
END:VEVENT
BEGIN:VEVENT
DTSTART;TZID=America/Denver:20240402T190000
DTEND;TZID=America/Denver:20240402T210000
DTSTAMP:20260425T045337
CREATED:20240326T182850Z
LAST-MODIFIED:20240326T182850Z
UID:2740-1712084400-1712091600@freegracefellowship.ca
SUMMARY:SLA
DESCRIPTION:This is in the Gathering Grounds of the church! Contact Bill Zwartbol for more details!
URL:https://freegracefellowship.ca/event/sla-7/
END:VEVENT
BEGIN:VEVENT
DTSTART;TZID=America/Denver:20240402T094500
DTEND;TZID=America/Denver:20240402T114500
DTSTAMP:20260425T045337
CREATED:20240401T152805Z
LAST-MODIFIED:20240401T152805Z
UID:2781-1712051100-1712058300@freegracefellowship.ca
SUMMARY:Mom's Group
DESCRIPTION:This is in the Gathering Grounds in the church! Please contact Margaret Slingerland for more details.
URL:https://freegracefellowship.ca/event/moms-group-26/
END:VEVENT
BEGIN:VEVENT
DTSTART;TZID=America/Denver:20240331T083000
DTEND;TZID=America/Denver:20240331T123000
DTSTAMP:20260425T045337
CREATED:20240306T210650Z
LAST-MODIFIED:20240306T210650Z
UID:2731-1711873800-1711888200@freegracefellowship.ca
SUMMARY:Church
DESCRIPTION:We have two services\, one starts at 8:30am and the other starts at 11:00am!
URL:https://freegracefellowship.ca/event/church-11/
END:VEVENT
BEGIN:VEVENT
DTSTART;TZID=America/Denver:20240329T190000
DTEND;TZID=America/Denver:20240329T210000
DTSTAMP:20260425T045337
CREATED:20240306T191455Z
LAST-MODIFIED:20240306T191455Z
UID:2717-1711738800-1711746000@freegracefellowship.ca
SUMMARY:BURN
DESCRIPTION:This is at Free Grace Fellowship!
URL:https://freegracefellowship.ca/event/burn-5/
END:VEVENT
BEGIN:VEVENT
DTSTART;TZID=America/Denver:20240329T190000
DTEND;TZID=America/Denver:20240329T210000
DTSTAMP:20260425T045337
CREATED:20240306T190655Z
LAST-MODIFIED:20240306T190655Z
UID:2711-1711738800-1711746000@freegracefellowship.ca
SUMMARY:Jesus Alphas
DESCRIPTION:This is for anyone 18+ who considers themselves a young adult and wants more Jesus! This is at Jon and Sherrie Bilec’s house. Contact Sherrie Bilec or Larry Schille for more details.
URL:https://freegracefellowship.ca/event/jesus-alphas-24/
END:VEVENT
BEGIN:VEVENT
DTSTART;TZID=America/Denver:20240328T190000
DTEND;TZID=America/Denver:20240328T210000
DTSTAMP:20260425T045337
CREATED:20240306T190210Z
LAST-MODIFIED:20240306T190210Z
UID:2703-1711652400-1711659600@freegracefellowship.ca
SUMMARY:LLY
DESCRIPTION:This is for ages 12-17!
URL:https://freegracefellowship.ca/event/lly-27/
END:VEVENT
BEGIN:VEVENT
DTSTART;TZID=America/Denver:20240328T190000
DTEND;TZID=America/Denver:20240328T210000
DTSTAMP:20260425T045337
CREATED:20240306T165148Z
LAST-MODIFIED:20240306T165148Z
UID:2695-1711652400-1711659600@freegracefellowship.ca
SUMMARY:Alan's Small Group
DESCRIPTION:This is in the Gathering Grounds of the Church. If you are looking for a small group\, come and join! Contact Alan Woodroffe for more details!
URL:https://freegracefellowship.ca/event/alans-small-group-16/
END:VEVENT
END:VCALENDAR