BEGIN:VCALENDAR
VERSION:2.0
PRODID:-//Free Grace Fellowship - ECPv6.15.20//NONSGML v1.0//EN
CALSCALE:GREGORIAN
METHOD:PUBLISH
X-WR-CALNAME:Free Grace Fellowship
X-ORIGINAL-URL:https://freegracefellowship.ca
X-WR-CALDESC:Events for Free Grace Fellowship
REFRESH-INTERVAL;VALUE=DURATION:PT1H
X-Robots-Tag:noindex
X-PUBLISHED-TTL:PT1H
BEGIN:VTIMEZONE
TZID:America/Denver
BEGIN:DAYLIGHT
TZOFFSETFROM:-0700
TZOFFSETTO:-0600
TZNAME:MDT
DTSTART:20240310T090000
END:DAYLIGHT
BEGIN:STANDARD
TZOFFSETFROM:-0600
TZOFFSETTO:-0700
TZNAME:MST
DTSTART:20241103T080000
END:STANDARD
BEGIN:DAYLIGHT
TZOFFSETFROM:-0700
TZOFFSETTO:-0600
TZNAME:MDT
DTSTART:20250309T090000
END:DAYLIGHT
BEGIN:STANDARD
TZOFFSETFROM:-0600
TZOFFSETTO:-0700
TZNAME:MST
DTSTART:20251102T080000
END:STANDARD
BEGIN:DAYLIGHT
TZOFFSETFROM:-0700
TZOFFSETTO:-0600
TZNAME:MDT
DTSTART:20260308T090000
END:DAYLIGHT
BEGIN:STANDARD
TZOFFSETFROM:-0600
TZOFFSETTO:-0700
TZNAME:MST
DTSTART:20261101T080000
END:STANDARD
END:VTIMEZONE
BEGIN:VEVENT
DTSTART;TZID=America/Denver:20250304T190000
DTEND;TZID=America/Denver:20250304T210000
DTSTAMP:20260425T070247
CREATED:20250305T041714Z
LAST-MODIFIED:20250305T041714Z
UID:3196-1741114800-1741122000@freegracefellowship.ca
SUMMARY:Mattheology Small Group
DESCRIPTION:
URL:https://freegracefellowship.ca/event/mattheology-small-group-17/
LOCATION:Free Grace Fellowship Church\, 1807 2A Ave N\, Lethbridge\, AB\, Canada
END:VEVENT
BEGIN:VEVENT
DTSTART;TZID=America/Denver:20250304T190000
DTEND;TZID=America/Denver:20250304T210000
DTSTAMP:20260425T070247
CREATED:20250305T041759Z
LAST-MODIFIED:20250305T041759Z
UID:3198-1741114800-1741122000@freegracefellowship.ca
SUMMARY:Tuesday Night Small Group
DESCRIPTION:
URL:https://freegracefellowship.ca/event/tuesday-night-small-group-56/
LOCATION:The Gathering Grounds
END:VEVENT
BEGIN:VEVENT
DTSTART;TZID=America/Denver:20250305T100000
DTEND;TZID=America/Denver:20250305T120000
DTSTAMP:20260425T070247
CREATED:20250305T045926Z
LAST-MODIFIED:20250305T045926Z
UID:3260-1741168800-1741176000@freegracefellowship.ca
SUMMARY:Senior Ladies' Bible Study
DESCRIPTION:
URL:https://freegracefellowship.ca/event/senior-ladies-bible-study-4/
LOCATION:Margaret’s Residence
END:VEVENT
BEGIN:VEVENT
DTSTART;TZID=America/Denver:20250305T190000
DTEND;TZID=America/Denver:20250305T210000
DTSTAMP:20260425T070247
CREATED:20250305T041956Z
LAST-MODIFIED:20250305T041956Z
UID:3200-1741201200-1741208400@freegracefellowship.ca
SUMMARY:Wednesday Night Small Group
DESCRIPTION:
URL:https://freegracefellowship.ca/event/wednesday-night-small-group-60/
LOCATION:Graham & Sherry’s House
END:VEVENT
BEGIN:VEVENT
DTSTART;TZID=America/Denver:20250305T190000
DTEND;TZID=America/Denver:20250305T210000
DTSTAMP:20260425T070247
CREATED:20250305T042048Z
LAST-MODIFIED:20250305T042048Z
UID:3202-1741201200-1741208400@freegracefellowship.ca
SUMMARY:DivorceCare
DESCRIPTION:
URL:https://freegracefellowship.ca/event/divorcecare-13/
LOCATION:Free Grace Fellowship Church\, 1807 2A Ave N\, Lethbridge\, AB\, Canada
END:VEVENT
BEGIN:VEVENT
DTSTART;TZID=America/Denver:20250306T190000
DTEND;TZID=America/Denver:20250306T210000
DTSTAMP:20260425T070247
CREATED:20250305T042127Z
LAST-MODIFIED:20250305T042127Z
UID:3204-1741287600-1741294800@freegracefellowship.ca
SUMMARY:LoveLethbridge Youth
DESCRIPTION:
URL:https://freegracefellowship.ca/event/lovelethbridge-youth-2/
LOCATION:Free Grace Fellowship Church\, 1807 2A Ave N\, Lethbridge\, AB\, Canada
END:VEVENT
BEGIN:VEVENT
DTSTART;TZID=America/Denver:20250308T100000
DTEND;TZID=America/Denver:20250308T120000
DTSTAMP:20260425T070247
CREATED:20250305T045210Z
LAST-MODIFIED:20250305T045210Z
UID:3239-1741428000-1741435200@freegracefellowship.ca
SUMMARY:Evangelism Training
DESCRIPTION:
URL:https://freegracefellowship.ca/event/evangelism-training-7/
LOCATION:Free Grace Fellowship Church\, 1807 2A Ave N\, Lethbridge\, AB\, Canada
END:VEVENT
BEGIN:VEVENT
DTSTART;TZID=America/Denver:20250309T180000
DTEND;TZID=America/Denver:20250309T200000
DTSTAMP:20260425T070247
CREATED:20250305T045447Z
LAST-MODIFIED:20250305T045447Z
UID:3248-1741543200-1741550400@freegracefellowship.ca
SUMMARY:Evening Worship
DESCRIPTION:
URL:https://freegracefellowship.ca/event/evening-worship/
LOCATION:Free Grace Fellowship Church\, 1807 2A Ave N\, Lethbridge\, AB\, Canada
END:VEVENT
BEGIN:VEVENT
DTSTART;TZID=America/Denver:20250311T093000
DTEND;TZID=America/Denver:20250311T113000
DTSTAMP:20260425T070247
CREATED:20250305T050101Z
LAST-MODIFIED:20250305T050101Z
UID:3263-1741685400-1741692600@freegracefellowship.ca
SUMMARY:Mom's Group
DESCRIPTION:
URL:https://freegracefellowship.ca/event/moms-group-42/
LOCATION:The Gathering Grounds
END:VEVENT
BEGIN:VEVENT
DTSTART;TZID=America/Denver:20250311T190000
DTEND;TZID=America/Denver:20250311T210000
DTSTAMP:20260425T070247
CREATED:20250305T042244Z
LAST-MODIFIED:20250305T042244Z
UID:3206-1741719600-1741726800@freegracefellowship.ca
SUMMARY:Mattheology Small Group
DESCRIPTION:
URL:https://freegracefellowship.ca/event/mattheology-small-group-18/
LOCATION:Free Grace Fellowship Church\, 1807 2A Ave N\, Lethbridge\, AB\, Canada
END:VEVENT
BEGIN:VEVENT
DTSTART;TZID=America/Denver:20250311T190000
DTEND;TZID=America/Denver:20250311T210000
DTSTAMP:20260425T070247
CREATED:20250305T042327Z
LAST-MODIFIED:20250305T042327Z
UID:3208-1741719600-1741726800@freegracefellowship.ca
SUMMARY:Tuesday Night Small Group
DESCRIPTION:
URL:https://freegracefellowship.ca/event/tuesday-night-small-group-57/
LOCATION:The Gathering Grounds
END:VEVENT
BEGIN:VEVENT
DTSTART;TZID=America/Denver:20250312T190000
DTEND;TZID=America/Denver:20250312T210000
DTSTAMP:20260425T070247
CREATED:20250305T042412Z
LAST-MODIFIED:20250305T042412Z
UID:3210-1741806000-1741813200@freegracefellowship.ca
SUMMARY:Wednesday Night Small Group
DESCRIPTION:
URL:https://freegracefellowship.ca/event/wednesday-night-small-group-61/
LOCATION:Graham & Sherry’s House
END:VEVENT
BEGIN:VEVENT
DTSTART;TZID=America/Denver:20250312T190000
DTEND;TZID=America/Denver:20250312T210000
DTSTAMP:20260425T070247
CREATED:20250305T042520Z
LAST-MODIFIED:20250305T042520Z
UID:3212-1741806000-1741813200@freegracefellowship.ca
SUMMARY:DivorceCare
DESCRIPTION:
URL:https://freegracefellowship.ca/event/divorcecare-14/
LOCATION:Free Grace Fellowship Church\, 1807 2A Ave N\, Lethbridge\, AB\, Canada
END:VEVENT
BEGIN:VEVENT
DTSTART;TZID=America/Denver:20250312T190000
DTEND;TZID=America/Denver:20250312T210000
DTSTAMP:20260425T070247
CREATED:20250305T045728Z
LAST-MODIFIED:20250305T045728Z
UID:3256-1741806000-1741813200@freegracefellowship.ca
SUMMARY:Annual General Meeting
DESCRIPTION:
URL:https://freegracefellowship.ca/event/annual-general-meeting/
LOCATION:Free Grace Fellowship Church\, 1807 2A Ave N\, Lethbridge\, AB\, Canada
END:VEVENT
BEGIN:VEVENT
DTSTART;TZID=America/Denver:20250313T190000
DTEND;TZID=America/Denver:20250313T210000
DTSTAMP:20260425T070247
CREATED:20250305T042640Z
LAST-MODIFIED:20250305T042640Z
UID:3214-1741892400-1741899600@freegracefellowship.ca
SUMMARY:LoveLethbridge Youth
DESCRIPTION:
URL:https://freegracefellowship.ca/event/lovelethbridge-youth-3/
LOCATION:Free Grace Fellowship Church\, 1807 2A Ave N\, Lethbridge\, AB\, Canada
END:VEVENT
BEGIN:VEVENT
DTSTART;TZID=America/Denver:20250315T100000
DTEND;TZID=America/Denver:20250315T120000
DTSTAMP:20260425T070247
CREATED:20250305T045254Z
LAST-MODIFIED:20250305T045254Z
UID:3241-1742032800-1742040000@freegracefellowship.ca
SUMMARY:Evangelism Training
DESCRIPTION:
URL:https://freegracefellowship.ca/event/evangelism-training-8/
LOCATION:Free Grace Fellowship Church\, 1807 2A Ave N\, Lethbridge\, AB\, Canada
END:VEVENT
BEGIN:VEVENT
DTSTART;TZID=America/Denver:20250316T180000
DTEND;TZID=America/Denver:20250316T200000
DTSTAMP:20260425T070247
CREATED:20250305T045528Z
LAST-MODIFIED:20250305T045528Z
UID:3250-1742148000-1742155200@freegracefellowship.ca
SUMMARY:Evening Worship
DESCRIPTION:
URL:https://freegracefellowship.ca/event/evening-worship-2/
LOCATION:Free Grace Fellowship Church\, 1807 2A Ave N\, Lethbridge\, AB\, Canada
END:VEVENT
BEGIN:VEVENT
DTSTART;TZID=America/Denver:20250318T190000
DTEND;TZID=America/Denver:20250318T210000
DTSTAMP:20260425T070247
CREATED:20250305T042847Z
LAST-MODIFIED:20250305T042847Z
UID:3216-1742324400-1742331600@freegracefellowship.ca
SUMMARY:Mattheology Small Group
DESCRIPTION:
URL:https://freegracefellowship.ca/event/mattheology-small-group-19/
LOCATION:Free Grace Fellowship Church\, 1807 2A Ave N\, Lethbridge\, AB\, Canada
END:VEVENT
BEGIN:VEVENT
DTSTART;TZID=America/Denver:20250318T190000
DTEND;TZID=America/Denver:20250318T210000
DTSTAMP:20260425T070247
CREATED:20250305T043041Z
LAST-MODIFIED:20250305T043041Z
UID:3218-1742324400-1742331600@freegracefellowship.ca
SUMMARY:Tuesday Night Small Group
DESCRIPTION:
URL:https://freegracefellowship.ca/event/tuesday-night-small-group-58/
END:VEVENT
BEGIN:VEVENT
DTSTART;TZID=America/Denver:20250318T190000
DTEND;TZID=America/Denver:20250318T210000
DTSTAMP:20260425T070247
CREATED:20250305T045823Z
LAST-MODIFIED:20250305T045823Z
UID:3258-1742324400-1742331600@freegracefellowship.ca
SUMMARY:Ladies' Bible Study
DESCRIPTION:
URL:https://freegracefellowship.ca/event/ladies-bible-study-31/
LOCATION:The Gathering Grounds
END:VEVENT
BEGIN:VEVENT
DTSTART;TZID=America/Denver:20250319T190000
DTEND;TZID=America/Denver:20250319T210000
DTSTAMP:20260425T070247
CREATED:20250305T043139Z
LAST-MODIFIED:20250305T043139Z
UID:3220-1742410800-1742418000@freegracefellowship.ca
SUMMARY:Wednesday Night Small Group
DESCRIPTION:
URL:https://freegracefellowship.ca/event/wednesday-night-small-group-62/
LOCATION:Graham & Sherry’s House
END:VEVENT
BEGIN:VEVENT
DTSTART;TZID=America/Denver:20250319T190000
DTEND;TZID=America/Denver:20250319T210000
DTSTAMP:20260425T070247
CREATED:20250305T043221Z
LAST-MODIFIED:20250305T043221Z
UID:3222-1742410800-1742418000@freegracefellowship.ca
SUMMARY:DivorceCare
DESCRIPTION:
URL:https://freegracefellowship.ca/event/divorcecare-15/
END:VEVENT
BEGIN:VEVENT
DTSTART;TZID=America/Denver:20250320T190000
DTEND;TZID=America/Denver:20250320T210000
DTSTAMP:20260425T070247
CREATED:20250305T043317Z
LAST-MODIFIED:20250305T043317Z
UID:3224-1742497200-1742504400@freegracefellowship.ca
SUMMARY:LoveLethbridge Youth
DESCRIPTION:
URL:https://freegracefellowship.ca/event/lovelethbridge-youth-4/
LOCATION:Free Grace Fellowship Church\, 1807 2A Ave N\, Lethbridge\, AB\, Canada
END:VEVENT
BEGIN:VEVENT
DTSTART;TZID=America/Denver:20250322T100000
DTEND;TZID=America/Denver:20250322T120000
DTSTAMP:20260425T070247
CREATED:20250305T045331Z
LAST-MODIFIED:20250305T045331Z
UID:3243-1742637600-1742644800@freegracefellowship.ca
SUMMARY:Evangelism Training
DESCRIPTION:
URL:https://freegracefellowship.ca/event/evangelism-training-9/
LOCATION:Free Grace Fellowship Church\, 1807 2A Ave N\, Lethbridge\, AB\, Canada
END:VEVENT
BEGIN:VEVENT
DTSTART;TZID=America/Denver:20250323T180000
DTEND;TZID=America/Denver:20250323T200000
DTSTAMP:20260425T070247
CREATED:20250305T045608Z
LAST-MODIFIED:20250305T045608Z
UID:3252-1742752800-1742760000@freegracefellowship.ca
SUMMARY:Evening Worship
DESCRIPTION:
URL:https://freegracefellowship.ca/event/evening-worship-3/
LOCATION:Free Grace Fellowship Church\, 1807 2A Ave N\, Lethbridge\, AB\, Canada
END:VEVENT
BEGIN:VEVENT
DTSTART;TZID=America/Denver:20250325T093000
DTEND;TZID=America/Denver:20250325T113000
DTSTAMP:20260425T070247
CREATED:20250305T050147Z
LAST-MODIFIED:20250305T050147Z
UID:3265-1742895000-1742902200@freegracefellowship.ca
SUMMARY:Mom's Group
DESCRIPTION:
URL:https://freegracefellowship.ca/event/moms-group-43/
LOCATION:The Gathering Grounds
END:VEVENT
BEGIN:VEVENT
DTSTART;TZID=America/Denver:20250325T190000
DTEND;TZID=America/Denver:20250325T210000
DTSTAMP:20260425T070247
CREATED:20250305T044745Z
LAST-MODIFIED:20250305T044745Z
UID:3226-1742929200-1742936400@freegracefellowship.ca
SUMMARY:Mattheology Small Group
DESCRIPTION:
URL:https://freegracefellowship.ca/event/mattheology-small-group-20/
LOCATION:Free Grace Fellowship Church\, 1807 2A Ave N\, Lethbridge\, AB\, Canada
END:VEVENT
BEGIN:VEVENT
DTSTART;TZID=America/Denver:20250325T190000
DTEND;TZID=America/Denver:20250325T210000
DTSTAMP:20260425T070247
CREATED:20250305T044833Z
LAST-MODIFIED:20250305T044833Z
UID:3228-1742929200-1742936400@freegracefellowship.ca
SUMMARY:Tuesday Night Small Group
DESCRIPTION:
URL:https://freegracefellowship.ca/event/tuesday-night-small-group-59/
LOCATION:The Gathering Grounds
END:VEVENT
BEGIN:VEVENT
DTSTART;TZID=America/Denver:20250326T190000
DTEND;TZID=America/Denver:20250326T210000
DTSTAMP:20260425T070247
CREATED:20250305T044914Z
LAST-MODIFIED:20250305T044914Z
UID:3230-1743015600-1743022800@freegracefellowship.ca
SUMMARY:Wednesday Night Small Group
DESCRIPTION:
URL:https://freegracefellowship.ca/event/wednesday-night-small-group-63/
LOCATION:Graham & Sherry’s House
END:VEVENT
BEGIN:VEVENT
DTSTART;TZID=America/Denver:20250326T190000
DTEND;TZID=America/Denver:20250326T210000
DTSTAMP:20260425T070247
CREATED:20250305T044952Z
LAST-MODIFIED:20250305T044952Z
UID:3233-1743015600-1743022800@freegracefellowship.ca
SUMMARY:DivorceCare
DESCRIPTION:
URL:https://freegracefellowship.ca/event/divorcecare-16/
LOCATION:Free Grace Fellowship Church\, 1807 2A Ave N\, Lethbridge\, AB\, Canada
END:VEVENT
END:VCALENDAR