BEGIN:VCALENDAR
VERSION:2.0
PRODID:-//Free Grace Fellowship - ECPv6.15.20//NONSGML v1.0//EN
CALSCALE:GREGORIAN
METHOD:PUBLISH
X-WR-CALNAME:Free Grace Fellowship
X-ORIGINAL-URL:https://freegracefellowship.ca
X-WR-CALDESC:Events for Free Grace Fellowship
REFRESH-INTERVAL;VALUE=DURATION:PT1H
X-Robots-Tag:noindex
X-PUBLISHED-TTL:PT1H
BEGIN:VTIMEZONE
TZID:America/Denver
BEGIN:DAYLIGHT
TZOFFSETFROM:-0700
TZOFFSETTO:-0600
TZNAME:MDT
DTSTART:20230312T090000
END:DAYLIGHT
BEGIN:STANDARD
TZOFFSETFROM:-0600
TZOFFSETTO:-0700
TZNAME:MST
DTSTART:20231105T080000
END:STANDARD
BEGIN:DAYLIGHT
TZOFFSETFROM:-0700
TZOFFSETTO:-0600
TZNAME:MDT
DTSTART:20240310T090000
END:DAYLIGHT
BEGIN:STANDARD
TZOFFSETFROM:-0600
TZOFFSETTO:-0700
TZNAME:MST
DTSTART:20241103T080000
END:STANDARD
BEGIN:DAYLIGHT
TZOFFSETFROM:-0700
TZOFFSETTO:-0600
TZNAME:MDT
DTSTART:20250309T090000
END:DAYLIGHT
BEGIN:STANDARD
TZOFFSETFROM:-0600
TZOFFSETTO:-0700
TZNAME:MST
DTSTART:20251102T080000
END:STANDARD
END:VTIMEZONE
BEGIN:VEVENT
DTSTART;TZID=America/Denver:20240618T190000
DTEND;TZID=America/Denver:20240618T210000
DTSTAMP:20260425T060337
CREATED:20240619T033342Z
LAST-MODIFIED:20240619T033342Z
UID:2859-1718737200-1718744400@freegracefellowship.ca
SUMMARY:Ladies' Bible Study
DESCRIPTION:
URL:https://freegracefellowship.ca/event/ladies-bible-study-25/
END:VEVENT
BEGIN:VEVENT
DTSTART;TZID=America/Denver:20240617T193000
DTEND;TZID=America/Denver:20240617T210000
DTSTAMP:20260425T060337
CREATED:20240619T034606Z
LAST-MODIFIED:20240619T034606Z
UID:2875-1718652600-1718658000@freegracefellowship.ca
SUMMARY:Monday Night Small Group
DESCRIPTION:
URL:https://freegracefellowship.ca/event/monday-night-small-group-57/
LOCATION:Harvey & Susan’s House
ORGANIZER;CN="Bill Zwartbol":MAILTO:bezwartbol@telus.net
END:VEVENT
BEGIN:VEVENT
DTSTART;TZID=America/Denver:20240614T190000
DTEND;TZID=America/Denver:20240614T210000
DTSTAMP:20260425T060337
CREATED:20240619T033951Z
LAST-MODIFIED:20240619T033951Z
UID:2867-1718391600-1718398800@freegracefellowship.ca
SUMMARY:Jesus Alpha's
DESCRIPTION:
URL:https://freegracefellowship.ca/event/jesus-alphas-35/
LOCATION:Jon and Sherrie Bilec’s House\, Lethbridge\, Alberta\, Canada
ORGANIZER;CN="Larry Schille":MAILTO:buffaloguy1@gmail.com
END:VEVENT
BEGIN:VEVENT
DTSTART;TZID=America/Denver:20240612T190000
DTEND;TZID=America/Denver:20240612T210000
DTSTAMP:20260425T060337
CREATED:20240619T033154Z
LAST-MODIFIED:20240619T033154Z
UID:2857-1718218800-1718226000@freegracefellowship.ca
SUMMARY:Corporate Prayer Meeting
DESCRIPTION:
URL:https://freegracefellowship.ca/event/corporate-prayer-meeting-20/
LOCATION:The Gathering Grounds
ORGANIZER;CN="Bill Zwartbol":MAILTO:bezwartbol@telus.net
END:VEVENT
BEGIN:VEVENT
DTSTART;TZID=America/Denver:20240611T190000
DTEND;TZID=America/Denver:20240611T210000
DTSTAMP:20260425T060337
CREATED:20240619T033015Z
LAST-MODIFIED:20240619T033015Z
UID:2855-1718132400-1718139600@freegracefellowship.ca
SUMMARY:Tuesday Night Small Group
DESCRIPTION:
URL:https://freegracefellowship.ca/event/tuesday-night-small-group-31/
END:VEVENT
BEGIN:VEVENT
DTSTART;TZID=America/Denver:20240611T094500
DTEND;TZID=America/Denver:20240611T114500
DTSTAMP:20260425T060337
CREATED:20240619T032848Z
LAST-MODIFIED:20240619T032848Z
UID:2853-1718099100-1718106300@freegracefellowship.ca
SUMMARY:Mom's Group
DESCRIPTION:
URL:https://freegracefellowship.ca/event/moms-group-31/
LOCATION:The Gathering Grounds
END:VEVENT
BEGIN:VEVENT
DTSTART;TZID=America/Denver:20240610T193000
DTEND;TZID=America/Denver:20240610T210000
DTSTAMP:20260425T060337
CREATED:20240619T034440Z
LAST-MODIFIED:20240619T034440Z
UID:2873-1718047800-1718053200@freegracefellowship.ca
SUMMARY:Monday Night Small Group
DESCRIPTION:
URL:https://freegracefellowship.ca/event/monday-night-small-group-56/
LOCATION:Harvey & Susan’s House
ORGANIZER;CN="Bill Zwartbol":MAILTO:bezwartbol@telus.net
END:VEVENT
BEGIN:VEVENT
DTSTART;TZID=America/Denver:20240607T190000
DTEND;TZID=America/Denver:20240607T210000
DTSTAMP:20260425T060337
CREATED:20240619T033823Z
LAST-MODIFIED:20240619T033823Z
UID:2865-1717786800-1717794000@freegracefellowship.ca
SUMMARY:Jesus Alpha's
DESCRIPTION:
URL:https://freegracefellowship.ca/event/jesus-alphas-34/
LOCATION:Jon and Sherrie Bilec’s House\, Lethbridge\, Alberta\, Canada
ORGANIZER;CN="Larry Schille":MAILTO:buffaloguy1@gmail.com
END:VEVENT
BEGIN:VEVENT
DTSTART;TZID=America/Denver:20240607T190000
DTEND;TZID=America/Denver:20240607T210000
DTSTAMP:20260425T060337
CREATED:20240606T002651Z
LAST-MODIFIED:20240606T002651Z
UID:2846-1717786800-1717794000@freegracefellowship.ca
SUMMARY:Jesus Alphas
DESCRIPTION:This is for young adults who want more Jesus in their lives! Contact Sherrie Bilec or Larry Schille!
URL:https://freegracefellowship.ca/event/jesus-alphas-33/
LOCATION:Jon and Sherrie Bilec’s House\, Lethbridge\, Alberta\, Canada
END:VEVENT
BEGIN:VEVENT
DTSTART;TZID=America/Denver:20240605T190000
DTEND;TZID=America/Denver:20240605T210000
DTSTAMP:20260425T060337
CREATED:20240619T032625Z
LAST-MODIFIED:20240619T032625Z
UID:2851-1717614000-1717621200@freegracefellowship.ca
SUMMARY:Wednesday Night Small Group
DESCRIPTION:
URL:https://freegracefellowship.ca/event/wednesday-night-small-group-37/
LOCATION:Graham & Sherry’s House
END:VEVENT
BEGIN:VEVENT
DTSTART;TZID=America/Denver:20240604T190000
DTEND;TZID=America/Denver:20240604T210000
DTSTAMP:20260425T060337
CREATED:20240619T032147Z
LAST-MODIFIED:20240619T032147Z
UID:2849-1717527600-1717534800@freegracefellowship.ca
SUMMARY:Tuesday Night Small Group
DESCRIPTION:
URL:https://freegracefellowship.ca/event/tuesday-night-small-group-30/
ORGANIZER;CN="Alan Woodroffe":MAILTO:alanannwoodroffe@gmail.com
END:VEVENT
BEGIN:VEVENT
DTSTART;TZID=America/Denver:20240603T193000
DTEND;TZID=America/Denver:20240603T210000
DTSTAMP:20260425T060337
CREATED:20240619T034328Z
LAST-MODIFIED:20240619T034328Z
UID:2871-1717443000-1717448400@freegracefellowship.ca
SUMMARY:Monday Night Small Group
DESCRIPTION:
URL:https://freegracefellowship.ca/event/monday-night-small-group-55/
LOCATION:Harvey & Susan’s House
ORGANIZER;CN="Bill Zwartbol":MAILTO:bezwartbol@telus.net
END:VEVENT
BEGIN:VEVENT
DTSTART;TZID=America/Denver:20240531T190000
DTEND;TZID=America/Denver:20240531T210000
DTSTAMP:20260425T060337
CREATED:20240503T181144Z
LAST-MODIFIED:20240503T181144Z
UID:2819-1717182000-1717189200@freegracefellowship.ca
SUMMARY:Jesus Alphas
DESCRIPTION:Contact Sherrie Bilec or Larry Schille for more details.
URL:https://freegracefellowship.ca/event/jesus-alphas-32/
LOCATION:Jon and Sherrie Bilec’s House\, Lethbridge\, Alberta\, Canada
END:VEVENT
BEGIN:VEVENT
DTSTART;TZID=America/Denver:20240529T190000
DTEND;TZID=America/Denver:20240529T210000
DTSTAMP:20260425T060337
CREATED:20240503T175315Z
LAST-MODIFIED:20240503T175315Z
UID:2798-1717009200-1717016400@freegracefellowship.ca
SUMMARY:Wednesday Night Small Group
DESCRIPTION:Please contact Graham Bretherick for more details!
URL:https://freegracefellowship.ca/event/wednesday-night-small-group-36/
LOCATION:Graham & Sherry’s House
END:VEVENT
BEGIN:VEVENT
DTSTART;TZID=America/Denver:20240529T190000
DTEND;TZID=America/Denver:20240529T210000
DTSTAMP:20260425T060337
CREATED:20240426T201453Z
LAST-MODIFIED:20240426T201453Z
UID:2795-1717009200-1717016400@freegracefellowship.ca
SUMMARY:Wednesday Night Small Group
DESCRIPTION:This is at Graham and Sherry Bretherick’s house\, so please contact Graham for more details!
URL:https://freegracefellowship.ca/event/wednesday-night-small-group-35/
LOCATION:Graham & Sherry’s House
END:VEVENT
BEGIN:VEVENT
DTSTART;TZID=America/Denver:20240528T190000
DTEND;TZID=America/Denver:20240528T210000
DTSTAMP:20260425T060337
CREATED:20240503T181502Z
LAST-MODIFIED:20240503T181502Z
UID:2826-1716922800-1716930000@freegracefellowship.ca
SUMMARY:Tuesday Night Small Group
DESCRIPTION:Contact Alan Woodroffe for more details.
URL:https://freegracefellowship.ca/event/tuesday-night-small-group-28/
LOCATION:Free Grace Fellowship Church\, 1807 2A Ave N\, Lethbridge\, AB\, Canada
END:VEVENT
BEGIN:VEVENT
DTSTART;TZID=America/Denver:20240528T094500
DTEND;TZID=America/Denver:20240528T114500
DTSTAMP:20260425T060337
CREATED:20240503T205336Z
LAST-MODIFIED:20240503T205336Z
UID:2833-1716889500-1716896700@freegracefellowship.ca
SUMMARY:Mom's Group
DESCRIPTION:Please contact Margaret Slingerland for more details.
URL:https://freegracefellowship.ca/event/moms-group-30/
LOCATION:The Gathering Grounds
END:VEVENT
BEGIN:VEVENT
DTSTART;TZID=America/Denver:20240527T193000
DTEND;TZID=America/Denver:20240527T213000
DTSTAMP:20260425T060337
CREATED:20240503T205855Z
LAST-MODIFIED:20240503T205855Z
UID:2843-1716838200-1716845400@freegracefellowship.ca
SUMMARY:Monday Night Small Group
DESCRIPTION:Contact Bill Zwartbol for more details.
URL:https://freegracefellowship.ca/event/monday-night-small-group-54/
LOCATION:Harvey & Susan’s House
END:VEVENT
BEGIN:VEVENT
DTSTART;TZID=America/Denver:20240524T190000
DTEND;TZID=America/Denver:20240524T210000
DTSTAMP:20260425T060337
CREATED:20240503T181051Z
LAST-MODIFIED:20240503T181051Z
UID:2817-1716577200-1716584400@freegracefellowship.ca
SUMMARY:Jesus Alphas
DESCRIPTION:Contact Sherrie Bilec or Larry Schille for more details.
URL:https://freegracefellowship.ca/event/jesus-alphas-31/
LOCATION:Jon and Sherrie Bilec’s House\, Lethbridge\, Alberta\, Canada
END:VEVENT
BEGIN:VEVENT
DTSTART;TZID=America/Denver:20240521T190000
DTEND;TZID=America/Denver:20240521T210000
DTSTAMP:20260425T060337
CREATED:20240503T205438Z
LAST-MODIFIED:20240503T205438Z
UID:2835-1716318000-1716325200@freegracefellowship.ca
SUMMARY:Ladies Bible Study
DESCRIPTION:Please contact Margaret Slingerland for more details.
URL:https://freegracefellowship.ca/event/ladies-bible-study-24/
LOCATION:The Gathering Grounds
END:VEVENT
BEGIN:VEVENT
DTSTART;TZID=America/Denver:20240520T193000
DTEND;TZID=America/Denver:20240520T213000
DTSTAMP:20260425T060337
CREATED:20240503T205815Z
LAST-MODIFIED:20240503T205815Z
UID:2841-1716233400-1716240600@freegracefellowship.ca
SUMMARY:Monday Night Small Group
DESCRIPTION:Contact Bill Zwartbol for more details.
URL:https://freegracefellowship.ca/event/monday-night-small-group-53/
LOCATION:Harvey & Susan’s House
END:VEVENT
BEGIN:VEVENT
DTSTART;TZID=America/Denver:20240520T190000
DTEND;TZID=America/Denver:20240520T210000
DTSTAMP:20260425T060337
CREATED:20240503T181632Z
LAST-MODIFIED:20240503T181632Z
UID:2829-1716231600-1716238800@freegracefellowship.ca
SUMMARY:Tuesday Night Small Group
DESCRIPTION:Contact Alan Woodroffe for more details.
URL:https://freegracefellowship.ca/event/tuesday-night-small-group-29/
LOCATION:Free Grace Fellowship Church\, 1807 2A Ave N\, Lethbridge\, AB\, Canada
END:VEVENT
BEGIN:VEVENT
DTSTART;TZID=America/Denver:20240517T190000
DTEND;TZID=America/Denver:20240517T210000
DTSTAMP:20260425T060337
CREATED:20240503T181009Z
LAST-MODIFIED:20240503T181009Z
UID:2815-1715972400-1715979600@freegracefellowship.ca
SUMMARY:Jesus Alpha's
DESCRIPTION:Contact Sherrie Bilec or Larry Schille for more details.
URL:https://freegracefellowship.ca/event/jesus-alphas-30/
LOCATION:Jon and Sherrie Bilec’s House\, Lethbridge\, Alberta\, Canada
END:VEVENT
BEGIN:VEVENT
DTSTART;TZID=America/Denver:20240516T190000
DTEND;TZID=America/Denver:20240516T210000
DTSTAMP:20260425T060337
CREATED:20240503T180310Z
LAST-MODIFIED:20240503T180310Z
UID:2806-1715886000-1715893200@freegracefellowship.ca
SUMMARY:LLY
DESCRIPTION:This is for ages 12-17! Contact Jeremy Van Hierden for more details.
URL:https://freegracefellowship.ca/event/lly-34/
LOCATION:Free Grace Fellowship Church\, 1807 2A Ave N\, Lethbridge\, AB\, Canada
END:VEVENT
BEGIN:VEVENT
DTSTART;TZID=America/Denver:20240515T190000
DTEND;TZID=America/Denver:20240515T210000
DTSTAMP:20260425T060337
CREATED:20240426T201142Z
LAST-MODIFIED:20240426T201142Z
UID:2791-1715799600-1715806800@freegracefellowship.ca
SUMMARY:Wednesday Night Small Group
DESCRIPTION:This is at Graham and Sherry Bretherick’s house\, so please contact Graham for more details!
URL:https://freegracefellowship.ca/event/wednesday-night-small-group-34/
END:VEVENT
BEGIN:VEVENT
DTSTART;TZID=America/Denver:20240514T190000
DTEND;TZID=America/Denver:20240514T210000
DTSTAMP:20260425T060337
CREATED:20240503T181418Z
LAST-MODIFIED:20240503T181418Z
UID:2824-1715713200-1715720400@freegracefellowship.ca
SUMMARY:Tuesday Night Small Group
DESCRIPTION:Contact Alan Woodroffe for more details.
URL:https://freegracefellowship.ca/event/tuesday-night-small-group-27/
LOCATION:Free Grace Fellowship Church\, 1807 2A Ave N\, Lethbridge\, AB\, Canada
END:VEVENT
BEGIN:VEVENT
DTSTART;TZID=America/Denver:20240514T094500
DTEND;TZID=America/Denver:20240514T114500
DTSTAMP:20260425T060337
CREATED:20240503T205236Z
LAST-MODIFIED:20240503T205236Z
UID:2831-1715679900-1715687100@freegracefellowship.ca
SUMMARY:Mom's Group
DESCRIPTION:Please contact Margaret Slingerland for more details.
URL:https://freegracefellowship.ca/event/moms-group-29/
LOCATION:The Gathering Grounds
END:VEVENT
BEGIN:VEVENT
DTSTART;TZID=America/Denver:20240513T193000
DTEND;TZID=America/Denver:20240513T213000
DTSTAMP:20260425T060337
CREATED:20240503T205736Z
LAST-MODIFIED:20240503T205736Z
UID:2839-1715628600-1715635800@freegracefellowship.ca
SUMMARY:Monday Night Small Group
DESCRIPTION:Contact Bill Zwartbol for more details.
URL:https://freegracefellowship.ca/event/monday-night-small-group-52/
LOCATION:Harvey & Susan’s House
END:VEVENT
BEGIN:VEVENT
DTSTART;TZID=America/Denver:20240510T190000
DTEND;TZID=America/Denver:20240510T210000
DTSTAMP:20260425T060337
CREATED:20240503T180927Z
LAST-MODIFIED:20240503T180927Z
UID:2813-1715367600-1715374800@freegracefellowship.ca
SUMMARY:Jesus Alpha's
DESCRIPTION:Contact Sherrie Bilec or Larry Schille for more details.
URL:https://freegracefellowship.ca/event/jesus-alphas-29/
LOCATION:Jon and Sherrie Bilec’s House\, Lethbridge\, Alberta\, Canada
END:VEVENT
BEGIN:VEVENT
DTSTART;TZID=America/Denver:20240509T190000
DTEND;TZID=America/Denver:20240509T210000
DTSTAMP:20260425T060337
CREATED:20240503T180145Z
LAST-MODIFIED:20240503T180145Z
UID:2804-1715281200-1715288400@freegracefellowship.ca
SUMMARY:LLY
DESCRIPTION:This is for ages 12-17! Contact Jeremy Van Hierden for more details.
URL:https://freegracefellowship.ca/event/lly-33/
LOCATION:Free Grace Fellowship Church\, 1807 2A Ave N\, Lethbridge\, AB\, Canada
END:VEVENT
END:VCALENDAR