BEGIN:VCALENDAR
VERSION:2.0
PRODID:-//Free Grace Fellowship - ECPv6.15.20//NONSGML v1.0//EN
CALSCALE:GREGORIAN
METHOD:PUBLISH
X-WR-CALNAME:Free Grace Fellowship
X-ORIGINAL-URL:https://freegracefellowship.ca
X-WR-CALDESC:Events for Free Grace Fellowship
REFRESH-INTERVAL;VALUE=DURATION:PT1H
X-Robots-Tag:noindex
X-PUBLISHED-TTL:PT1H
BEGIN:VTIMEZONE
TZID:America/Denver
BEGIN:DAYLIGHT
TZOFFSETFROM:-0700
TZOFFSETTO:-0600
TZNAME:MDT
DTSTART:20210314T090000
END:DAYLIGHT
BEGIN:STANDARD
TZOFFSETFROM:-0600
TZOFFSETTO:-0700
TZNAME:MST
DTSTART:20211107T080000
END:STANDARD
BEGIN:DAYLIGHT
TZOFFSETFROM:-0700
TZOFFSETTO:-0600
TZNAME:MDT
DTSTART:20220313T090000
END:DAYLIGHT
BEGIN:STANDARD
TZOFFSETFROM:-0600
TZOFFSETTO:-0700
TZNAME:MST
DTSTART:20221106T080000
END:STANDARD
BEGIN:DAYLIGHT
TZOFFSETFROM:-0700
TZOFFSETTO:-0600
TZNAME:MDT
DTSTART:20230312T090000
END:DAYLIGHT
BEGIN:STANDARD
TZOFFSETFROM:-0600
TZOFFSETTO:-0700
TZNAME:MST
DTSTART:20231105T080000
END:STANDARD
BEGIN:DAYLIGHT
TZOFFSETFROM:-0700
TZOFFSETTO:-0600
TZNAME:MDT
DTSTART:20240310T090000
END:DAYLIGHT
BEGIN:STANDARD
TZOFFSETFROM:-0600
TZOFFSETTO:-0700
TZNAME:MST
DTSTART:20241103T080000
END:STANDARD
END:VTIMEZONE
BEGIN:VEVENT
DTSTART;TZID=America/Denver:20230124T193000
DTEND;TZID=America/Denver:20230124T210000
DTSTAMP:20260425T190412
CREATED:20230113T174806Z
LAST-MODIFIED:20230113T174906Z
UID:1834-1674588600-1674594000@freegracefellowship.ca
SUMMARY:Tuesday Night Small Group B
DESCRIPTION:Please contact Alan for more details.
URL:https://freegracefellowship.ca/event/tuesday-night-small-group-b-4/
LOCATION:The Gathering Grounds
ORGANIZER;CN="Alan Woodroffe":MAILTO:alanannwoodroffe@gmail.com
END:VEVENT
BEGIN:VEVENT
DTSTART;TZID=America/Denver:20230124T193000
DTEND;TZID=America/Denver:20230124T210000
DTSTAMP:20260425T190412
CREATED:20221231T211250Z
LAST-MODIFIED:20221231T211250Z
UID:1781-1674588600-1674594000@freegracefellowship.ca
SUMMARY:Tuesday Night Small Group A
DESCRIPTION:Please contact Graham for more details.
URL:https://freegracefellowship.ca/event/tuesday-night-small-group-a-7/
LOCATION:Graham & Sherry’s House
ORGANIZER;CN="Graham Bretherick":MAILTO:grahambretherick@gmail.com
END:VEVENT
BEGIN:VEVENT
DTSTART;TZID=America/Denver:20230123T193000
DTEND;TZID=America/Denver:20230123T210000
DTSTAMP:20260425T190412
CREATED:20230106T184118Z
LAST-MODIFIED:20230106T184118Z
UID:1826-1674502200-1674507600@freegracefellowship.ca
SUMMARY:Monday Night Small Group
DESCRIPTION:Contact Bill for more details.
URL:https://freegracefellowship.ca/event/monday-night-small-group-10/
LOCATION:Harvey & Susan’s House
ORGANIZER;CN="Bill Zwartbol":MAILTO:bezwartbol@telus.net
END:VEVENT
BEGIN:VEVENT
DTSTART;TZID=America/Denver:20230120T190000
DTEND;TZID=America/Denver:20230120T220000
DTSTAMP:20260425T190412
CREATED:20230102T194008Z
LAST-MODIFIED:20230102T194028Z
UID:1811-1674241200-1674252000@freegracefellowship.ca
SUMMARY:Young Adults
DESCRIPTION:Contact Brent and Janey or Craig and Suzanne for more details.
URL:https://freegracefellowship.ca/event/young-adults-17/
ORGANIZER;CN="Brent & Janey Feyter":MAILTO:brjafey@gmail.com
END:VEVENT
BEGIN:VEVENT
DTSTART;TZID=America/Denver:20230119T193000
DTEND;TZID=America/Denver:20230119T210000
DTSTAMP:20260425T190412
CREATED:20230113T174543Z
LAST-MODIFIED:20230113T174543Z
UID:1832-1674156600-1674162000@freegracefellowship.ca
SUMMARY:New Members Class
DESCRIPTION:Please Contact Bill for more Details.
URL:https://freegracefellowship.ca/event/new-members-class/
LOCATION:The Gathering Grounds
ORGANIZER;CN="Bill Zwartbol":MAILTO:bezwartbol@telus.net
END:VEVENT
BEGIN:VEVENT
DTSTART;TZID=America/Denver:20230119T190000
DTEND;TZID=America/Denver:20230119T210000
DTSTAMP:20260425T190412
CREATED:20230102T193823Z
LAST-MODIFIED:20230102T193823Z
UID:1809-1674154800-1674162000@freegracefellowship.ca
SUMMARY:Love Lethbridge Youth
DESCRIPTION:
URL:https://freegracefellowship.ca/event/love-lethbridge-youth-43/
ORGANIZER;CN="Love Lethbridge Youth":MAILTO:lovelethbridgeyouth@gmail.com
END:VEVENT
BEGIN:VEVENT
DTSTART;TZID=America/Denver:20230118T193000
DTEND;TZID=America/Denver:20230118T210000
DTSTAMP:20260425T190412
CREATED:20230106T182617Z
LAST-MODIFIED:20230106T182617Z
UID:1817-1674070200-1674075600@freegracefellowship.ca
SUMMARY:Prophetic Ministry Class
DESCRIPTION:Starting out or developing in the Prophetic Ministry with Alan Woodroffe \nContact Alan at 403-308-2161 for more details!
URL:https://freegracefellowship.ca/event/prophetic-ministry-class/
LOCATION:The Gathering Grounds
ORGANIZER;CN="Alan Woodroffe":MAILTO:alanannwoodroffe@gmail.com
END:VEVENT
BEGIN:VEVENT
DTSTART;TZID=America/Denver:20230117T193000
DTEND;TZID=America/Denver:20230117T210000
DTSTAMP:20260425T190412
CREATED:20221231T215826Z
LAST-MODIFIED:20221231T215826Z
UID:1797-1673983800-1673989200@freegracefellowship.ca
SUMMARY:Tuesday Night Small Group B
DESCRIPTION:Please contact Alan for more details.
URL:https://freegracefellowship.ca/event/tuesday-night-small-group-b-3/
ORGANIZER;CN="Alan Woodroffe":MAILTO:alanannwoodroffe@gmail.com
END:VEVENT
BEGIN:VEVENT
DTSTART;TZID=America/Denver:20230117T193000
DTEND;TZID=America/Denver:20230117T210000
DTSTAMP:20260425T190412
CREATED:20221231T211057Z
LAST-MODIFIED:20221231T211846Z
UID:1779-1673983800-1673989200@freegracefellowship.ca
SUMMARY:Tuesday Night Small Group A
DESCRIPTION:Please contact Graham for more details.
URL:https://freegracefellowship.ca/event/tuesday-night-small-group-a-6/
LOCATION:Graham & Sherry’s House
ORGANIZER;CN="Graham Bretherick":MAILTO:grahambretherick@gmail.com
END:VEVENT
BEGIN:VEVENT
DTSTART;TZID=America/Denver:20230117T190000
DTEND;TZID=America/Denver:20230117T210000
DTSTAMP:20260425T190412
CREATED:20230102T193146Z
LAST-MODIFIED:20230102T193146Z
UID:1805-1673982000-1673989200@freegracefellowship.ca
SUMMARY:Ladies Bible Study
DESCRIPTION:Contact Margaret for more details.
URL:https://freegracefellowship.ca/event/ladies-bible-study-11/
LOCATION:The Gathering Grounds
END:VEVENT
BEGIN:VEVENT
DTSTART;TZID=America/Denver:20230117T094500
DTEND;TZID=America/Denver:20230117T114500
DTSTAMP:20260425T190412
CREATED:20230102T193500Z
LAST-MODIFIED:20230102T193500Z
UID:1807-1673948700-1673955900@freegracefellowship.ca
SUMMARY:Mom's Group
DESCRIPTION:Contact Margaret for more details.
URL:https://freegracefellowship.ca/event/moms-group-2/
LOCATION:The Gathering Grounds
END:VEVENT
BEGIN:VEVENT
DTSTART;TZID=America/Denver:20230116T193000
DTEND;TZID=America/Denver:20230116T210000
DTSTAMP:20260425T190412
CREATED:20230102T192615Z
LAST-MODIFIED:20230102T193239Z
UID:1803-1673897400-1673902800@freegracefellowship.ca
SUMMARY:Monday Night Small Group
DESCRIPTION:Contact Bill for more info.
URL:https://freegracefellowship.ca/event/monday-night-small-group-9/
LOCATION:Harvey & Susan’s House
ORGANIZER;CN="Bill Zwartbol":MAILTO:bezwartbol@telus.net
END:VEVENT
BEGIN:VEVENT
DTSTART;TZID=America/Denver:20230114T190000
DTEND;TZID=America/Denver:20230114T220000
DTSTAMP:20260425T190412
CREATED:20221231T214829Z
LAST-MODIFIED:20221231T214829Z
UID:1795-1673722800-1673733600@freegracefellowship.ca
SUMMARY:Men's Meat Night
DESCRIPTION:
URL:https://freegracefellowship.ca/event/mens-meat-night-8/
ORGANIZER;CN="Jamie Slingerland":MAILTO:slingerlandjaimie@gmail.com
END:VEVENT
BEGIN:VEVENT
DTSTART;TZID=America/Denver:20230113T190000
DTEND;TZID=America/Denver:20230113T220000
DTSTAMP:20260425T190412
CREATED:20221231T214613Z
LAST-MODIFIED:20221231T214613Z
UID:1793-1673636400-1673647200@freegracefellowship.ca
SUMMARY:Young Adults
DESCRIPTION:
URL:https://freegracefellowship.ca/event/young-adults-16/
ORGANIZER;CN="Brent & Janey Feyter":MAILTO:brjafey@gmail.com
END:VEVENT
BEGIN:VEVENT
DTSTART;TZID=America/Denver:20230112T193000
DTEND;TZID=America/Denver:20230112T210000
DTSTAMP:20260425T190412
CREATED:20221231T214402Z
LAST-MODIFIED:20230203T165107Z
UID:1791-1673551800-1673557200@freegracefellowship.ca
SUMMARY:Corporate Prayer Meeting
DESCRIPTION:
URL:https://freegracefellowship.ca/event/corporate-prayer-meeting-8/
LOCATION:Free Grace Fellowship Church\, 1807 2A Ave N\, Lethbridge\, AB\, Canada
ORGANIZER;CN="Graham Bretherick":MAILTO:grahambretherick@gmail.com
END:VEVENT
BEGIN:VEVENT
DTSTART;TZID=America/Denver:20230112T190000
DTEND;TZID=America/Denver:20230112T210000
DTSTAMP:20260425T190412
CREATED:20221231T213206Z
LAST-MODIFIED:20221231T213239Z
UID:1789-1673550000-1673557200@freegracefellowship.ca
SUMMARY:Love Lethbridge Youth
DESCRIPTION:
URL:https://freegracefellowship.ca/event/love-lethbridge-youth-42/
LOCATION:Free Grace Fellowship Church\, 1807 2A Ave N\, Lethbridge\, AB\, Canada
ORGANIZER;CN="Love Lethbridge Youth":MAILTO:lovelethbridgeyouth@gmail.com
END:VEVENT
BEGIN:VEVENT
DTSTART;TZID=America/Denver:20230111T193000
DTEND;TZID=America/Denver:20230111T210000
DTSTAMP:20260425T190412
CREATED:20230106T182424Z
LAST-MODIFIED:20230106T182508Z
UID:1814-1673465400-1673470800@freegracefellowship.ca
SUMMARY:Prophetic Ministry Class
DESCRIPTION:Starting out or developing in the Prophetic Ministry with Alan Woodroffe \nContact Alan at 403-308-2161 for more details!
URL:https://freegracefellowship.ca/event/prophetic-class/
LOCATION:The Gathering Grounds
ORGANIZER;CN="Alan Woodroffe":MAILTO:alanannwoodroffe@gmail.com
END:VEVENT
BEGIN:VEVENT
DTSTART;TZID=America/Denver:20230110T193000
DTEND;TZID=America/Denver:20230110T210000
DTSTAMP:20260425T190412
CREATED:20221231T212122Z
LAST-MODIFIED:20221231T212122Z
UID:1786-1673379000-1673384400@freegracefellowship.ca
SUMMARY:Tuesday Night Small Group B
DESCRIPTION:Please contact Alan for more details.
URL:https://freegracefellowship.ca/event/tuesday-night-small-group-b-2/
LOCATION:The Gathering Grounds
ORGANIZER;CN="Alan Woodroffe":MAILTO:alanannwoodroffe@gmail.com
END:VEVENT
BEGIN:VEVENT
DTSTART;TZID=America/Denver:20230110T193000
DTEND;TZID=America/Denver:20230110T210000
DTSTAMP:20260425T190412
CREATED:20221231T210847Z
LAST-MODIFIED:20221231T210847Z
UID:1777-1673379000-1673384400@freegracefellowship.ca
SUMMARY:Tuesday Night Small Group A
DESCRIPTION:Please contact Graham for more details.
URL:https://freegracefellowship.ca/event/tuesday-night-small-group-a-5/
LOCATION:Graham & Sherry’s House
ORGANIZER;CN="Graham Bretherick":MAILTO:grahambretherick@gmail.com
END:VEVENT
BEGIN:VEVENT
DTSTART;TZID=America/Denver:20230106T070000
DTEND;TZID=America/Denver:20230106T220000
DTSTAMP:20260425T190412
CREATED:20221231T205347Z
LAST-MODIFIED:20221231T205347Z
UID:1772-1672988400-1673042400@freegracefellowship.ca
SUMMARY:Young Adults
DESCRIPTION:Topic Night at the Fehrs!
URL:https://freegracefellowship.ca/event/young-adults-15/
LOCATION:Cam and Lisa’s House\, Canada
ORGANIZER;CN="Brent & Janey Feyter":MAILTO:brjafey@gmail.com
END:VEVENT
BEGIN:VEVENT
DTSTART;TZID=America/Denver:20230103T193000
DTEND;TZID=America/Denver:20230103T210000
DTSTAMP:20260425T190412
CREATED:20221231T204620Z
LAST-MODIFIED:20221231T204738Z
UID:1769-1672774200-1672779600@freegracefellowship.ca
SUMMARY:Tuesday Night Small Group B
DESCRIPTION:Contact Alan for more details.
URL:https://freegracefellowship.ca/event/tuesday-night-small-group-b/
LOCATION:The Gathering Grounds
ORGANIZER;CN="Alan Woodroffe":MAILTO:alanannwoodroffe@gmail.com
END:VEVENT
BEGIN:VEVENT
DTSTART;TZID=America/Denver:20230103T193000
DTEND;TZID=America/Denver:20230103T210000
DTSTAMP:20260425T190412
CREATED:20221231T204126Z
LAST-MODIFIED:20221231T204126Z
UID:1767-1672774200-1672779600@freegracefellowship.ca
SUMMARY:Tuesday Night Small Group A
DESCRIPTION:Contact Graham for more details.
URL:https://freegracefellowship.ca/event/tuesday-night-small-group-a-4/
LOCATION:Graham & Sherry’s House
ORGANIZER;CN="Graham Bretherick":MAILTO:grahambretherick@gmail.com
END:VEVENT
BEGIN:VEVENT
DTSTART;TZID=America/Denver:20230103T094500
DTEND;TZID=America/Denver:20230103T234500
DTSTAMP:20260425T190412
CREATED:20221231T203456Z
LAST-MODIFIED:20221231T203628Z
UID:1763-1672739100-1672789500@freegracefellowship.ca
SUMMARY:Mom's Group
DESCRIPTION:Contact Margaret for more details.
URL:https://freegracefellowship.ca/event/moms-group/
LOCATION:The Gathering Grounds
END:VEVENT
BEGIN:VEVENT
DTSTART;TZID=America/Denver:20221129T193000
DTEND;TZID=America/Denver:20221129T220000
DTSTAMP:20260425T190412
CREATED:20221104T163653Z
LAST-MODIFIED:20221104T163653Z
UID:1730-1669750200-1669759200@freegracefellowship.ca
SUMMARY:Tuesday Night Small Group B (Law & Grace)
DESCRIPTION:
URL:https://freegracefellowship.ca/event/tuesday-night-small-group-b-law-grace-4/
LOCATION:Alan & Ann Woodroffe’s House
ORGANIZER;CN="Alan Woodroffe":MAILTO:alanannwoodroffe@gmail.com
END:VEVENT
BEGIN:VEVENT
DTSTART;TZID=America/Denver:20221129T193000
DTEND;TZID=America/Denver:20221129T210000
DTSTAMP:20260425T190412
CREATED:20221104T163623Z
LAST-MODIFIED:20221104T163623Z
UID:1728-1669750200-1669755600@freegracefellowship.ca
SUMMARY:Tuesday Night Small Group A
DESCRIPTION:
URL:https://freegracefellowship.ca/event/tuesday-night-small-group-a-3/
LOCATION:Graham & Sherry’s House
ORGANIZER;CN="Graham Bretherick":MAILTO:grahambretherick@gmail.com
END:VEVENT
BEGIN:VEVENT
DTSTART;TZID=America/Denver:20221128T193000
DTEND;TZID=America/Denver:20221128T220000
DTSTAMP:20260425T190412
CREATED:20221104T163549Z
LAST-MODIFIED:20221104T163549Z
UID:1726-1669663800-1669672800@freegracefellowship.ca
SUMMARY:Monday Night Small Group
DESCRIPTION:
URL:https://freegracefellowship.ca/event/monday-night-small-group-8/
LOCATION:Harvey & Susan’s House
ORGANIZER;CN="Bill Zwartbol":MAILTO:bezwartbol@telus.net
END:VEVENT
BEGIN:VEVENT
DTSTART;TZID=America/Denver:20221125T190000
DTEND;TZID=America/Denver:20221127T120000
DTSTAMP:20260425T190412
CREATED:20221104T163505Z
LAST-MODIFIED:20221104T163505Z
UID:1724-1669402800-1669550400@freegracefellowship.ca
SUMMARY:All In Conference with Steve Holmstrom
DESCRIPTION:
URL:https://freegracefellowship.ca/event/all-in-conference-with-steve-holmstrom/
LOCATION:Free Grace Fellowship Church\, 1807 2A Ave N\, Lethbridge\, AB\, Canada
ORGANIZER;CN="Bill Zwartbol":MAILTO:bezwartbol@telus.net
END:VEVENT
BEGIN:VEVENT
DTSTART;TZID=America/Denver:20221125T190000
DTEND;TZID=America/Denver:20221125T220000
DTSTAMP:20260425T190412
CREATED:20221104T163410Z
LAST-MODIFIED:20221104T163842Z
UID:1722-1669402800-1669413600@freegracefellowship.ca
SUMMARY:Young Adults
DESCRIPTION:
URL:https://freegracefellowship.ca/event/young-adults-14/
ORGANIZER;CN="Brent & Janey Feyter":MAILTO:brjafey@gmail.com
END:VEVENT
BEGIN:VEVENT
DTSTART;TZID=America/Denver:20221124T190000
DTEND;TZID=America/Denver:20221124T210000
DTSTAMP:20260425T190412
CREATED:20221104T163338Z
LAST-MODIFIED:20221104T163338Z
UID:1720-1669316400-1669323600@freegracefellowship.ca
SUMMARY:Love Lethbridge Youth
DESCRIPTION:
URL:https://freegracefellowship.ca/event/love-lethbridge-youth-41/
LOCATION:Free Grace Fellowship Church\, 1807 2A Ave N\, Lethbridge\, AB\, Canada
ORGANIZER;CN="Love Lethbridge Youth":MAILTO:lovelethbridgeyouth@gmail.com
END:VEVENT
BEGIN:VEVENT
DTSTART;TZID=America/Denver:20221122T193000
DTEND;TZID=America/Denver:20221122T220000
DTSTAMP:20260425T190412
CREATED:20221104T163301Z
LAST-MODIFIED:20221104T163301Z
UID:1718-1669145400-1669154400@freegracefellowship.ca
SUMMARY:Tuesday Night Small Group B (Law & Grace)
DESCRIPTION:
URL:https://freegracefellowship.ca/event/tuesday-night-small-group-b-law-grace-3/
LOCATION:Alan & Ann Woodroffe’s House
ORGANIZER;CN="Alan Woodroffe":MAILTO:alanannwoodroffe@gmail.com
END:VEVENT
END:VCALENDAR