BEGIN:VCALENDAR
VERSION:2.0
PRODID:-//Free Grace Fellowship - ECPv6.15.20//NONSGML v1.0//EN
CALSCALE:GREGORIAN
METHOD:PUBLISH
X-WR-CALNAME:Free Grace Fellowship
X-ORIGINAL-URL:https://freegracefellowship.ca
X-WR-CALDESC:Events for Free Grace Fellowship
REFRESH-INTERVAL;VALUE=DURATION:PT1H
X-Robots-Tag:noindex
X-PUBLISHED-TTL:PT1H
BEGIN:VTIMEZONE
TZID:America/Denver
BEGIN:DAYLIGHT
TZOFFSETFROM:-0700
TZOFFSETTO:-0600
TZNAME:MDT
DTSTART:20220313T090000
END:DAYLIGHT
BEGIN:STANDARD
TZOFFSETFROM:-0600
TZOFFSETTO:-0700
TZNAME:MST
DTSTART:20221106T080000
END:STANDARD
BEGIN:DAYLIGHT
TZOFFSETFROM:-0700
TZOFFSETTO:-0600
TZNAME:MDT
DTSTART:20230312T090000
END:DAYLIGHT
BEGIN:STANDARD
TZOFFSETFROM:-0600
TZOFFSETTO:-0700
TZNAME:MST
DTSTART:20231105T080000
END:STANDARD
BEGIN:DAYLIGHT
TZOFFSETFROM:-0700
TZOFFSETTO:-0600
TZNAME:MDT
DTSTART:20240310T090000
END:DAYLIGHT
BEGIN:STANDARD
TZOFFSETFROM:-0600
TZOFFSETTO:-0700
TZNAME:MST
DTSTART:20241103T080000
END:STANDARD
END:VTIMEZONE
BEGIN:VEVENT
DTSTART;TZID=America/Denver:20231108T193000
DTEND;TZID=America/Denver:20231108T213000
DTSTAMP:20260425T054031
CREATED:20231101T211142Z
LAST-MODIFIED:20231101T211403Z
UID:2337-1699471800-1699479000@freegracefellowship.ca
SUMMARY:Wednesday Night Small Group
DESCRIPTION:This is at Graham and Sherry Bretherick’s house. Contact Graham for more details!
URL:https://freegracefellowship.ca/event/wednesday-small-group/
END:VEVENT
BEGIN:VEVENT
DTSTART;TZID=America/Denver:20231108T190000
DTEND;TZID=America/Denver:20231108T210000
DTSTAMP:20260425T054031
CREATED:20231101T210813Z
LAST-MODIFIED:20231101T210813Z
UID:2329-1699470000-1699477200@freegracefellowship.ca
SUMMARY:Jesus Alphas
DESCRIPTION:This is a group of young adults that want more of Jesus\, so we pray and worship Jesus! This is at Jon and Sherrie Bilec’s house\, please contact them for more details!
URL:https://freegracefellowship.ca/event/jesus-alphas-6/
END:VEVENT
BEGIN:VEVENT
DTSTART;TZID=America/Denver:20231107T190000
DTEND;TZID=America/Denver:20231107T210000
DTSTAMP:20260425T054031
CREATED:20231101T212146Z
LAST-MODIFIED:20231101T212146Z
UID:2356-1699383600-1699390800@freegracefellowship.ca
SUMMARY:Tuesday Night Small Group
DESCRIPTION:Alan Woodroffe leads this group and they are starting a new study called Faith Foundation’s on Right Now Media this month\, if anyone is interested! It is in the Gathering Grounds of the church! Contact Sherrie Bilec for more details!
URL:https://freegracefellowship.ca/event/tuesday-night-small-group-15/
END:VEVENT
BEGIN:VEVENT
DTSTART;TZID=America/Denver:20231106T193000
DTEND;TZID=America/Denver:20231106T220000
DTSTAMP:20260425T054031
CREATED:20231101T212613Z
LAST-MODIFIED:20231101T212613Z
UID:2364-1699299000-1699308000@freegracefellowship.ca
SUMMARY:Monday Night Small Group
DESCRIPTION:This is at Harvey and Susan Grant’s house and it is led by Bill Zwartbol! Please contact Bill for more details!
URL:https://freegracefellowship.ca/event/monday-night-small-group-32/
END:VEVENT
BEGIN:VEVENT
DTSTART;TZID=America/Denver:20231106T100000
DTEND;TZID=America/Denver:20231106T120000
DTSTAMP:20260425T054031
CREATED:20231101T213937Z
LAST-MODIFIED:20231101T213937Z
UID:2374-1699264800-1699272000@freegracefellowship.ca
SUMMARY:Ladies Senior 60+ Group
DESCRIPTION:A group for ladies 60+ who want fellowship and to share wisdom with other women! This is at Margaret Slingerland’s house\, so please contact her for more details!
URL:https://freegracefellowship.ca/event/ladies-senior-60-group/
END:VEVENT
BEGIN:VEVENT
DTSTART;TZID=America/Denver:20231105T100000
DTEND;TZID=America/Denver:20231105T110000
DTSTAMP:20260425T054031
CREATED:20231101T214209Z
LAST-MODIFIED:20231101T214209Z
UID:2376-1699178400-1699182000@freegracefellowship.ca
SUMMARY:Breakfast for the church
DESCRIPTION:Youth from LLY are cooking breakfast for the whole church! Bring your appetite!
URL:https://freegracefellowship.ca/event/breakfast-for-the-church/
END:VEVENT
BEGIN:VEVENT
DTSTART;TZID=America/Denver:20231103T170000
DTEND;TZID=America/Denver:20231105T160000
DTSTAMP:20260425T054031
CREATED:20231103T025537Z
LAST-MODIFIED:20231103T025537Z
UID:2386-1699030800-1699200000@freegracefellowship.ca
SUMMARY:Ladies Retreat
DESCRIPTION:Pack your bags ladies and come enjoy a relaxing weekend of fellowship and diving deeper with God! Registration is at 5pm!
URL:https://freegracefellowship.ca/event/ladies-retreat/
END:VEVENT
BEGIN:VEVENT
DTSTART;TZID=America/Denver:20231102T190000
DTEND;TZID=America/Denver:20231102T210000
DTSTAMP:20260425T054031
CREATED:20231101T211534Z
LAST-MODIFIED:20231101T211534Z
UID:2346-1698951600-1698958800@freegracefellowship.ca
SUMMARY:LLY
DESCRIPTION:Love Lethbridge Youth ages 12-17. Contact Jeremy Van Hierden for more details!
URL:https://freegracefellowship.ca/event/lly-4/
END:VEVENT
BEGIN:VEVENT
DTSTART;TZID=America/Denver:20231101T193000
DTEND;TZID=America/Denver:20231101T213000
DTSTAMP:20260425T054031
CREATED:20231101T210501Z
LAST-MODIFIED:20231101T210501Z
UID:2325-1698867000-1698874200@freegracefellowship.ca
SUMMARY:Wednesday Night Small Group
DESCRIPTION:This is at Graham and Sherry Bretherick’s house. Contact Graham for more details!
URL:https://freegracefellowship.ca/event/wednesday-night-small-group-15/
END:VEVENT
BEGIN:VEVENT
DTSTART;TZID=America/Denver:20231101T190000
DTEND;TZID=America/Denver:20231101T210000
DTSTAMP:20260425T054031
CREATED:20231101T210731Z
LAST-MODIFIED:20231101T210731Z
UID:2327-1698865200-1698872400@freegracefellowship.ca
SUMMARY:Jesus Alphas
DESCRIPTION:This is a group of young adults that want more of Jesus\, so we pray and worship Jesus! This is at Jon and Sherrie Bilec’s house\, please contact them for more details!
URL:https://freegracefellowship.ca/event/jesus-alphas-5/
END:VEVENT
BEGIN:VEVENT
DTSTART;TZID=America/Denver:20231031T094500
DTEND;TZID=America/Denver:20231031T114500
DTSTAMP:20260425T054031
CREATED:20231002T201302Z
LAST-MODIFIED:20231002T201302Z
UID:2300-1698745500-1698752700@freegracefellowship.ca
SUMMARY:Mom's Group
DESCRIPTION:Contact Margaret Slingerland for more details!
URL:https://freegracefellowship.ca/event/moms-group-16/
END:VEVENT
BEGIN:VEVENT
DTSTART;TZID=America/Denver:20231030T193000
DTEND;TZID=America/Denver:20231030T210000
DTSTAMP:20260425T054031
CREATED:20231002T201202Z
LAST-MODIFIED:20231002T201202Z
UID:2298-1698694200-1698699600@freegracefellowship.ca
SUMMARY:Bill's teaching on Escatology
DESCRIPTION:This will take place at Free Grace Fellowship Church. Contact Bill Zwartbol for more details!
URL:https://freegracefellowship.ca/event/bills-teaching-on-escatology/
END:VEVENT
BEGIN:VEVENT
DTSTART;TZID=America/Denver:20231029T190000
DTEND;TZID=America/Denver:20231029T210000
DTSTAMP:20260425T054031
CREATED:20231002T201057Z
LAST-MODIFIED:20231002T201057Z
UID:2296-1698606000-1698613200@freegracefellowship.ca
SUMMARY:Young Adults
DESCRIPTION:
URL:https://freegracefellowship.ca/event/young-adults-39/
END:VEVENT
BEGIN:VEVENT
DTSTART;TZID=America/Denver:20231029T083000
DTEND;TZID=America/Denver:20231029T123000
DTSTAMP:20260425T054031
CREATED:20231002T201026Z
LAST-MODIFIED:20231002T201026Z
UID:2294-1698568200-1698582600@freegracefellowship.ca
SUMMARY:Potluck Sunday
DESCRIPTION:There is potluck at 11am for the first service and potluck right after the second service!
URL:https://freegracefellowship.ca/event/potluck-sunday-3/
END:VEVENT
BEGIN:VEVENT
DTSTART;TZID=America/Denver:20231029T083000
DTEND;TZID=America/Denver:20231029T123000
DTSTAMP:20260425T054031
CREATED:20231002T200925Z
LAST-MODIFIED:20231002T200925Z
UID:2292-1698568200-1698582600@freegracefellowship.ca
SUMMARY:Steve Holmstrom Conference 2023
DESCRIPTION:He is speaking at Free Grace Fellowship Church giving the Sermon for both services!
URL:https://freegracefellowship.ca/event/steve-holmstrom-conference-2023-2/
END:VEVENT
BEGIN:VEVENT
DTSTART;TZID=America/Denver:20231028T190000
DTEND;TZID=America/Denver:20231028T210000
DTSTAMP:20260425T054031
CREATED:20231002T200758Z
LAST-MODIFIED:20231002T200824Z
UID:2288-1698519600-1698526800@freegracefellowship.ca
SUMMARY:Steve Holmstrom Conference 2023
DESCRIPTION:He is speaking at Free Grace Fellowship Church!
URL:https://freegracefellowship.ca/event/steve-holmstrom-conference/
END:VEVENT
BEGIN:VEVENT
DTSTART;TZID=America/Denver:20231028T080000
DTEND;TZID=America/Denver:20231028T100000
DTSTAMP:20260425T054031
CREATED:20231010T152105Z
LAST-MODIFIED:20231010T152105Z
UID:2312-1698480000-1698487200@freegracefellowship.ca
SUMMARY:Men's Breakfast with Steve Holmstrom
DESCRIPTION:Breakfast served at 8am in the Cedar Ballroom of the Sandman Signature (320 Scenic Dr. S). It is $20 per person and you must RVSP by October 23rd.
URL:https://freegracefellowship.ca/event/mens-breakfast-with-steve-holmstrom/
END:VEVENT
BEGIN:VEVENT
DTSTART;TZID=America/Denver:20231027T190000
DTEND;TZID=America/Denver:20231027T210000
DTSTAMP:20260425T054031
CREATED:20231002T200706Z
LAST-MODIFIED:20231002T200706Z
UID:2286-1698433200-1698440400@freegracefellowship.ca
SUMMARY:Steve Holmstrom Conference 2023
DESCRIPTION:He is speaking at Free Grace Fellowship Church!
URL:https://freegracefellowship.ca/event/steve-holmstrom-conference-2023/
END:VEVENT
BEGIN:VEVENT
DTSTART;TZID=America/Denver:20231026T190000
DTEND;TZID=America/Denver:20231026T210000
DTSTAMP:20260425T054031
CREATED:20231002T200613Z
LAST-MODIFIED:20231002T200613Z
UID:2284-1698346800-1698354000@freegracefellowship.ca
SUMMARY:Steve Holmstrom is speaking at LLY
DESCRIPTION:
URL:https://freegracefellowship.ca/event/steve-holmstrom-is-speaking-at-lly/
END:VEVENT
BEGIN:VEVENT
DTSTART;TZID=America/Denver:20231025T193000
DTEND;TZID=America/Denver:20231025T210000
DTSTAMP:20260425T054031
CREATED:20231002T200508Z
LAST-MODIFIED:20231002T200508Z
UID:2282-1698262200-1698267600@freegracefellowship.ca
SUMMARY:Wednesday Night Small Group
DESCRIPTION:Contact Graham Bretherick for more details!
URL:https://freegracefellowship.ca/event/wednesday-night-small-group-14/
END:VEVENT
BEGIN:VEVENT
DTSTART;TZID=America/Denver:20231025T190000
DTEND;TZID=America/Denver:20231025T210000
DTSTAMP:20260425T054031
CREATED:20231002T202519Z
LAST-MODIFIED:20231002T202519Z
UID:2310-1698260400-1698267600@freegracefellowship.ca
SUMMARY:Jesus Alphas
DESCRIPTION:Prayer and worship for young adults at the Bilec’s house. Contact Sherrie/ Jon Bilec or Larry/ Julie Schille for more details.
URL:https://freegracefellowship.ca/event/jesus-alphas-4/
END:VEVENT
BEGIN:VEVENT
DTSTART;TZID=America/Denver:20231023T193000
DTEND;TZID=America/Denver:20231023T210000
DTSTAMP:20260425T054031
CREATED:20231002T200234Z
LAST-MODIFIED:20231002T200234Z
UID:2278-1698089400-1698094800@freegracefellowship.ca
SUMMARY:Monday Night Small Group
DESCRIPTION:Contact Bill Zwarbol for more details!
URL:https://freegracefellowship.ca/event/monday-night-small-group-31/
END:VEVENT
BEGIN:VEVENT
DTSTART;TZID=America/Denver:20231023T190000
DTEND;TZID=America/Denver:20231023T210000
DTSTAMP:20260425T054031
CREATED:20231002T200130Z
LAST-MODIFIED:20231002T200130Z
UID:2276-1698087600-1698094800@freegracefellowship.ca
SUMMARY:Alan's Small Group
DESCRIPTION:Contact Alan Woodroffe for more details!
URL:https://freegracefellowship.ca/event/alans-small-group-4/
END:VEVENT
BEGIN:VEVENT
DTSTART;TZID=America/Denver:20231022T190000
DTEND;TZID=America/Denver:20231022T210000
DTSTAMP:20260425T054031
CREATED:20231002T200036Z
LAST-MODIFIED:20231002T200036Z
UID:2274-1698001200-1698008400@freegracefellowship.ca
SUMMARY:Young Adults
DESCRIPTION:Contact one of the young adults leaders for more details!
URL:https://freegracefellowship.ca/event/young-adults-38/
END:VEVENT
BEGIN:VEVENT
DTSTART;TZID=America/Denver:20231019T190000
DTEND;TZID=America/Denver:20231019T210000
DTSTAMP:20260425T054031
CREATED:20231002T195945Z
LAST-MODIFIED:20231002T195945Z
UID:2272-1697742000-1697749200@freegracefellowship.ca
SUMMARY:LLY
DESCRIPTION:
URL:https://freegracefellowship.ca/event/lly-3/
END:VEVENT
BEGIN:VEVENT
DTSTART;TZID=America/Denver:20231018T193000
DTEND;TZID=America/Denver:20231018T210000
DTSTAMP:20260425T054031
CREATED:20231002T195911Z
LAST-MODIFIED:20231002T195911Z
UID:2270-1697657400-1697662800@freegracefellowship.ca
SUMMARY:Wednesday Night Small Group
DESCRIPTION:Contact Graham Bretherick for more details!
URL:https://freegracefellowship.ca/event/wednesday-night-small-group-13/
END:VEVENT
BEGIN:VEVENT
DTSTART;TZID=America/Denver:20231018T190000
DTEND;TZID=America/Denver:20231018T210000
DTSTAMP:20260425T054031
CREATED:20231002T202451Z
LAST-MODIFIED:20231002T202451Z
UID:2308-1697655600-1697662800@freegracefellowship.ca
SUMMARY:Jesus Alphas
DESCRIPTION:Prayer and worship for young adults at the Bilec’s house. Contact Sherrie/ Jon Bilec or Larry/ Julie Schille for more details.
URL:https://freegracefellowship.ca/event/jesus-alphas-3/
END:VEVENT
BEGIN:VEVENT
DTSTART;TZID=America/Denver:20231017T190000
DTEND;TZID=America/Denver:20231017T210000
DTSTAMP:20260425T054031
CREATED:20231002T200353Z
LAST-MODIFIED:20231010T151714Z
UID:2280-1697569200-1697576400@freegracefellowship.ca
SUMMARY:Ladies Bible Study
DESCRIPTION:We meet at the Gathering Grounds at Free Grace Fellowship Church. Contact Margaret Slingerland for more details!
URL:https://freegracefellowship.ca/event/ladies-bible-study-17/
END:VEVENT
BEGIN:VEVENT
DTSTART;TZID=America/Denver:20231017T094500
DTEND;TZID=America/Denver:20231017T114500
DTSTAMP:20260425T054031
CREATED:20231002T195731Z
LAST-MODIFIED:20231002T195731Z
UID:2266-1697535900-1697543100@freegracefellowship.ca
SUMMARY:Mom's Group
DESCRIPTION:Contact Margaret Slingerland for more details!
URL:https://freegracefellowship.ca/event/moms-group-15/
END:VEVENT
BEGIN:VEVENT
DTSTART;TZID=America/Denver:20231016T193000
DTEND;TZID=America/Denver:20231016T210000
DTSTAMP:20260425T054031
CREATED:20231002T195633Z
LAST-MODIFIED:20231002T195633Z
UID:2264-1697484600-1697490000@freegracefellowship.ca
SUMMARY:Bill's teaching on Eschatology
DESCRIPTION:This is at Free Grace Fellowship Church. Contact Bill Zwartbol for more details.
URL:https://freegracefellowship.ca/event/bills-teaching-on-eschatology/
END:VEVENT
END:VCALENDAR