BEGIN:VCALENDAR
VERSION:2.0
PRODID:-//Free Grace Fellowship - ECPv6.15.20//NONSGML v1.0//EN
CALSCALE:GREGORIAN
METHOD:PUBLISH
X-WR-CALNAME:Free Grace Fellowship
X-ORIGINAL-URL:https://freegracefellowship.ca
X-WR-CALDESC:Events for Free Grace Fellowship
REFRESH-INTERVAL;VALUE=DURATION:PT1H
X-Robots-Tag:noindex
X-PUBLISHED-TTL:PT1H
BEGIN:VTIMEZONE
TZID:America/Denver
BEGIN:DAYLIGHT
TZOFFSETFROM:-0700
TZOFFSETTO:-0600
TZNAME:MDT
DTSTART:20220313T090000
END:DAYLIGHT
BEGIN:STANDARD
TZOFFSETFROM:-0600
TZOFFSETTO:-0700
TZNAME:MST
DTSTART:20221106T080000
END:STANDARD
BEGIN:DAYLIGHT
TZOFFSETFROM:-0700
TZOFFSETTO:-0600
TZNAME:MDT
DTSTART:20230312T090000
END:DAYLIGHT
BEGIN:STANDARD
TZOFFSETFROM:-0600
TZOFFSETTO:-0700
TZNAME:MST
DTSTART:20231105T080000
END:STANDARD
BEGIN:DAYLIGHT
TZOFFSETFROM:-0700
TZOFFSETTO:-0600
TZNAME:MDT
DTSTART:20240310T090000
END:DAYLIGHT
BEGIN:STANDARD
TZOFFSETFROM:-0600
TZOFFSETTO:-0700
TZNAME:MST
DTSTART:20241103T080000
END:STANDARD
BEGIN:DAYLIGHT
TZOFFSETFROM:-0700
TZOFFSETTO:-0600
TZNAME:MDT
DTSTART:20250309T090000
END:DAYLIGHT
BEGIN:STANDARD
TZOFFSETFROM:-0600
TZOFFSETTO:-0700
TZNAME:MST
DTSTART:20251102T080000
END:STANDARD
END:VTIMEZONE
BEGIN:VEVENT
DTSTART;TZID=America/Denver:20240110T193000
DTEND;TZID=America/Denver:20240110T213000
DTSTAMP:20260425T054058
CREATED:20240101T201341Z
LAST-MODIFIED:20240101T201341Z
UID:2538-1704915000-1704922200@freegracefellowship.ca
SUMMARY:Corporate Prayer Meeting
DESCRIPTION:Our Free Grace Corporate Prayer Meeting is in the Gathering Grounds in the church basement. Please consider coming and praying with us over our church community\, city\, country\, and world.
URL:https://freegracefellowship.ca/event/corporate-prayer-meeting-15/
END:VEVENT
BEGIN:VEVENT
DTSTART;TZID=America/Denver:20240110T190000
DTEND;TZID=America/Denver:20240110T210000
DTSTAMP:20260425T054058
CREATED:20240101T200845Z
LAST-MODIFIED:20240101T200845Z
UID:2530-1704913200-1704920400@freegracefellowship.ca
SUMMARY:Jesus Alphas
DESCRIPTION:This is for young adults who desire a deeper relationship with Jesus! Its a night of worship and prayer! This is at the Bilec’s house. Contact Larry Schille or Sherrie Bilec for more details!
URL:https://freegracefellowship.ca/event/jesus-alphas-15/
END:VEVENT
BEGIN:VEVENT
DTSTART;TZID=America/Denver:20240109T190000
DTEND;TZID=America/Denver:20240109T210000
DTSTAMP:20260425T054058
CREATED:20240101T200421Z
LAST-MODIFIED:20240101T200421Z
UID:2522-1704826800-1704834000@freegracefellowship.ca
SUMMARY:Tuesday Night Small Group
DESCRIPTION:This is in the Gathering Grounds of the church. Please contact Alan Woodroffe for more details!
URL:https://freegracefellowship.ca/event/tuesday-night-small-group-23/
END:VEVENT
BEGIN:VEVENT
DTSTART;TZID=America/Denver:20240108T193000
DTEND;TZID=America/Denver:20240108T213000
DTSTAMP:20260425T054058
CREATED:20240101T200038Z
LAST-MODIFIED:20240101T200038Z
UID:2514-1704742200-1704749400@freegracefellowship.ca
SUMMARY:Monday Night Small Group
DESCRIPTION:This is at Harvey and Susan Grant’s house! Contact Bill Zwartbol for more details! \n  \n 
URL:https://freegracefellowship.ca/event/monday-night-small-group-37/
END:VEVENT
BEGIN:VEVENT
DTSTART;TZID=America/Denver:20240108T100000
DTEND;TZID=America/Denver:20240108T120000
DTSTAMP:20260425T054058
CREATED:20240101T195831Z
LAST-MODIFIED:20240101T195920Z
UID:2511-1704708000-1704715200@freegracefellowship.ca
SUMMARY:Senior's 60+ Women's Group
DESCRIPTION:This is for ladies who are 60+ and are interested in good fellowship and sharing wisdom with each other. This is at Margaret Slingerland’s house\, please contact her for more details!
URL:https://freegracefellowship.ca/event/seniors-60-womens-group/
END:VEVENT
BEGIN:VEVENT
DTSTART;TZID=America/Denver:20240107T101000
DTEND;TZID=America/Denver:20240107T104500
DTSTAMP:20260425T054058
CREATED:20240101T195325Z
LAST-MODIFIED:20240101T195325Z
UID:2503-1704622200-1704624300@freegracefellowship.ca
SUMMARY:Discipleship Class
DESCRIPTION:
URL:https://freegracefellowship.ca/event/discipleship-class-3/
END:VEVENT
BEGIN:VEVENT
DTSTART;TZID=America/Denver:20240107T083000
DTEND;TZID=America/Denver:20240107T123000
DTSTAMP:20260425T054058
CREATED:20240101T195013Z
LAST-MODIFIED:20240101T195013Z
UID:2495-1704616200-1704630600@freegracefellowship.ca
SUMMARY:Communion
DESCRIPTION:There will be two services: one at 8:30am and 11am! Both services will part take in Communion!
URL:https://freegracefellowship.ca/event/communion-6/
END:VEVENT
BEGIN:VEVENT
DTSTART;TZID=America/Denver:20240103T190000
DTEND;TZID=America/Denver:20240103T210000
DTSTAMP:20260425T054058
CREATED:20240101T200811Z
LAST-MODIFIED:20240101T200811Z
UID:2528-1704308400-1704315600@freegracefellowship.ca
SUMMARY:Jesus Alphas
DESCRIPTION:This is for young adults who desire a deeper relationship with Jesus! Its a night of worship and prayer! This is at the Bilec’s house. Contact Larry Schille or Sherrie Bilec for more details!
URL:https://freegracefellowship.ca/event/jesus-alphas-14/
END:VEVENT
BEGIN:VEVENT
DTSTART;VALUE=DATE:20240101
DTEND;VALUE=DATE:20240102
DTSTAMP:20260425T054058
CREATED:20240101T194739Z
LAST-MODIFIED:20240101T194739Z
UID:2493-1704067200-1704153599@freegracefellowship.ca
SUMMARY:Happy New Year!!
DESCRIPTION:
URL:https://freegracefellowship.ca/event/happy-new-year/
END:VEVENT
BEGIN:VEVENT
DTSTART;TZID=America/Denver:20231231T083000
DTEND;TZID=America/Denver:20231231T123000
DTSTAMP:20260425T054058
CREATED:20231206T161736Z
LAST-MODIFIED:20231206T161736Z
UID:2468-1704011400-1704025800@freegracefellowship.ca
SUMMARY:CHURCH
DESCRIPTION:
URL:https://freegracefellowship.ca/event/church-5/
END:VEVENT
BEGIN:VEVENT
DTSTART;TZID=America/Denver:20231229T190000
DTEND;TZID=America/Denver:20231229T220000
DTSTAMP:20260425T054058
CREATED:20231206T162341Z
LAST-MODIFIED:20231206T162341Z
UID:2472-1703876400-1703887200@freegracefellowship.ca
SUMMARY:BURN
DESCRIPTION:Come worship our King at Free Grace Fellowship!
URL:https://freegracefellowship.ca/event/burn-2/
END:VEVENT
BEGIN:VEVENT
DTSTART;TZID=America/Denver:20231228T190000
DTEND;TZID=America/Denver:20231228T210000
DTSTAMP:20260425T054058
CREATED:20231206T012002Z
LAST-MODIFIED:20231206T012002Z
UID:2458-1703790000-1703797200@freegracefellowship.ca
SUMMARY:LLY
DESCRIPTION:Love Lethbridge Youth for ages 12-17! Contact Jeremy Van Hierden for more details!
URL:https://freegracefellowship.ca/event/lly-12/
END:VEVENT
BEGIN:VEVENT
DTSTART;TZID=America/Denver:20231227T193000
DTEND;TZID=America/Denver:20231227T213000
DTSTAMP:20260425T054058
CREATED:20231206T011237Z
LAST-MODIFIED:20231206T011238Z
UID:2440-1703705400-1703712600@freegracefellowship.ca
SUMMARY:Wednesday Night Small Group
DESCRIPTION:This is at Graham and Sherry Bretherick’s house\, so please contact them for more details!
URL:https://freegracefellowship.ca/event/wednesday-night-small-group-21/
END:VEVENT
BEGIN:VEVENT
DTSTART;TZID=America/Denver:20231227T190000
DTEND;TZID=America/Denver:20231227T210000
DTSTAMP:20260425T054058
CREATED:20231206T011539Z
LAST-MODIFIED:20231206T011539Z
UID:2448-1703703600-1703710800@freegracefellowship.ca
SUMMARY:Jesus Alpha's
DESCRIPTION:This is at Jon and Sherrie Bilec’s house! Contact them for more details!
URL:https://freegracefellowship.ca/event/jesus-alphas-13/
END:VEVENT
BEGIN:VEVENT
DTSTART;TZID=America/Denver:20231226T190000
DTEND;TZID=America/Denver:20231226T210000
DTSTAMP:20260425T054058
CREATED:20231206T010505Z
LAST-MODIFIED:20231206T010505Z
UID:2428-1703617200-1703624400@freegracefellowship.ca
SUMMARY:Tuesday Night Small Group
DESCRIPTION:This is in the Gathering Grounds of the church. Contact Alan Woodroffe or Sherrie Bilec for more details!
URL:https://freegracefellowship.ca/event/tuesday-night-small-group-21/
END:VEVENT
BEGIN:VEVENT
DTSTART;TZID=America/Denver:20231226T094500
DTEND;TZID=America/Denver:20231226T114500
DTSTAMP:20260425T054058
CREATED:20231206T010933Z
LAST-MODIFIED:20231206T010933Z
UID:2434-1703583900-1703591100@freegracefellowship.ca
SUMMARY:Mom's Group
DESCRIPTION:This is in the Gathering Grounds of the church! Contact Margaret Slingerland for more details!
URL:https://freegracefellowship.ca/event/moms-group-20/
END:VEVENT
BEGIN:VEVENT
DTSTART;VALUE=DATE:20231225
DTEND;VALUE=DATE:20231226
DTSTAMP:20260425T054058
CREATED:20231206T162446Z
LAST-MODIFIED:20231206T182737Z
UID:2476-1703462400-1703548799@freegracefellowship.ca
SUMMARY:Christmas!
DESCRIPTION:Merry Christmas everyone!
URL:https://freegracefellowship.ca/event/christmas/
END:VEVENT
BEGIN:VEVENT
DTSTART;TZID=America/Denver:20231224T083000
DTEND;TZID=America/Denver:20231224T123000
DTSTAMP:20260425T054058
CREATED:20231206T161704Z
LAST-MODIFIED:20231206T161704Z
UID:2466-1703406600-1703421000@freegracefellowship.ca
SUMMARY:CHURCH
DESCRIPTION:
URL:https://freegracefellowship.ca/event/church-4/
END:VEVENT
BEGIN:VEVENT
DTSTART;VALUE=DATE:20231224
DTEND;VALUE=DATE:20231225
DTSTAMP:20260425T054058
CREATED:20231206T162408Z
LAST-MODIFIED:20231206T162408Z
UID:2474-1703376000-1703462399@freegracefellowship.ca
SUMMARY:Christmas Eve!
DESCRIPTION:
URL:https://freegracefellowship.ca/event/christmas-eve/
END:VEVENT
BEGIN:VEVENT
DTSTART;TZID=America/Denver:20231221T190000
DTEND;TZID=America/Denver:20231221T210000
DTSTAMP:20260425T054058
CREATED:20231206T011935Z
LAST-MODIFIED:20231206T011935Z
UID:2456-1703185200-1703192400@freegracefellowship.ca
SUMMARY:LLY
DESCRIPTION:Love Lethbridge Youth for ages 12-17! Contact Jeremy Van Hierden for more details!
URL:https://freegracefellowship.ca/event/lly-11/
END:VEVENT
BEGIN:VEVENT
DTSTART;TZID=America/Denver:20231220T193000
DTEND;TZID=America/Denver:20231220T213000
DTSTAMP:20260425T054058
CREATED:20231206T011152Z
LAST-MODIFIED:20231206T011152Z
UID:2438-1703100600-1703107800@freegracefellowship.ca
SUMMARY:Wednesday Night Small Group
DESCRIPTION:This is at Graham and Sherry Bretherick’s house\, so please contact them for more details!
URL:https://freegracefellowship.ca/event/wednesday-night-small-group-20/
END:VEVENT
BEGIN:VEVENT
DTSTART;TZID=America/Denver:20231220T190000
DTEND;TZID=America/Denver:20231220T210000
DTSTAMP:20260425T054058
CREATED:20231206T011502Z
LAST-MODIFIED:20231206T011502Z
UID:2446-1703098800-1703106000@freegracefellowship.ca
SUMMARY:Jesus Alpha's
DESCRIPTION:This is at Jon and Sherrie Bilec’s house! Contact them for more details!
URL:https://freegracefellowship.ca/event/jesus-alphas-12/
END:VEVENT
BEGIN:VEVENT
DTSTART;TZID=America/Denver:20231219T190000
DTEND;TZID=America/Denver:20231219T210000
DTSTAMP:20260425T054058
CREATED:20231206T162622Z
LAST-MODIFIED:20231206T162622Z
UID:2478-1703012400-1703019600@freegracefellowship.ca
SUMMARY:Ladies Bible Study
DESCRIPTION:This is in the Gathering Grounds of the church! This is for all ladies to come for fellowship and dive into one of the chapters in the Bible!
URL:https://freegracefellowship.ca/event/ladies-bible-study-19/
END:VEVENT
BEGIN:VEVENT
DTSTART;TZID=America/Denver:20231218T193000
DTEND;TZID=America/Denver:20231218T213000
DTSTAMP:20260425T054058
CREATED:20231206T010011Z
LAST-MODIFIED:20231206T010011Z
UID:2420-1702927800-1702935000@freegracefellowship.ca
SUMMARY:Monday Night Small Group
DESCRIPTION:This is at Harvey and Susan Grant’s house! Please contact Bill for more details.
URL:https://freegracefellowship.ca/event/monday-night-small-group-36/
END:VEVENT
BEGIN:VEVENT
DTSTART;TZID=America/Denver:20231218T173000
DTEND;TZID=America/Denver:20231218T213000
DTSTAMP:20260425T054058
CREATED:20231206T010655Z
LAST-MODIFIED:20231206T010655Z
UID:2430-1702920600-1702935000@freegracefellowship.ca
SUMMARY:Tuesday Night Small Group
DESCRIPTION:Potluck at Sherrie and Jon Bilec’s house! Contact Sherrie or Alan for more details!
URL:https://freegracefellowship.ca/event/tuesday-night-small-group-22/
END:VEVENT
BEGIN:VEVENT
DTSTART;TZID=America/Denver:20231217T190000
DTEND;TZID=America/Denver:20231217T220000
DTSTAMP:20260425T054058
CREATED:20231206T183308Z
LAST-MODIFIED:20231206T183308Z
UID:2482-1702839600-1702850400@freegracefellowship.ca
SUMMARY:Th Color
DESCRIPTION:The Color will be at One Life Church and the doors open at 6:30pm and it starts at 7pm. This is a Christmas concert for all ages and a fun event for the whole family! Tickets are $15 and can be purchased at www.thecoloronline.com/shows.
URL:https://freegracefellowship.ca/event/th-color/
END:VEVENT
BEGIN:VEVENT
DTSTART;TZID=America/Denver:20231217T190000
DTEND;TZID=America/Denver:20231217T210000
DTSTAMP:20260425T054058
CREATED:20231206T162221Z
LAST-MODIFIED:20231206T162221Z
UID:2470-1702839600-1702846800@freegracefellowship.ca
SUMMARY:The Annual Young Adults Christmas Semi-Formal
DESCRIPTION:This will be at the Fehr’s house! Contact Suzanne DeGroot for more details!
URL:https://freegracefellowship.ca/event/the-annual-young-adults-christmas-semi-formal/
END:VEVENT
BEGIN:VEVENT
DTSTART;TZID=America/Denver:20231217T083000
DTEND;TZID=America/Denver:20231217T123000
DTSTAMP:20260425T054058
CREATED:20231206T161614Z
LAST-MODIFIED:20231206T161614Z
UID:2464-1702801800-1702816200@freegracefellowship.ca
SUMMARY:CHURCH
DESCRIPTION:
URL:https://freegracefellowship.ca/event/church-3/
END:VEVENT
BEGIN:VEVENT
DTSTART;TZID=America/Denver:20231214T190000
DTEND;TZID=America/Denver:20231214T210000
DTSTAMP:20260425T054058
CREATED:20231206T011906Z
LAST-MODIFIED:20231206T011906Z
UID:2454-1702580400-1702587600@freegracefellowship.ca
SUMMARY:LLY
DESCRIPTION:Love Lethbridge Youth for ages 12-17! Contact Jeremy Van Hierden for more details!
URL:https://freegracefellowship.ca/event/lly-10/
END:VEVENT
BEGIN:VEVENT
DTSTART;TZID=America/Denver:20231213T193000
DTEND;TZID=America/Denver:20231213T213000
DTSTAMP:20260425T054058
CREATED:20231206T183206Z
LAST-MODIFIED:20231206T183206Z
UID:2480-1702495800-1702503000@freegracefellowship.ca
SUMMARY:Corporate Prayer Meeting
DESCRIPTION:Our Free Grace Corporate Prayer Meeting is in the Gathering Grounds Room in the church basement. Please consider coming and praying with us over our church community\, city\, country\, and world.
URL:https://freegracefellowship.ca/event/corporate-prayer-meeting-14/
END:VEVENT
END:VCALENDAR