BEGIN:VCALENDAR
VERSION:2.0
PRODID:-//Free Grace Fellowship - ECPv6.15.20//NONSGML v1.0//EN
CALSCALE:GREGORIAN
METHOD:PUBLISH
X-WR-CALNAME:Free Grace Fellowship
X-ORIGINAL-URL:https://freegracefellowship.ca
X-WR-CALDESC:Events for Free Grace Fellowship
REFRESH-INTERVAL;VALUE=DURATION:PT1H
X-Robots-Tag:noindex
X-PUBLISHED-TTL:PT1H
BEGIN:VTIMEZONE
TZID:America/Denver
BEGIN:DAYLIGHT
TZOFFSETFROM:-0700
TZOFFSETTO:-0600
TZNAME:MDT
DTSTART:20250309T090000
END:DAYLIGHT
BEGIN:STANDARD
TZOFFSETFROM:-0600
TZOFFSETTO:-0700
TZNAME:MST
DTSTART:20251102T080000
END:STANDARD
BEGIN:DAYLIGHT
TZOFFSETFROM:-0700
TZOFFSETTO:-0600
TZNAME:MDT
DTSTART:20260308T090000
END:DAYLIGHT
BEGIN:STANDARD
TZOFFSETFROM:-0600
TZOFFSETTO:-0700
TZNAME:MST
DTSTART:20261101T080000
END:STANDARD
BEGIN:DAYLIGHT
TZOFFSETFROM:-0700
TZOFFSETTO:-0600
TZNAME:MDT
DTSTART:20270314T090000
END:DAYLIGHT
BEGIN:STANDARD
TZOFFSETFROM:-0600
TZOFFSETTO:-0700
TZNAME:MST
DTSTART:20271107T080000
END:STANDARD
END:VTIMEZONE
BEGIN:VEVENT
DTSTART;TZID=America/Denver:20260303T190000
DTEND;TZID=America/Denver:20260303T210000
DTSTAMP:20260423T134023
CREATED:20260313T031154Z
LAST-MODIFIED:20260313T031154Z
UID:3756-1772564400-1772571600@freegracefellowship.ca
SUMMARY:Tuesday Night Small Group
DESCRIPTION:
URL:https://freegracefellowship.ca/event/tuesday-night-small-group-90/
END:VEVENT
BEGIN:VEVENT
DTSTART;TZID=America/Denver:20260301T093000
DTEND;TZID=America/Denver:20260301T120000
DTSTAMP:20260423T134023
CREATED:20260313T031127Z
LAST-MODIFIED:20260313T031127Z
UID:3754-1772357400-1772366400@freegracefellowship.ca
SUMMARY:Communion Sunday
DESCRIPTION:
URL:https://freegracefellowship.ca/event/communion-sunday-10/
END:VEVENT
BEGIN:VEVENT
DTSTART;TZID=America/Denver:20260226T190000
DTEND;TZID=America/Denver:20260226T210000
DTSTAMP:20260423T134023
CREATED:20260212T034311Z
LAST-MODIFIED:20260212T034311Z
UID:3746-1772132400-1772139600@freegracefellowship.ca
SUMMARY:LLY
DESCRIPTION:
URL:https://freegracefellowship.ca/event/lly-55/
END:VEVENT
BEGIN:VEVENT
DTSTART;TZID=America/Denver:20260225T190000
DTEND;TZID=America/Denver:20260225T210000
DTSTAMP:20260423T134023
CREATED:20260212T034251Z
LAST-MODIFIED:20260212T034251Z
UID:3744-1772046000-1772053200@freegracefellowship.ca
SUMMARY:Wednesday Night Small Group
DESCRIPTION:
URL:https://freegracefellowship.ca/event/wednesday-night-small-group-88/
END:VEVENT
BEGIN:VEVENT
DTSTART;TZID=America/Denver:20260224T190000
DTEND;TZID=America/Denver:20260224T210000
DTSTAMP:20260423T134023
CREATED:20260212T034155Z
LAST-MODIFIED:20260212T034155Z
UID:3740-1771959600-1771966800@freegracefellowship.ca
SUMMARY:Mattheology Small Group
DESCRIPTION:
URL:https://freegracefellowship.ca/event/mattheology-small-group-41/
END:VEVENT
BEGIN:VEVENT
DTSTART;TZID=America/Denver:20260224T190000
DTEND;TZID=America/Denver:20260224T210000
DTSTAMP:20260423T134023
CREATED:20260212T034130Z
LAST-MODIFIED:20260212T034130Z
UID:3738-1771959600-1771966800@freegracefellowship.ca
SUMMARY:Tuesday Night Small Group
DESCRIPTION:
URL:https://freegracefellowship.ca/event/tuesday-night-small-group-89/
END:VEVENT
BEGIN:VEVENT
DTSTART;TZID=America/Denver:20260224T093000
DTEND;TZID=America/Denver:20260224T113000
DTSTAMP:20260423T134023
CREATED:20260212T034219Z
LAST-MODIFIED:20260212T034219Z
UID:3742-1771925400-1771932600@freegracefellowship.ca
SUMMARY:Mom's Group
DESCRIPTION:
URL:https://freegracefellowship.ca/event/moms-group-55/
END:VEVENT
BEGIN:VEVENT
DTSTART;TZID=America/Denver:20260221T190000
DTEND;TZID=America/Denver:20260221T210000
DTSTAMP:20260423T134023
CREATED:20260212T034341Z
LAST-MODIFIED:20260212T034341Z
UID:3748-1771700400-1771707600@freegracefellowship.ca
SUMMARY:Young Adults
DESCRIPTION:
URL:https://freegracefellowship.ca/event/young-adults-61/
END:VEVENT
BEGIN:VEVENT
DTSTART;TZID=America/Denver:20260219T190000
DTEND;TZID=America/Denver:20260219T210000
DTSTAMP:20260423T134023
CREATED:20260212T034104Z
LAST-MODIFIED:20260212T034104Z
UID:3736-1771527600-1771534800@freegracefellowship.ca
SUMMARY:LLY
DESCRIPTION:
URL:https://freegracefellowship.ca/event/lly-54/
END:VEVENT
BEGIN:VEVENT
DTSTART;TZID=America/Denver:20260218T190000
DTEND;TZID=America/Denver:20260218T210000
DTSTAMP:20260423T134023
CREATED:20260212T034041Z
LAST-MODIFIED:20260212T034041Z
UID:3734-1771441200-1771448400@freegracefellowship.ca
SUMMARY:Wednesday Night Small Group
DESCRIPTION:
URL:https://freegracefellowship.ca/event/wednesday-night-small-group-87/
END:VEVENT
BEGIN:VEVENT
DTSTART;TZID=America/Denver:20260217T190000
DTEND;TZID=America/Denver:20260217T210000
DTSTAMP:20260423T134023
CREATED:20260212T034014Z
LAST-MODIFIED:20260212T034014Z
UID:3731-1771354800-1771362000@freegracefellowship.ca
SUMMARY:Ladies' Bible Study
DESCRIPTION:
URL:https://freegracefellowship.ca/event/ladies-bible-study-38/
END:VEVENT
BEGIN:VEVENT
DTSTART;TZID=America/Denver:20260217T190000
DTEND;TZID=America/Denver:20260217T210000
DTSTAMP:20260423T134023
CREATED:20260212T033947Z
LAST-MODIFIED:20260212T033947Z
UID:3729-1771354800-1771362000@freegracefellowship.ca
SUMMARY:Tuesday Night Small Group
DESCRIPTION:
URL:https://freegracefellowship.ca/event/tuesday-night-small-group-88/
END:VEVENT
BEGIN:VEVENT
DTSTART;TZID=America/Denver:20260217T190000
DTEND;TZID=America/Denver:20260217T210000
DTSTAMP:20260423T134023
CREATED:20260212T033921Z
LAST-MODIFIED:20260212T033921Z
UID:3727-1771354800-1771362000@freegracefellowship.ca
SUMMARY:Mattheology Small Group
DESCRIPTION:
URL:https://freegracefellowship.ca/event/mattheology-small-group-40/
END:VEVENT
BEGIN:VEVENT
DTSTART;TZID=America/Denver:20260212T190000
DTEND;TZID=America/Denver:20260212T210000
DTSTAMP:20260423T134023
CREATED:20260212T033714Z
LAST-MODIFIED:20260212T034446Z
UID:3719-1770922800-1770930000@freegracefellowship.ca
SUMMARY:LLY
DESCRIPTION:
URL:https://freegracefellowship.ca/event/lly-53/
END:VEVENT
BEGIN:VEVENT
DTSTART;TZID=America/Denver:20260211T190000
DTEND;TZID=America/Denver:20260211T210000
DTSTAMP:20260423T134023
CREATED:20260212T033651Z
LAST-MODIFIED:20260212T033651Z
UID:3717-1770836400-1770843600@freegracefellowship.ca
SUMMARY:Corporate Prayer Meeting
DESCRIPTION:
URL:https://freegracefellowship.ca/event/corporate-prayer-meeting-31/
END:VEVENT
BEGIN:VEVENT
DTSTART;TZID=America/Denver:20260210T190000
DTEND;TZID=America/Denver:20260210T210000
DTSTAMP:20260423T134023
CREATED:20260212T033625Z
LAST-MODIFIED:20260212T033625Z
UID:3715-1770750000-1770757200@freegracefellowship.ca
SUMMARY:Mattheology Small Group
DESCRIPTION:
URL:https://freegracefellowship.ca/event/mattheology-small-group-39/
END:VEVENT
BEGIN:VEVENT
DTSTART;TZID=America/Denver:20260210T190000
DTEND;TZID=America/Denver:20260210T210000
DTSTAMP:20260423T134023
CREATED:20260212T033559Z
LAST-MODIFIED:20260212T033559Z
UID:3713-1770750000-1770757200@freegracefellowship.ca
SUMMARY:Tuesday Night Small Group
DESCRIPTION:
URL:https://freegracefellowship.ca/event/tuesday-night-small-group-87/
END:VEVENT
BEGIN:VEVENT
DTSTART;TZID=America/Denver:20260210T093000
DTEND;TZID=America/Denver:20260210T113000
DTSTAMP:20260423T134023
CREATED:20260212T033816Z
LAST-MODIFIED:20260212T033816Z
UID:3723-1770715800-1770723000@freegracefellowship.ca
SUMMARY:Mom's Group
DESCRIPTION:
URL:https://freegracefellowship.ca/event/moms-group-54/
END:VEVENT
BEGIN:VEVENT
DTSTART;TZID=America/Denver:20260207T190000
DTEND;TZID=America/Denver:20260207T210000
DTSTAMP:20260423T134023
CREATED:20260212T033842Z
LAST-MODIFIED:20260212T033842Z
UID:3725-1770490800-1770498000@freegracefellowship.ca
SUMMARY:Young Adults
DESCRIPTION:
URL:https://freegracefellowship.ca/event/young-adults-60/
END:VEVENT
BEGIN:VEVENT
DTSTART;TZID=America/Denver:20260207T100000
DTEND;TZID=America/Denver:20260207T120000
DTSTAMP:20260423T134023
CREATED:20260212T033215Z
LAST-MODIFIED:20260212T033215Z
UID:3701-1770458400-1770465600@freegracefellowship.ca
SUMMARY:Evangelism Training
DESCRIPTION:
URL:https://freegracefellowship.ca/event/evangelism-training-39/
END:VEVENT
BEGIN:VEVENT
DTSTART;TZID=America/Denver:20260205T190000
DTEND;TZID=America/Denver:20260205T210000
DTSTAMP:20260423T134023
CREATED:20260212T033512Z
LAST-MODIFIED:20260212T033512Z
UID:3711-1770318000-1770325200@freegracefellowship.ca
SUMMARY:LLY
DESCRIPTION:
URL:https://freegracefellowship.ca/event/lly-52/
END:VEVENT
BEGIN:VEVENT
DTSTART;TZID=America/Denver:20260205T100000
DTEND;TZID=America/Denver:20260205T120000
DTSTAMP:20260423T134023
CREATED:20260212T033747Z
LAST-MODIFIED:20260212T033747Z
UID:3721-1770285600-1770292800@freegracefellowship.ca
SUMMARY:Senior Ladies' Bible Study
DESCRIPTION:
URL:https://freegracefellowship.ca/event/senior-ladies-bible-study-7/
END:VEVENT
BEGIN:VEVENT
DTSTART;TZID=America/Denver:20260204T190000
DTEND;TZID=America/Denver:20260204T210000
DTSTAMP:20260423T134023
CREATED:20260212T033439Z
LAST-MODIFIED:20260212T033439Z
UID:3709-1770231600-1770238800@freegracefellowship.ca
SUMMARY:Wednesday Night Small Group
DESCRIPTION:
URL:https://freegracefellowship.ca/event/wednesday-night-small-group-84/
END:VEVENT
BEGIN:VEVENT
DTSTART;TZID=America/Denver:20260203T190000
DTEND;TZID=America/Denver:20260203T210000
DTSTAMP:20260423T134023
CREATED:20260212T033409Z
LAST-MODIFIED:20260212T033409Z
UID:3707-1770145200-1770152400@freegracefellowship.ca
SUMMARY:Mattheology Small Group
DESCRIPTION:
URL:https://freegracefellowship.ca/event/mattheology-small-group-38/
END:VEVENT
BEGIN:VEVENT
DTSTART;TZID=America/Denver:20260203T190000
DTEND;TZID=America/Denver:20260203T210000
DTSTAMP:20260423T134023
CREATED:20260212T033336Z
LAST-MODIFIED:20260212T033336Z
UID:3705-1770145200-1770152400@freegracefellowship.ca
SUMMARY:Tuesday Night Small Group
DESCRIPTION:
URL:https://freegracefellowship.ca/event/tuesday-night-small-group-86/
END:VEVENT
BEGIN:VEVENT
DTSTART;TZID=America/Denver:20260201T093000
DTEND;TZID=America/Denver:20260201T120000
DTSTAMP:20260423T134023
CREATED:20260212T033253Z
LAST-MODIFIED:20260212T033253Z
UID:3703-1769938200-1769947200@freegracefellowship.ca
SUMMARY:Communion Sunday
DESCRIPTION:
URL:https://freegracefellowship.ca/event/communion-sunday-9/
END:VEVENT
BEGIN:VEVENT
DTSTART;TZID=America/Denver:20260129T190000
DTEND;TZID=America/Denver:20260129T210000
DTSTAMP:20260423T134023
CREATED:20260104T060618Z
LAST-MODIFIED:20260104T060618Z
UID:3696-1769713200-1769720400@freegracefellowship.ca
SUMMARY:LLY
DESCRIPTION:
URL:https://freegracefellowship.ca/event/lly-51/
END:VEVENT
BEGIN:VEVENT
DTSTART;TZID=America/Denver:20260128T190000
DTEND;TZID=America/Denver:20260128T210000
DTSTAMP:20260423T134023
CREATED:20260104T060543Z
LAST-MODIFIED:20260104T060543Z
UID:3694-1769626800-1769634000@freegracefellowship.ca
SUMMARY:Wednesday Night Small Group
DESCRIPTION:
URL:https://freegracefellowship.ca/event/wednesday-night-small-group-86/
END:VEVENT
BEGIN:VEVENT
DTSTART;TZID=America/Denver:20260127T190000
DTEND;TZID=America/Denver:20260127T210000
DTSTAMP:20260423T134023
CREATED:20260104T060514Z
LAST-MODIFIED:20260104T060514Z
UID:3692-1769540400-1769547600@freegracefellowship.ca
SUMMARY:Mattheology Small Group
DESCRIPTION:
URL:https://freegracefellowship.ca/event/mattheology-small-group-37/
END:VEVENT
BEGIN:VEVENT
DTSTART;TZID=America/Denver:20260127T190000
DTEND;TZID=America/Denver:20260127T210000
DTSTAMP:20260423T134023
CREATED:20260104T060445Z
LAST-MODIFIED:20260104T060445Z
UID:3690-1769540400-1769547600@freegracefellowship.ca
SUMMARY:Tuesday Night Small Group
DESCRIPTION:
URL:https://freegracefellowship.ca/event/tuesday-night-small-group-85/
END:VEVENT
END:VCALENDAR