BEGIN:VCALENDAR
VERSION:2.0
PRODID:-//Free Grace Fellowship - ECPv6.15.20//NONSGML v1.0//EN
CALSCALE:GREGORIAN
METHOD:PUBLISH
X-WR-CALNAME:Free Grace Fellowship
X-ORIGINAL-URL:https://freegracefellowship.ca
X-WR-CALDESC:Events for Free Grace Fellowship
REFRESH-INTERVAL;VALUE=DURATION:PT1H
X-Robots-Tag:noindex
X-PUBLISHED-TTL:PT1H
BEGIN:VTIMEZONE
TZID:America/Denver
BEGIN:DAYLIGHT
TZOFFSETFROM:-0700
TZOFFSETTO:-0600
TZNAME:MDT
DTSTART:20240310T090000
END:DAYLIGHT
BEGIN:STANDARD
TZOFFSETFROM:-0600
TZOFFSETTO:-0700
TZNAME:MST
DTSTART:20241103T080000
END:STANDARD
BEGIN:DAYLIGHT
TZOFFSETFROM:-0700
TZOFFSETTO:-0600
TZNAME:MDT
DTSTART:20250309T090000
END:DAYLIGHT
BEGIN:STANDARD
TZOFFSETFROM:-0600
TZOFFSETTO:-0700
TZNAME:MST
DTSTART:20251102T080000
END:STANDARD
BEGIN:DAYLIGHT
TZOFFSETFROM:-0700
TZOFFSETTO:-0600
TZNAME:MDT
DTSTART:20260308T090000
END:DAYLIGHT
BEGIN:STANDARD
TZOFFSETFROM:-0600
TZOFFSETTO:-0700
TZNAME:MST
DTSTART:20261101T080000
END:STANDARD
END:VTIMEZONE
BEGIN:VEVENT
DTSTART;TZID=America/Denver:20250517T100000
DTEND;TZID=America/Denver:20250517T120000
DTSTAMP:20260424T062115
CREATED:20250506T045750Z
LAST-MODIFIED:20250506T045750Z
UID:3375-1747476000-1747483200@freegracefellowship.ca
SUMMARY:Evangelism Training
DESCRIPTION:
URL:https://freegracefellowship.ca/event/evangelism-training-16/
LOCATION:Free Grace Fellowship Church\, 1807 2A Ave N\, Lethbridge\, AB\, Canada
END:VEVENT
BEGIN:VEVENT
DTSTART;TZID=America/Denver:20250515T190000
DTEND;TZID=America/Denver:20250515T210000
DTSTAMP:20260424T062115
CREATED:20250506T045055Z
LAST-MODIFIED:20250506T045055Z
UID:3359-1747335600-1747342800@freegracefellowship.ca
SUMMARY:LoveLethbridge Youth
DESCRIPTION:
URL:https://freegracefellowship.ca/event/lovelethbridge-youth-7/
LOCATION:Free Grace Fellowship Church\, 1807 2A Ave N\, Lethbridge\, AB\, Canada
END:VEVENT
BEGIN:VEVENT
DTSTART;TZID=America/Denver:20250514T190000
DTEND;TZID=America/Denver:20250514T210000
DTSTAMP:20260424T062115
CREATED:20250506T051948Z
LAST-MODIFIED:20250506T051948Z
UID:3425-1747249200-1747256400@freegracefellowship.ca
SUMMARY:DivorceCare
DESCRIPTION:
URL:https://freegracefellowship.ca/event/divorcecare-25/
LOCATION:Free Grace Fellowship Church\, 1807 2A Ave N\, Lethbridge\, AB\, Canada
END:VEVENT
BEGIN:VEVENT
DTSTART;TZID=America/Denver:20250514T190000
DTEND;TZID=America/Denver:20250514T210000
DTSTAMP:20260424T062115
CREATED:20250506T051033Z
LAST-MODIFIED:20250506T051033Z
UID:3409-1747249200-1747256400@freegracefellowship.ca
SUMMARY:Corporate Prayer Meeting
DESCRIPTION:
URL:https://freegracefellowship.ca/event/corporate-prayer-meeting-26/
LOCATION:Free Grace Fellowship Church\, 1807 2A Ave N\, Lethbridge\, AB\, Canada
END:VEVENT
BEGIN:VEVENT
DTSTART;TZID=America/Denver:20250513T190000
DTEND;TZID=America/Denver:20250513T210000
DTSTAMP:20260424T062115
CREATED:20250506T051908Z
LAST-MODIFIED:20250506T051908Z
UID:3423-1747162800-1747170000@freegracefellowship.ca
SUMMARY:Mattheology Group
DESCRIPTION:
URL:https://freegracefellowship.ca/event/mattheology-group-11/
LOCATION:Free Grace Fellowship Church\, 1807 2A Ave N\, Lethbridge\, AB\, Canada
END:VEVENT
BEGIN:VEVENT
DTSTART;TZID=America/Denver:20250513T190000
DTEND;TZID=America/Denver:20250513T210000
DTSTAMP:20260424T062115
CREATED:20250506T044808Z
LAST-MODIFIED:20250506T044808Z
UID:3351-1747162800-1747170000@freegracefellowship.ca
SUMMARY:Tuesday Night Small Group
DESCRIPTION:
URL:https://freegracefellowship.ca/event/tuesday-night-small-group-66/
LOCATION:The Gathering Grounds
END:VEVENT
BEGIN:VEVENT
DTSTART;TZID=America/Denver:20250511T180000
DTEND;TZID=America/Denver:20250511T200000
DTSTAMP:20260424T062115
CREATED:20250506T043834Z
LAST-MODIFIED:20250506T043834Z
UID:3343-1746986400-1746993600@freegracefellowship.ca
SUMMARY:Evening Worship
DESCRIPTION:
URL:https://freegracefellowship.ca/event/evening-worship-10/
LOCATION:Free Grace Fellowship Church\, 1807 2A Ave N\, Lethbridge\, AB\, Canada
END:VEVENT
BEGIN:VEVENT
DTSTART;TZID=America/Denver:20250510T190000
DTEND;TZID=America/Denver:20250510T210000
DTSTAMP:20260424T062115
CREATED:20250506T051511Z
LAST-MODIFIED:20250506T051511Z
UID:3419-1746903600-1746910800@freegracefellowship.ca
SUMMARY:Young Adults Group
DESCRIPTION:
URL:https://freegracefellowship.ca/event/young-adults-group/
END:VEVENT
BEGIN:VEVENT
DTSTART;TZID=America/Denver:20250510T100000
DTEND;TZID=America/Denver:20250510T120000
DTSTAMP:20260424T062115
CREATED:20250506T043751Z
LAST-MODIFIED:20250506T043751Z
UID:3341-1746871200-1746878400@freegracefellowship.ca
SUMMARY:Evangelism Training
DESCRIPTION:
URL:https://freegracefellowship.ca/event/evangelism-training-15/
LOCATION:Free Grace Fellowship Church\, 1807 2A Ave N\, Lethbridge\, AB\, Canada
END:VEVENT
BEGIN:VEVENT
DTSTART;TZID=America/Denver:20250508T190000
DTEND;TZID=America/Denver:20250508T210000
DTSTAMP:20260424T062115
CREATED:20250506T044702Z
LAST-MODIFIED:20250506T044702Z
UID:3349-1746730800-1746738000@freegracefellowship.ca
SUMMARY:LoveLethbridge Youth
DESCRIPTION:
URL:https://freegracefellowship.ca/event/lovelethbridge-youth-6/
LOCATION:Free Grace Fellowship Church\, 1807 2A Ave N\, Lethbridge\, AB\, Canada
END:VEVENT
BEGIN:VEVENT
DTSTART;TZID=America/Denver:20250507T190000
DTEND;TZID=America/Denver:20250507T210000
DTSTAMP:20260424T062115
CREATED:20250506T044940Z
LAST-MODIFIED:20250506T044940Z
UID:3355-1746644400-1746651600@freegracefellowship.ca
SUMMARY:Wednesday Night Small Group
DESCRIPTION:
URL:https://freegracefellowship.ca/event/wednesday-night-small-group-69/
LOCATION:Graham & Sherry’s House
END:VEVENT
BEGIN:VEVENT
DTSTART;TZID=America/Denver:20250507T190000
DTEND;TZID=America/Denver:20250507T210000
DTSTAMP:20260424T062115
CREATED:20250506T044029Z
LAST-MODIFIED:20250506T044029Z
UID:3347-1746644400-1746651600@freegracefellowship.ca
SUMMARY:DivorceCare
DESCRIPTION:
URL:https://freegracefellowship.ca/event/divorcecare-22/
LOCATION:Free Grace Fellowship Church\, 1807 2A Ave N\, Lethbridge\, AB\, Canada
END:VEVENT
BEGIN:VEVENT
DTSTART;TZID=America/Denver:20250507T100000
DTEND;TZID=America/Denver:20250507T120000
DTSTAMP:20260424T062115
CREATED:20250506T051231Z
LAST-MODIFIED:20250506T051231Z
UID:3413-1746612000-1746619200@freegracefellowship.ca
SUMMARY:Senior Ladies' Bible Study
DESCRIPTION:
URL:https://freegracefellowship.ca/event/senior-ladies-bible-study-6/
LOCATION:Margaret’s Residence
END:VEVENT
BEGIN:VEVENT
DTSTART;TZID=America/Denver:20250506T190000
DTEND;TZID=America/Denver:20250506T210000
DTSTAMP:20260424T062115
CREATED:20250506T043707Z
LAST-MODIFIED:20250506T043707Z
UID:3339-1746558000-1746565200@freegracefellowship.ca
SUMMARY:Mattheology Group
DESCRIPTION:
URL:https://freegracefellowship.ca/event/mattheology-group-7/
LOCATION:Free Grace Fellowship Church\, 1807 2A Ave N\, Lethbridge\, AB\, Canada
END:VEVENT
BEGIN:VEVENT
DTSTART;TZID=America/Denver:20250506T190000
DTEND;TZID=America/Denver:20250506T210000
DTSTAMP:20260424T062115
CREATED:20250506T043616Z
LAST-MODIFIED:20250506T043616Z
UID:3337-1746558000-1746565200@freegracefellowship.ca
SUMMARY:Tuesday Night Small Group
DESCRIPTION:
URL:https://freegracefellowship.ca/event/tuesday-night-small-group-65/
LOCATION:The Gathering Grounds
END:VEVENT
BEGIN:VEVENT
DTSTART;TZID=America/Denver:20250506T093000
DTEND;TZID=America/Denver:20250506T113000
DTSTAMP:20260424T062115
CREATED:20250506T043529Z
LAST-MODIFIED:20250506T043529Z
UID:3335-1746523800-1746531000@freegracefellowship.ca
SUMMARY:Mom's Group
DESCRIPTION:
URL:https://freegracefellowship.ca/event/moms-group-46/
LOCATION:The Gathering Grounds
END:VEVENT
BEGIN:VEVENT
DTSTART;TZID=America/Denver:20250505T190000
DTEND;TZID=America/Denver:20250505T210000
DTSTAMP:20260424T062115
CREATED:20250506T045016Z
LAST-MODIFIED:20250506T045016Z
UID:3357-1746471600-1746478800@freegracefellowship.ca
SUMMARY:DivorceCare
DESCRIPTION:
URL:https://freegracefellowship.ca/event/divorcecare-23/
LOCATION:Free Grace Fellowship Church\, 1807 2A Ave N\, Lethbridge\, AB\, Canada
END:VEVENT
BEGIN:VEVENT
DTSTART;TZID=America/Denver:20250505T190000
DTEND;TZID=America/Denver:20250505T210000
DTSTAMP:20260424T062115
CREATED:20250506T044854Z
LAST-MODIFIED:20250506T044854Z
UID:3353-1746471600-1746478800@freegracefellowship.ca
SUMMARY:Mattheology Group
DESCRIPTION:
URL:https://freegracefellowship.ca/event/mattheology-group-8/
LOCATION:Free Grace Fellowship Church\, 1807 2A Ave N\, Lethbridge\, AB\, Canada
END:VEVENT
BEGIN:VEVENT
DTSTART;TZID=America/Denver:20250505T190000
DTEND;TZID=America/Denver:20250505T210000
DTSTAMP:20260424T062115
CREATED:20250506T043950Z
LAST-MODIFIED:20250506T043950Z
UID:3345-1746471600-1746478800@freegracefellowship.ca
SUMMARY:Wednesday Night Small Group
DESCRIPTION:
URL:https://freegracefellowship.ca/event/wednesday-night-small-group-68/
LOCATION:Graham & Sherry’s House
END:VEVENT
BEGIN:VEVENT
DTSTART;TZID=America/Denver:20250504T180000
DTEND;TZID=America/Denver:20250504T200000
DTSTAMP:20260424T062115
CREATED:20250506T051408Z
LAST-MODIFIED:20250506T051408Z
UID:3417-1746381600-1746388800@freegracefellowship.ca
SUMMARY:Evening Worship
DESCRIPTION:
URL:https://freegracefellowship.ca/event/evening-worship-14/
LOCATION:Free Grace Fellowship Church\, 1807 2A Ave N\, Lethbridge\, AB\, Canada
END:VEVENT
BEGIN:VEVENT
DTSTART;TZID=America/Denver:20250503T100000
DTEND;TZID=America/Denver:20250503T120000
DTSTAMP:20260424T062115
CREATED:20250506T051331Z
LAST-MODIFIED:20250506T051331Z
UID:3415-1746266400-1746273600@freegracefellowship.ca
SUMMARY:Evangelism Training
DESCRIPTION:
URL:https://freegracefellowship.ca/event/evangelism-training-20/
LOCATION:Free Grace Fellowship Church\, 1807 2A Ave N\, Lethbridge\, AB\, Canada
END:VEVENT
BEGIN:VEVENT
DTSTART;TZID=America/Denver:20250430T190000
DTEND;TZID=America/Denver:20250430T210000
DTSTAMP:20260424T062115
CREATED:20250330T010622Z
LAST-MODIFIED:20250330T010622Z
UID:3304-1746039600-1746046800@freegracefellowship.ca
SUMMARY:DivorceCare
DESCRIPTION:
URL:https://freegracefellowship.ca/event/divorcecare-21/
LOCATION:Free Grace Fellowship Church\, 1807 2A Ave N\, Lethbridge\, AB\, Canada
END:VEVENT
BEGIN:VEVENT
DTSTART;TZID=America/Denver:20250430T190000
DTEND;TZID=America/Denver:20250430T210000
DTSTAMP:20260424T062115
CREATED:20250330T010231Z
LAST-MODIFIED:20250330T010231Z
UID:3294-1746039600-1746046800@freegracefellowship.ca
SUMMARY:Wednesday Night Small Group
DESCRIPTION:
URL:https://freegracefellowship.ca/event/wednesday-night-small-group-67/
LOCATION:Graham & Sherry’s House
END:VEVENT
BEGIN:VEVENT
DTSTART;TZID=America/Denver:20250429T190000
DTEND;TZID=America/Denver:20250429T210000
DTSTAMP:20260424T062115
CREATED:20250330T005601Z
LAST-MODIFIED:20250330T005601Z
UID:3285-1745953200-1745960400@freegracefellowship.ca
SUMMARY:Tuesday Night Small Group
DESCRIPTION:
URL:https://freegracefellowship.ca/event/tuesday-night-small-group-64/
LOCATION:The Gathering Grounds
END:VEVENT
BEGIN:VEVENT
DTSTART;TZID=America/Denver:20250429T190000
DTEND;TZID=America/Denver:20250429T210000
DTSTAMP:20260424T062115
CREATED:20250330T005111Z
LAST-MODIFIED:20250330T005111Z
UID:3273-1745953200-1745960400@freegracefellowship.ca
SUMMARY:Mattheology Small Group
DESCRIPTION:
URL:https://freegracefellowship.ca/event/mattheology-small-group-21/
LOCATION:Free Grace Fellowship Church\, 1807 2A Ave N\, Lethbridge\, AB\, Canada
END:VEVENT
BEGIN:VEVENT
DTSTART;TZID=America/Denver:20250427T180000
DTEND;TZID=America/Denver:20250427T200000
DTSTAMP:20260424T062115
CREATED:20250330T011524Z
LAST-MODIFIED:20250330T011524Z
UID:3322-1745776800-1745784000@freegracefellowship.ca
SUMMARY:Evening Worship
DESCRIPTION:
URL:https://freegracefellowship.ca/event/evening-worship-9/
LOCATION:Free Grace Fellowship Church\, 1807 2A Ave N\, Lethbridge\, AB\, Canada
END:VEVENT
BEGIN:VEVENT
DTSTART;TZID=America/Denver:20250426T100000
DTEND;TZID=America/Denver:20250426T120000
DTSTAMP:20260424T062115
CREATED:20250330T010959Z
LAST-MODIFIED:20250330T010959Z
UID:3312-1745661600-1745668800@freegracefellowship.ca
SUMMARY:Evangelism Training
DESCRIPTION:
URL:https://freegracefellowship.ca/event/evangelism-training-14/
LOCATION:Free Grace Fellowship Church\, 1807 2A Ave N\, Lethbridge\, AB\, Canada
END:VEVENT
BEGIN:VEVENT
DTSTART;TZID=America/Denver:20250423T190000
DTEND;TZID=America/Denver:20250423T210000
DTSTAMP:20260424T062115
CREATED:20250330T010539Z
LAST-MODIFIED:20250330T010539Z
UID:3302-1745434800-1745442000@freegracefellowship.ca
SUMMARY:DivorceCare
DESCRIPTION:
URL:https://freegracefellowship.ca/event/divorcecare-20/
LOCATION:Free Grace Fellowship Church\, 1807 2A Ave N\, Lethbridge\, AB\, Canada
END:VEVENT
BEGIN:VEVENT
DTSTART;TZID=America/Denver:20250423T190000
DTEND;TZID=America/Denver:20250423T210000
DTSTAMP:20260424T062115
CREATED:20250330T010149Z
LAST-MODIFIED:20250330T010149Z
UID:3292-1745434800-1745442000@freegracefellowship.ca
SUMMARY:Wednesday Night Small Group
DESCRIPTION:
URL:https://freegracefellowship.ca/event/wednesday-night-small-group-66/
LOCATION:Graham & Sherry’s House
END:VEVENT
BEGIN:VEVENT
DTSTART;TZID=America/Denver:20250422T190000
DTEND;TZID=America/Denver:20250422T210000
DTSTAMP:20260424T062115
CREATED:20250330T005509Z
LAST-MODIFIED:20250330T005509Z
UID:3283-1745348400-1745355600@freegracefellowship.ca
SUMMARY:Tuesday Night Small Group
DESCRIPTION:
URL:https://freegracefellowship.ca/event/tuesday-night-small-group-63/
LOCATION:The Gathering Grounds
END:VEVENT
END:VCALENDAR