BEGIN:VCALENDAR
VERSION:2.0
PRODID:-//Free Grace Fellowship - ECPv6.15.20//NONSGML v1.0//EN
CALSCALE:GREGORIAN
METHOD:PUBLISH
X-ORIGINAL-URL:https://freegracefellowship.ca
X-WR-CALDESC:Events for Free Grace Fellowship
REFRESH-INTERVAL;VALUE=DURATION:PT1H
X-Robots-Tag:noindex
X-PUBLISHED-TTL:PT1H
BEGIN:VTIMEZONE
TZID:America/Denver
BEGIN:DAYLIGHT
TZOFFSETFROM:-0700
TZOFFSETTO:-0600
TZNAME:MDT
DTSTART:20220313T090000
END:DAYLIGHT
BEGIN:STANDARD
TZOFFSETFROM:-0600
TZOFFSETTO:-0700
TZNAME:MST
DTSTART:20221106T080000
END:STANDARD
BEGIN:DAYLIGHT
TZOFFSETFROM:-0700
TZOFFSETTO:-0600
TZNAME:MDT
DTSTART:20230312T090000
END:DAYLIGHT
BEGIN:STANDARD
TZOFFSETFROM:-0600
TZOFFSETTO:-0700
TZNAME:MST
DTSTART:20231105T080000
END:STANDARD
BEGIN:DAYLIGHT
TZOFFSETFROM:-0700
TZOFFSETTO:-0600
TZNAME:MDT
DTSTART:20240310T090000
END:DAYLIGHT
BEGIN:STANDARD
TZOFFSETFROM:-0600
TZOFFSETTO:-0700
TZNAME:MST
DTSTART:20241103T080000
END:STANDARD
END:VTIMEZONE
BEGIN:VEVENT
DTSTART;TZID=America/Denver:20231029T190000
DTEND;TZID=America/Denver:20231029T210000
DTSTAMP:20260425T082525
CREATED:20231002T201057Z
LAST-MODIFIED:20231002T201057Z
UID:2296-1698606000-1698613200@freegracefellowship.ca
SUMMARY:Young Adults
DESCRIPTION:
URL:https://freegracefellowship.ca/event/young-adults-39/
END:VEVENT
BEGIN:VEVENT
DTSTART;TZID=America/Denver:20231030T193000
DTEND;TZID=America/Denver:20231030T210000
DTSTAMP:20260425T082525
CREATED:20231002T201202Z
LAST-MODIFIED:20231002T201202Z
UID:2298-1698694200-1698699600@freegracefellowship.ca
SUMMARY:Bill's teaching on Escatology
DESCRIPTION:This will take place at Free Grace Fellowship Church. Contact Bill Zwartbol for more details!
URL:https://freegracefellowship.ca/event/bills-teaching-on-escatology/
END:VEVENT
BEGIN:VEVENT
DTSTART;TZID=America/Denver:20231031T094500
DTEND;TZID=America/Denver:20231031T114500
DTSTAMP:20260425T082525
CREATED:20231002T201302Z
LAST-MODIFIED:20231002T201302Z
UID:2300-1698745500-1698752700@freegracefellowship.ca
SUMMARY:Mom's Group
DESCRIPTION:Contact Margaret Slingerland for more details!
URL:https://freegracefellowship.ca/event/moms-group-16/
END:VEVENT
BEGIN:VEVENT
DTSTART;TZID=America/Denver:20231101T190000
DTEND;TZID=America/Denver:20231101T210000
DTSTAMP:20260425T082525
CREATED:20231101T210731Z
LAST-MODIFIED:20231101T210731Z
UID:2327-1698865200-1698872400@freegracefellowship.ca
SUMMARY:Jesus Alphas
DESCRIPTION:This is a group of young adults that want more of Jesus\, so we pray and worship Jesus! This is at Jon and Sherrie Bilec’s house\, please contact them for more details!
URL:https://freegracefellowship.ca/event/jesus-alphas-5/
END:VEVENT
BEGIN:VEVENT
DTSTART;TZID=America/Denver:20231101T193000
DTEND;TZID=America/Denver:20231101T213000
DTSTAMP:20260425T082525
CREATED:20231101T210501Z
LAST-MODIFIED:20231101T210501Z
UID:2325-1698867000-1698874200@freegracefellowship.ca
SUMMARY:Wednesday Night Small Group
DESCRIPTION:This is at Graham and Sherry Bretherick’s house. Contact Graham for more details!
URL:https://freegracefellowship.ca/event/wednesday-night-small-group-15/
END:VEVENT
BEGIN:VEVENT
DTSTART;TZID=America/Denver:20231102T190000
DTEND;TZID=America/Denver:20231102T210000
DTSTAMP:20260425T082525
CREATED:20231101T211534Z
LAST-MODIFIED:20231101T211534Z
UID:2346-1698951600-1698958800@freegracefellowship.ca
SUMMARY:LLY
DESCRIPTION:Love Lethbridge Youth ages 12-17. Contact Jeremy Van Hierden for more details!
URL:https://freegracefellowship.ca/event/lly-4/
END:VEVENT
BEGIN:VEVENT
DTSTART;TZID=America/Denver:20231103T170000
DTEND;TZID=America/Denver:20231105T160000
DTSTAMP:20260425T082525
CREATED:20231103T025537Z
LAST-MODIFIED:20231103T025537Z
UID:2386-1699030800-1699200000@freegracefellowship.ca
SUMMARY:Ladies Retreat
DESCRIPTION:Pack your bags ladies and come enjoy a relaxing weekend of fellowship and diving deeper with God! Registration is at 5pm!
URL:https://freegracefellowship.ca/event/ladies-retreat/
END:VEVENT
BEGIN:VEVENT
DTSTART;TZID=America/Denver:20231105T100000
DTEND;TZID=America/Denver:20231105T110000
DTSTAMP:20260425T082525
CREATED:20231101T214209Z
LAST-MODIFIED:20231101T214209Z
UID:2376-1699178400-1699182000@freegracefellowship.ca
SUMMARY:Breakfast for the church
DESCRIPTION:Youth from LLY are cooking breakfast for the whole church! Bring your appetite!
URL:https://freegracefellowship.ca/event/breakfast-for-the-church/
END:VEVENT
BEGIN:VEVENT
DTSTART;TZID=America/Denver:20231106T100000
DTEND;TZID=America/Denver:20231106T120000
DTSTAMP:20260425T082525
CREATED:20231101T213937Z
LAST-MODIFIED:20231101T213937Z
UID:2374-1699264800-1699272000@freegracefellowship.ca
SUMMARY:Ladies Senior 60+ Group
DESCRIPTION:A group for ladies 60+ who want fellowship and to share wisdom with other women! This is at Margaret Slingerland’s house\, so please contact her for more details!
URL:https://freegracefellowship.ca/event/ladies-senior-60-group/
END:VEVENT
BEGIN:VEVENT
DTSTART;TZID=America/Denver:20231106T193000
DTEND;TZID=America/Denver:20231106T220000
DTSTAMP:20260425T082525
CREATED:20231101T212613Z
LAST-MODIFIED:20231101T212613Z
UID:2364-1699299000-1699308000@freegracefellowship.ca
SUMMARY:Monday Night Small Group
DESCRIPTION:This is at Harvey and Susan Grant’s house and it is led by Bill Zwartbol! Please contact Bill for more details!
URL:https://freegracefellowship.ca/event/monday-night-small-group-32/
END:VEVENT
BEGIN:VEVENT
DTSTART;TZID=America/Denver:20231107T190000
DTEND;TZID=America/Denver:20231107T210000
DTSTAMP:20260425T082525
CREATED:20231101T212146Z
LAST-MODIFIED:20231101T212146Z
UID:2356-1699383600-1699390800@freegracefellowship.ca
SUMMARY:Tuesday Night Small Group
DESCRIPTION:Alan Woodroffe leads this group and they are starting a new study called Faith Foundation’s on Right Now Media this month\, if anyone is interested! It is in the Gathering Grounds of the church! Contact Sherrie Bilec for more details!
URL:https://freegracefellowship.ca/event/tuesday-night-small-group-15/
END:VEVENT
BEGIN:VEVENT
DTSTART;TZID=America/Denver:20231108T190000
DTEND;TZID=America/Denver:20231108T210000
DTSTAMP:20260425T082525
CREATED:20231101T210813Z
LAST-MODIFIED:20231101T210813Z
UID:2329-1699470000-1699477200@freegracefellowship.ca
SUMMARY:Jesus Alphas
DESCRIPTION:This is a group of young adults that want more of Jesus\, so we pray and worship Jesus! This is at Jon and Sherrie Bilec’s house\, please contact them for more details!
URL:https://freegracefellowship.ca/event/jesus-alphas-6/
END:VEVENT
BEGIN:VEVENT
DTSTART;TZID=America/Denver:20231108T193000
DTEND;TZID=America/Denver:20231108T213000
DTSTAMP:20260425T082525
CREATED:20231101T211142Z
LAST-MODIFIED:20231101T211403Z
UID:2337-1699471800-1699479000@freegracefellowship.ca
SUMMARY:Wednesday Night Small Group
DESCRIPTION:This is at Graham and Sherry Bretherick’s house. Contact Graham for more details!
URL:https://freegracefellowship.ca/event/wednesday-small-group/
END:VEVENT
BEGIN:VEVENT
DTSTART;TZID=America/Denver:20231108T193000
DTEND;TZID=America/Denver:20231108T213000
DTSTAMP:20260425T082525
CREATED:20231103T025828Z
LAST-MODIFIED:20231103T025828Z
UID:2390-1699471800-1699479000@freegracefellowship.ca
SUMMARY:Free Grace Corporate Prayer Meeting
DESCRIPTION:Our Free Grace Corporate Prayer Meeting is scheduled at 7:30pm in the Gathering Grounds Room in the church basement. Please consider coming and praying with us over our church community\, city community\, country community\, and world community.
URL:https://freegracefellowship.ca/event/free-grace-corporate-prayer-meeting-2/
END:VEVENT
BEGIN:VEVENT
DTSTART;TZID=America/Denver:20231109T190000
DTEND;TZID=America/Denver:20231109T210000
DTSTAMP:20260425T082525
CREATED:20231101T211611Z
LAST-MODIFIED:20231101T211611Z
UID:2348-1699556400-1699563600@freegracefellowship.ca
SUMMARY:LLY
DESCRIPTION:Love Lethbridge Youth ages 12-17. Contact Jeremy Van Hierden for more details!
URL:https://freegracefellowship.ca/event/lly-5/
END:VEVENT
BEGIN:VEVENT
DTSTART;TZID=America/Denver:20231110T190000
DTEND;TZID=America/Denver:20231111T190000
DTSTAMP:20260425T082525
CREATED:20231103T025722Z
LAST-MODIFIED:20231103T025926Z
UID:2388-1699642800-1699729200@freegracefellowship.ca
SUMMARY:24 Hour BURN
DESCRIPTION:Come and worship our Lord and Saviour at Free Grace Fellowship!
URL:https://freegracefellowship.ca/event/24-hour-burn-2/
END:VEVENT
BEGIN:VEVENT
DTSTART;TZID=America/Denver:20231112T083000
DTEND;TZID=America/Denver:20231112T123000
DTSTAMP:20260425T082525
CREATED:20231101T214305Z
LAST-MODIFIED:20231101T214305Z
UID:2378-1699777800-1699792200@freegracefellowship.ca
SUMMARY:Communion
DESCRIPTION:There will be communion for both services!
URL:https://freegracefellowship.ca/event/communion-4/
END:VEVENT
BEGIN:VEVENT
DTSTART;TZID=America/Denver:20231112T190000
DTEND;TZID=America/Denver:20231112T210000
DTSTAMP:20260425T082525
CREATED:20231101T214537Z
LAST-MODIFIED:20231101T214537Z
UID:2380-1699815600-1699822800@freegracefellowship.ca
SUMMARY:Young Adults
DESCRIPTION:This is for anyone that is 18 + and considers themselves a young adult! Contact Suzanne DeGroot for more details!
URL:https://freegracefellowship.ca/event/young-adults-40/
END:VEVENT
BEGIN:VEVENT
DTSTART;TZID=America/Denver:20231114T094500
DTEND;TZID=America/Denver:20231114T114500
DTSTAMP:20260425T082525
CREATED:20231101T213234Z
LAST-MODIFIED:20231101T213234Z
UID:2368-1699955100-1699962300@freegracefellowship.ca
SUMMARY:Mom's Group
DESCRIPTION:This is a group of mom’s to be or new mom’s to connect! This is in the Gathering Grounds of the church! Please contact Margaret Slingerland for more details!
URL:https://freegracefellowship.ca/event/moms-group-17/
END:VEVENT
BEGIN:VEVENT
DTSTART;TZID=America/Denver:20231114T190000
DTEND;TZID=America/Denver:20231114T210000
DTSTAMP:20260425T082525
CREATED:20231101T212302Z
LAST-MODIFIED:20231101T212302Z
UID:2358-1699988400-1699995600@freegracefellowship.ca
SUMMARY:Tuesday Night Small Group
DESCRIPTION:Alan Woodroffe leads this group and they are starting a new study called Faith Foundation’s on Right Now Media this month\, if anyone is interested! It is in the Gathering Grounds of the church! Contact Sherrie Bilec for more details!
URL:https://freegracefellowship.ca/event/tuesday-night-small-group-16/
END:VEVENT
BEGIN:VEVENT
DTSTART;TZID=America/Denver:20231115T190000
DTEND;TZID=America/Denver:20231115T210000
DTSTAMP:20260425T082525
CREATED:20231101T210856Z
LAST-MODIFIED:20231101T210856Z
UID:2331-1700074800-1700082000@freegracefellowship.ca
SUMMARY:Jesus Alphas
DESCRIPTION:This is a group of young adults that want more of Jesus\, so we pray and worship Jesus! This is at Jon and Sherrie Bilec’s house\, please contact them for more details!
URL:https://freegracefellowship.ca/event/jesus-alphas-7/
END:VEVENT
BEGIN:VEVENT
DTSTART;TZID=America/Denver:20231115T193000
DTEND;TZID=America/Denver:20231115T213000
DTSTAMP:20260425T082525
CREATED:20231101T211221Z
LAST-MODIFIED:20231101T211221Z
UID:2339-1700076600-1700083800@freegracefellowship.ca
SUMMARY:Wednesday Night Small Group
DESCRIPTION:This is at Graham and Sherry Bretherick’s house. Contact Graham for more details!
URL:https://freegracefellowship.ca/event/wednesday-night-small-group-16/
END:VEVENT
BEGIN:VEVENT
DTSTART;TZID=America/Denver:20231116T190000
DTEND;TZID=America/Denver:20231116T210000
DTSTAMP:20260425T082525
CREATED:20231101T211650Z
LAST-MODIFIED:20231101T211650Z
UID:2350-1700161200-1700168400@freegracefellowship.ca
SUMMARY:LLY
DESCRIPTION:Love Lethbridge Youth ages 12-17. Contact Jeremy Van Hierden for more details!
URL:https://freegracefellowship.ca/event/lly-6/
END:VEVENT
BEGIN:VEVENT
DTSTART;TZID=America/Denver:20231119T190000
DTEND;TZID=America/Denver:20231119T210000
DTSTAMP:20260425T082525
CREATED:20231101T214616Z
LAST-MODIFIED:20231101T214616Z
UID:2382-1700420400-1700427600@freegracefellowship.ca
SUMMARY:Young Adults
DESCRIPTION:This is for anyone that is 18 + and considers themselves a young adult! Contact Suzanne DeGroot for more details!
URL:https://freegracefellowship.ca/event/young-adults-41/
END:VEVENT
BEGIN:VEVENT
DTSTART;TZID=America/Denver:20231120T193000
DTEND;TZID=America/Denver:20231120T220000
DTSTAMP:20260425T082525
CREATED:20231101T212654Z
LAST-MODIFIED:20231101T212654Z
UID:2366-1700508600-1700517600@freegracefellowship.ca
SUMMARY:Monday Night Small Group
DESCRIPTION:This is at Harvey and Susan Grant’s house and it is led by Bill Zwartbol! Please contact Bill for more details!
URL:https://freegracefellowship.ca/event/monday-night-small-group-33/
END:VEVENT
BEGIN:VEVENT
DTSTART;TZID=America/Denver:20231121T190000
DTEND;TZID=America/Denver:20231121T210000
DTSTAMP:20260425T082525
CREATED:20231101T212339Z
LAST-MODIFIED:20231101T212339Z
UID:2360-1700593200-1700600400@freegracefellowship.ca
SUMMARY:Tuesday Night Small Group
DESCRIPTION:Alan Woodroffe leads this group and they are starting a new study called Faith Foundation’s on Right Now Media this month\, if anyone is interested! It is in the Gathering Grounds of the church! Contact Sherrie Bilec for more details!
URL:https://freegracefellowship.ca/event/tuesday-night-small-group-17/
END:VEVENT
BEGIN:VEVENT
DTSTART;TZID=America/Denver:20231121T190000
DTEND;TZID=America/Denver:20231121T210000
DTSTAMP:20260425T082525
CREATED:20231101T213556Z
LAST-MODIFIED:20231101T213556Z
UID:2372-1700593200-1700600400@freegracefellowship.ca
SUMMARY:Ladies Bible Study
DESCRIPTION:This is the monthly ladies bible study for all the women in the church! It takes place in the Gathering Grounds of the Church! Please contact Margaret Slingerland for more details!
URL:https://freegracefellowship.ca/event/ladies-bible-study-18/
END:VEVENT
BEGIN:VEVENT
DTSTART;TZID=America/Denver:20231122T190000
DTEND;TZID=America/Denver:20231122T210000
DTSTAMP:20260425T082525
CREATED:20231101T210938Z
LAST-MODIFIED:20231101T210938Z
UID:2333-1700679600-1700686800@freegracefellowship.ca
SUMMARY:Jesus Alphas
DESCRIPTION:This is a group of young adults that want more of Jesus\, so we pray and worship Jesus! This is at Jon and Sherrie Bilec’s house\, please contact them for more details!
URL:https://freegracefellowship.ca/event/jesus-alphas-8/
END:VEVENT
BEGIN:VEVENT
DTSTART;TZID=America/Denver:20231122T193000
DTEND;TZID=America/Denver:20231122T213000
DTSTAMP:20260425T082525
CREATED:20231101T211256Z
LAST-MODIFIED:20231101T211256Z
UID:2341-1700681400-1700688600@freegracefellowship.ca
SUMMARY:Wednesday Night Small Group
DESCRIPTION:This is at Graham and Sherry Bretherick’s house. Contact Graham for more details!
URL:https://freegracefellowship.ca/event/wednesday-night-small-group-17/
END:VEVENT
BEGIN:VEVENT
DTSTART;TZID=America/Denver:20231123T190000
DTEND;TZID=America/Denver:20231123T210000
DTSTAMP:20260425T082525
CREATED:20231101T211721Z
LAST-MODIFIED:20231101T211721Z
UID:2352-1700766000-1700773200@freegracefellowship.ca
SUMMARY:LLY
DESCRIPTION:Love Lethbridge Youth ages 12-17. Contact Jeremy Van Hierden for more details!
URL:https://freegracefellowship.ca/event/lly-7/
END:VEVENT
END:VCALENDAR