BEGIN:VCALENDAR
VERSION:2.0
PRODID:-//Free Grace Fellowship - ECPv6.15.20//NONSGML v1.0//EN
CALSCALE:GREGORIAN
METHOD:PUBLISH
X-WR-CALNAME:Free Grace Fellowship
X-ORIGINAL-URL:https://freegracefellowship.ca
X-WR-CALDESC:Events for Free Grace Fellowship
REFRESH-INTERVAL;VALUE=DURATION:PT1H
X-Robots-Tag:noindex
X-PUBLISHED-TTL:PT1H
BEGIN:VTIMEZONE
TZID:America/Denver
BEGIN:DAYLIGHT
TZOFFSETFROM:-0700
TZOFFSETTO:-0600
TZNAME:MDT
DTSTART:20220313T090000
END:DAYLIGHT
BEGIN:STANDARD
TZOFFSETFROM:-0600
TZOFFSETTO:-0700
TZNAME:MST
DTSTART:20221106T080000
END:STANDARD
BEGIN:DAYLIGHT
TZOFFSETFROM:-0700
TZOFFSETTO:-0600
TZNAME:MDT
DTSTART:20230312T090000
END:DAYLIGHT
BEGIN:STANDARD
TZOFFSETFROM:-0600
TZOFFSETTO:-0700
TZNAME:MST
DTSTART:20231105T080000
END:STANDARD
BEGIN:DAYLIGHT
TZOFFSETFROM:-0700
TZOFFSETTO:-0600
TZNAME:MDT
DTSTART:20240310T090000
END:DAYLIGHT
BEGIN:STANDARD
TZOFFSETFROM:-0600
TZOFFSETTO:-0700
TZNAME:MST
DTSTART:20241103T080000
END:STANDARD
END:VTIMEZONE
BEGIN:VEVENT
DTSTART;TZID=America/Denver:20231016T193000
DTEND;TZID=America/Denver:20231016T210000
DTSTAMP:20260425T100813
CREATED:20231002T195633Z
LAST-MODIFIED:20231002T195633Z
UID:2264-1697484600-1697490000@freegracefellowship.ca
SUMMARY:Bill's teaching on Eschatology
DESCRIPTION:This is at Free Grace Fellowship Church. Contact Bill Zwartbol for more details.
URL:https://freegracefellowship.ca/event/bills-teaching-on-eschatology/
END:VEVENT
BEGIN:VEVENT
DTSTART;TZID=America/Denver:20231016T190000
DTEND;TZID=America/Denver:20231016T210000
DTSTAMP:20260425T100813
CREATED:20231002T195817Z
LAST-MODIFIED:20231010T151744Z
UID:2268-1697482800-1697490000@freegracefellowship.ca
SUMMARY:Alan's Small Group
DESCRIPTION:Contact Alan Woodroffe for more details!
URL:https://freegracefellowship.ca/event/alans-small-group-3/
END:VEVENT
BEGIN:VEVENT
DTSTART;TZID=America/Denver:20231015T190000
DTEND;TZID=America/Denver:20231015T210000
DTSTAMP:20260425T100813
CREATED:20231002T195523Z
LAST-MODIFIED:20231002T195523Z
UID:2262-1697396400-1697403600@freegracefellowship.ca
SUMMARY:Young Adults
DESCRIPTION:Contact one of the young adults leaders for more details!
URL:https://freegracefellowship.ca/event/young-adults-37/
END:VEVENT
BEGIN:VEVENT
DTSTART;TZID=America/Denver:20231015T190000
DTEND;TZID=America/Denver:20231015T210000
DTSTAMP:20260425T100813
CREATED:20231002T195440Z
LAST-MODIFIED:20231002T195440Z
UID:2260-1697396400-1697403600@freegracefellowship.ca
SUMMARY:Corporate Prayer Meeting
DESCRIPTION:This will be at Free Grace Fellowship Church\, to discuss future plan regarding church property!
URL:https://freegracefellowship.ca/event/corporate-prayer-meeting-13/
END:VEVENT
BEGIN:VEVENT
DTSTART;TZID=America/Denver:20231012T190000
DTEND;TZID=America/Denver:20231012T210000
DTSTAMP:20260425T100813
CREATED:20231002T195319Z
LAST-MODIFIED:20231002T195319Z
UID:2258-1697137200-1697144400@freegracefellowship.ca
SUMMARY:LLY
DESCRIPTION:
URL:https://freegracefellowship.ca/event/lly-2/
END:VEVENT
BEGIN:VEVENT
DTSTART;TZID=America/Denver:20231011T193000
DTEND;TZID=America/Denver:20231011T210000
DTSTAMP:20260425T100813
CREATED:20231002T195253Z
LAST-MODIFIED:20231002T195253Z
UID:2256-1697052600-1697058000@freegracefellowship.ca
SUMMARY:Wednesday Night Small Group
DESCRIPTION:Contact Graham Bretherick for more details!
URL:https://freegracefellowship.ca/event/wednesday-night-small-group-12/
END:VEVENT
BEGIN:VEVENT
DTSTART;TZID=America/Denver:20231011T193000
DTEND;TZID=America/Denver:20231011T210000
DTSTAMP:20260425T100813
CREATED:20231002T195158Z
LAST-MODIFIED:20231002T195158Z
UID:2254-1697052600-1697058000@freegracefellowship.ca
SUMMARY:Free Grace Corporate Prayer Meeting
DESCRIPTION:Meet in the Gathering Grounds at Free Grace Fellowship Church!
URL:https://freegracefellowship.ca/event/free-grace-corporate-prayer-meeting/
END:VEVENT
BEGIN:VEVENT
DTSTART;TZID=America/Denver:20231011T190000
DTEND;TZID=America/Denver:20231011T210000
DTSTAMP:20260425T100813
CREATED:20231002T202422Z
LAST-MODIFIED:20231002T202422Z
UID:2306-1697050800-1697058000@freegracefellowship.ca
SUMMARY:Jesus Alphas
DESCRIPTION:Prayer and worship for young adults at the Bilec’s house. Contact Sherrie/ Jon Bilec or Larry/ Julie Schille for more details.
URL:https://freegracefellowship.ca/event/jesus-alphas-2/
END:VEVENT
BEGIN:VEVENT
DTSTART;TZID=America/Denver:20231010T190000
DTEND;TZID=America/Denver:20231010T210000
DTSTAMP:20260425T100813
CREATED:20231002T194950Z
LAST-MODIFIED:20231002T194950Z
UID:2252-1696964400-1696971600@freegracefellowship.ca
SUMMARY:Alan's Small Group
DESCRIPTION:Contact Alan Woodroffe for more details!
URL:https://freegracefellowship.ca/event/alans-small-group-2/
END:VEVENT
BEGIN:VEVENT
DTSTART;TZID=America/Denver:20231009T193000
DTEND;TZID=America/Denver:20231009T210000
DTSTAMP:20260425T100813
CREATED:20231002T194813Z
LAST-MODIFIED:20231002T194813Z
UID:2250-1696879800-1696885200@freegracefellowship.ca
SUMMARY:Monday Night Small Group
DESCRIPTION:Contact Bill Zwartbol for more information!
URL:https://freegracefellowship.ca/event/monday-night-small-group-30/
END:VEVENT
BEGIN:VEVENT
DTSTART;TZID=America/Denver:20231008T190000
DTEND;TZID=America/Denver:20231008T210000
DTSTAMP:20260425T100813
CREATED:20231002T194710Z
LAST-MODIFIED:20231002T194710Z
UID:2248-1696791600-1696798800@freegracefellowship.ca
SUMMARY:Young Adults
DESCRIPTION:Contact one of the young adults leaders for more information!
URL:https://freegracefellowship.ca/event/young-adults-36/
END:VEVENT
BEGIN:VEVENT
DTSTART;TZID=America/Denver:20231005T190000
DTEND;TZID=America/Denver:20231005T210000
DTSTAMP:20260425T100813
CREATED:20231002T194601Z
LAST-MODIFIED:20231002T194601Z
UID:2246-1696532400-1696539600@freegracefellowship.ca
SUMMARY:LLY
DESCRIPTION:
URL:https://freegracefellowship.ca/event/lly/
END:VEVENT
BEGIN:VEVENT
DTSTART;TZID=America/Denver:20231004T193000
DTEND;TZID=America/Denver:20231004T210000
DTSTAMP:20260425T100813
CREATED:20231002T194518Z
LAST-MODIFIED:20231002T194518Z
UID:2244-1696447800-1696453200@freegracefellowship.ca
SUMMARY:Wednesday Night Small Group
DESCRIPTION:Contact Graham Bretherick for more details!
URL:https://freegracefellowship.ca/event/wednesday-night-small-group-11/
END:VEVENT
BEGIN:VEVENT
DTSTART;TZID=America/Denver:20231004T190000
DTEND;TZID=America/Denver:20231004T210000
DTSTAMP:20260425T100813
CREATED:20231002T202348Z
LAST-MODIFIED:20231002T202348Z
UID:2304-1696446000-1696453200@freegracefellowship.ca
SUMMARY:Jesus Alphas
DESCRIPTION:Prayer and worship for young adults at the Bilec’s house. Contact Sherrie/ Jon Bilec or Larry/ Julie Schille for more details.
URL:https://freegracefellowship.ca/event/jesus-alphas/
END:VEVENT
BEGIN:VEVENT
DTSTART;TZID=America/Denver:20231003T190000
DTEND;TZID=America/Denver:20231003T210000
DTSTAMP:20260425T100813
CREATED:20231002T194304Z
LAST-MODIFIED:20231002T194304Z
UID:2242-1696359600-1696366800@freegracefellowship.ca
SUMMARY:Alan's Small Group
DESCRIPTION:Contact Alan Woodroffe for more details!
URL:https://freegracefellowship.ca/event/alans-small-group/
END:VEVENT
BEGIN:VEVENT
DTSTART;TZID=America/Denver:20231003T094500
DTEND;TZID=America/Denver:20231003T114500
DTSTAMP:20260425T100813
CREATED:20231002T194210Z
LAST-MODIFIED:20231002T194210Z
UID:2240-1696326300-1696333500@freegracefellowship.ca
SUMMARY:Mom's Group
DESCRIPTION:Contact Margaret Slingerland for more details!
URL:https://freegracefellowship.ca/event/moms-group-14/
END:VEVENT
BEGIN:VEVENT
DTSTART;TZID=America/Denver:20231002T193000
DTEND;TZID=America/Denver:20231002T213000
DTSTAMP:20260425T100813
CREATED:20231002T194056Z
LAST-MODIFIED:20231002T194056Z
UID:2238-1696275000-1696282200@freegracefellowship.ca
SUMMARY:Bill is teaching on Eschatology
DESCRIPTION:This is at Free Grace Church
URL:https://freegracefellowship.ca/event/bill-is-teaching-on-eschatology/
END:VEVENT
BEGIN:VEVENT
DTSTART;TZID=America/Denver:20231002T100000
DTEND;TZID=America/Denver:20231002T120000
DTSTAMP:20260425T100813
CREATED:20231002T193845Z
LAST-MODIFIED:20231002T193845Z
UID:2236-1696240800-1696248000@freegracefellowship.ca
SUMMARY:Seniors 60+ Group
DESCRIPTION:Starts at 10-12pm. Contact Margaret Slingerland for more details
URL:https://freegracefellowship.ca/event/seniors-60-group/
END:VEVENT
BEGIN:VEVENT
DTSTART;TZID=America/Denver:20231001T170000
DTEND;TZID=America/Denver:20231001T213000
DTSTAMP:20260425T100813
CREATED:20231002T193723Z
LAST-MODIFIED:20231002T193723Z
UID:2234-1696179600-1696195800@freegracefellowship.ca
SUMMARY:Young Adults Kickoff BBQ
DESCRIPTION:Starts at 5pm! Please contact one of the young adults leaders for more details!
URL:https://freegracefellowship.ca/event/young-adults-kickoff-bbq/
END:VEVENT
BEGIN:VEVENT
DTSTART;TZID=America/Denver:20231001T140000
DTEND;TZID=America/Denver:20231001T150000
DTSTAMP:20260425T100813
CREATED:20231002T193608Z
LAST-MODIFIED:20231002T193608Z
UID:2232-1696168800-1696172400@freegracefellowship.ca
SUMMARY:The Annual International Life Chain
DESCRIPTION:Starts at 2-3pm at The Japanese Gardens at Henderson Park Lake Lethbridge!
URL:https://freegracefellowship.ca/event/the-annual-international-life-chain/
END:VEVENT
BEGIN:VEVENT
DTSTART;TZID=America/Denver:20231001T083000
DTEND;TZID=America/Denver:20231001T123000
DTSTAMP:20260425T100813
CREATED:20231002T193423Z
LAST-MODIFIED:20231002T193423Z
UID:2230-1696149000-1696163400@freegracefellowship.ca
SUMMARY:Communion
DESCRIPTION:There will be Communion celebrated at both services!
URL:https://freegracefellowship.ca/event/communion-3/
END:VEVENT
BEGIN:VEVENT
DTSTART;TZID=America/Denver:20230928T190000
DTEND;TZID=America/Denver:20230928T210000
DTSTAMP:20260425T100813
CREATED:20230909T025058Z
LAST-MODIFIED:20230909T025058Z
UID:2227-1695927600-1695934800@freegracefellowship.ca
SUMMARY:Love Lethbridge Youth
DESCRIPTION:
URL:https://freegracefellowship.ca/event/love-lethbridge-youth-63/
END:VEVENT
BEGIN:VEVENT
DTSTART;TZID=America/Denver:20230926T190000
DTEND;TZID=America/Denver:20230926T210000
DTSTAMP:20260425T100813
CREATED:20230909T022952Z
LAST-MODIFIED:20230909T022952Z
UID:2204-1695754800-1695762000@freegracefellowship.ca
SUMMARY:Alan's Community Group
DESCRIPTION:Starts at 7:00pm-9:00pm in the Gathering Grounds! Please contact Alan Woodroffe for more details!
URL:https://freegracefellowship.ca/event/alans-community-group-4/
END:VEVENT
BEGIN:VEVENT
DTSTART;TZID=America/Denver:20230924T110000
DTEND;TZID=America/Denver:20230924T133000
DTSTAMP:20260425T100813
CREATED:20230909T024806Z
LAST-MODIFIED:20230909T024806Z
UID:2223-1695553200-1695562200@freegracefellowship.ca
SUMMARY:Potluck Sunday
DESCRIPTION:Come and bring a dish of food to share and enjoy some fellowship! The 8:30am service potluck will begin at 11am downstairs of the church and the 11am service potluck will begin at. 12:30pm!
URL:https://freegracefellowship.ca/event/potluck-sunday-2/
END:VEVENT
BEGIN:VEVENT
DTSTART;TZID=America/Denver:20230924T100000
DTEND;TZID=America/Denver:20230924T104500
DTSTAMP:20260425T100813
CREATED:20230909T024603Z
LAST-MODIFIED:20230909T024603Z
UID:2221-1695549600-1695552300@freegracefellowship.ca
SUMMARY:Discipleship Class
DESCRIPTION:
URL:https://freegracefellowship.ca/event/discipleship-class-2/
END:VEVENT
BEGIN:VEVENT
DTSTART;TZID=America/Denver:20230923T190000
DTEND;TZID=America/Denver:20230923T210000
DTSTAMP:20260425T100813
CREATED:20230909T024418Z
LAST-MODIFIED:20230909T024418Z
UID:2218-1695495600-1695502800@freegracefellowship.ca
SUMMARY:Men's Meat Night
DESCRIPTION:Come join a group of Men in eating and fellowship! For more details contact Jaimie Slingerland!
URL:https://freegracefellowship.ca/event/mens-meat-night-13/
END:VEVENT
BEGIN:VEVENT
DTSTART;TZID=America/Denver:20230921T190000
DTEND;TZID=America/Denver:20230921T210000
DTSTAMP:20260425T100813
CREATED:20230909T025025Z
LAST-MODIFIED:20230909T025025Z
UID:2225-1695322800-1695330000@freegracefellowship.ca
SUMMARY:Love Lethbridge Youth
DESCRIPTION:
URL:https://freegracefellowship.ca/event/love-lethbridge-youth-62/
END:VEVENT
BEGIN:VEVENT
DTSTART;TZID=America/Denver:20230919T094500
DTEND;TZID=America/Denver:20230919T114500
DTSTAMP:20260425T100813
CREATED:20230909T023947Z
LAST-MODIFIED:20230909T023947Z
UID:2214-1695116700-1695123900@freegracefellowship.ca
SUMMARY:Mom's Group
DESCRIPTION:If you are a mom\, come join a group of other wonderful Moms in the Gathering Grounds!
URL:https://freegracefellowship.ca/event/moms-group-13/
END:VEVENT
BEGIN:VEVENT
DTSTART;TZID=America/Denver:20230919T070000
DTEND;TZID=America/Denver:20230919T210000
DTSTAMP:20260425T100813
CREATED:20230909T024203Z
LAST-MODIFIED:20230909T024203Z
UID:2216-1695106800-1695157200@freegracefellowship.ca
SUMMARY:Ladies Bible Study
DESCRIPTION:Any women who want to dive into scripture and have great fellowship with a group of amazing ladies\, come join us in the Gathering Grounds!
URL:https://freegracefellowship.ca/event/ladies-bible-study-16/
END:VEVENT
BEGIN:VEVENT
DTSTART;TZID=America/Denver:20230918T190000
DTEND;TZID=America/Denver:20230918T210000
DTSTAMP:20260425T100813
CREATED:20230909T022916Z
LAST-MODIFIED:20230909T022916Z
UID:2202-1695063600-1695070800@freegracefellowship.ca
SUMMARY:Alan's Community Group
DESCRIPTION:Starts at 7:00pm-9:00pm in the Gathering Grounds! Please contact Alan Woodroffe for more details!
URL:https://freegracefellowship.ca/event/alans-community-group-3/
END:VEVENT
END:VCALENDAR