BEGIN:VCALENDAR
VERSION:2.0
PRODID:-//Free Grace Fellowship - ECPv6.15.20//NONSGML v1.0//EN
CALSCALE:GREGORIAN
METHOD:PUBLISH
X-WR-CALNAME:Free Grace Fellowship
X-ORIGINAL-URL:https://freegracefellowship.ca
X-WR-CALDESC:Events for Free Grace Fellowship
REFRESH-INTERVAL;VALUE=DURATION:PT1H
X-Robots-Tag:noindex
X-PUBLISHED-TTL:PT1H
BEGIN:VTIMEZONE
TZID:America/Denver
BEGIN:DAYLIGHT
TZOFFSETFROM:-0700
TZOFFSETTO:-0600
TZNAME:MDT
DTSTART:20230312T090000
END:DAYLIGHT
BEGIN:STANDARD
TZOFFSETFROM:-0600
TZOFFSETTO:-0700
TZNAME:MST
DTSTART:20231105T080000
END:STANDARD
BEGIN:DAYLIGHT
TZOFFSETFROM:-0700
TZOFFSETTO:-0600
TZNAME:MDT
DTSTART:20240310T090000
END:DAYLIGHT
BEGIN:STANDARD
TZOFFSETFROM:-0600
TZOFFSETTO:-0700
TZNAME:MST
DTSTART:20241103T080000
END:STANDARD
BEGIN:DAYLIGHT
TZOFFSETFROM:-0700
TZOFFSETTO:-0600
TZNAME:MDT
DTSTART:20250309T090000
END:DAYLIGHT
BEGIN:STANDARD
TZOFFSETFROM:-0600
TZOFFSETTO:-0700
TZNAME:MST
DTSTART:20251102T080000
END:STANDARD
END:VTIMEZONE
BEGIN:VEVENT
DTSTART;TZID=America/Denver:20240109T190000
DTEND;TZID=America/Denver:20240109T210000
DTSTAMP:20260425T064650
CREATED:20240101T200421Z
LAST-MODIFIED:20240101T200421Z
UID:2522-1704826800-1704834000@freegracefellowship.ca
SUMMARY:Tuesday Night Small Group
DESCRIPTION:This is in the Gathering Grounds of the church. Please contact Alan Woodroffe for more details!
URL:https://freegracefellowship.ca/event/tuesday-night-small-group-23/
END:VEVENT
BEGIN:VEVENT
DTSTART;TZID=America/Denver:20240110T190000
DTEND;TZID=America/Denver:20240110T210000
DTSTAMP:20260425T064650
CREATED:20240101T200845Z
LAST-MODIFIED:20240101T200845Z
UID:2530-1704913200-1704920400@freegracefellowship.ca
SUMMARY:Jesus Alphas
DESCRIPTION:This is for young adults who desire a deeper relationship with Jesus! Its a night of worship and prayer! This is at the Bilec’s house. Contact Larry Schille or Sherrie Bilec for more details!
URL:https://freegracefellowship.ca/event/jesus-alphas-15/
END:VEVENT
BEGIN:VEVENT
DTSTART;TZID=America/Denver:20240110T193000
DTEND;TZID=America/Denver:20240110T213000
DTSTAMP:20260425T064650
CREATED:20240101T201341Z
LAST-MODIFIED:20240101T201341Z
UID:2538-1704915000-1704922200@freegracefellowship.ca
SUMMARY:Corporate Prayer Meeting
DESCRIPTION:Our Free Grace Corporate Prayer Meeting is in the Gathering Grounds in the church basement. Please consider coming and praying with us over our church community\, city\, country\, and world.
URL:https://freegracefellowship.ca/event/corporate-prayer-meeting-15/
END:VEVENT
BEGIN:VEVENT
DTSTART;TZID=America/Denver:20240111T190000
DTEND;TZID=America/Denver:20240111T210000
DTSTAMP:20260425T064650
CREATED:20240101T201840Z
LAST-MODIFIED:20240101T201840Z
UID:2546-1704999600-1705006800@freegracefellowship.ca
SUMMARY:LLY
DESCRIPTION:This is for ages 12-17\, please contact Jeremy Van Hierden for more details!
URL:https://freegracefellowship.ca/event/lly-13/
END:VEVENT
BEGIN:VEVENT
DTSTART;TZID=America/Denver:20240114T083000
DTEND;TZID=America/Denver:20240114T123000
DTSTAMP:20260425T064650
CREATED:20240101T195050Z
LAST-MODIFIED:20240101T195050Z
UID:2497-1705221000-1705235400@freegracefellowship.ca
SUMMARY:Church!!
DESCRIPTION:There will be two services: one at 8:30am and 11am!
URL:https://freegracefellowship.ca/event/church-6/
END:VEVENT
BEGIN:VEVENT
DTSTART;TZID=America/Denver:20240114T083000
DTEND;TZID=America/Denver:20240114T123000
DTSTAMP:20260425T064650
CREATED:20240106T214328Z
LAST-MODIFIED:20240106T214328Z
UID:2560-1705221000-1705235400@freegracefellowship.ca
SUMMARY:Baby Dedication
DESCRIPTION:There will be a baby dedication at the church! If you have a baby you want dedicated\, please contact Bill Zwartbol!
URL:https://freegracefellowship.ca/event/baby-dedication/
END:VEVENT
BEGIN:VEVENT
DTSTART;TZID=America/Denver:20240114T101000
DTEND;TZID=America/Denver:20240114T104500
DTSTAMP:20260425T064650
CREATED:20240101T195409Z
LAST-MODIFIED:20240101T195409Z
UID:2505-1705227000-1705229100@freegracefellowship.ca
SUMMARY:Discipleship Class
DESCRIPTION:
URL:https://freegracefellowship.ca/event/discipleship-class-4/
END:VEVENT
BEGIN:VEVENT
DTSTART;TZID=America/Denver:20240115T193000
DTEND;TZID=America/Denver:20240115T213000
DTSTAMP:20260425T064650
CREATED:20240101T200115Z
LAST-MODIFIED:20240101T200115Z
UID:2516-1705347000-1705354200@freegracefellowship.ca
SUMMARY:Monday Night Small Group
DESCRIPTION:This is at Harvey and Susan Grant’s house! Contact Bill Zwartbol for more details!
URL:https://freegracefellowship.ca/event/monday-night-small-group-38/
END:VEVENT
BEGIN:VEVENT
DTSTART;TZID=America/Denver:20240116T094500
DTEND;TZID=America/Denver:20240116T114500
DTSTAMP:20260425T064650
CREATED:20240106T214012Z
LAST-MODIFIED:20240106T214012Z
UID:2556-1705398300-1705405500@freegracefellowship.ca
SUMMARY:Mom's Group
DESCRIPTION:This is in the Gathering Grounds of the church! Contact Margaret Slingerland for more details!
URL:https://freegracefellowship.ca/event/moms-group-21/
END:VEVENT
BEGIN:VEVENT
DTSTART;TZID=America/Denver:20240116T190000
DTEND;TZID=America/Denver:20240116T210000
DTSTAMP:20260425T064650
CREATED:20240106T213846Z
LAST-MODIFIED:20240106T213846Z
UID:2554-1705431600-1705438800@freegracefellowship.ca
SUMMARY:Ladies Bible Study
DESCRIPTION:This is in the Gathering Grounds of the church! Contact Margaret Slingerland for more details!
URL:https://freegracefellowship.ca/event/ladies-bible-study-20/
END:VEVENT
BEGIN:VEVENT
DTSTART;TZID=America/Denver:20240117T190000
DTEND;TZID=America/Denver:20240117T210000
DTSTAMP:20260425T064650
CREATED:20240101T200934Z
LAST-MODIFIED:20240101T200934Z
UID:2532-1705518000-1705525200@freegracefellowship.ca
SUMMARY:Jesus Alphas
DESCRIPTION:This is for young adults who desire a deeper relationship with Jesus! Its a night of worship and prayer! This is at the Bilec’s house. Contact Larry Schille or Sherrie Bilec for more details!
URL:https://freegracefellowship.ca/event/jesus-alphas-16/
END:VEVENT
BEGIN:VEVENT
DTSTART;TZID=America/Denver:20240117T193000
DTEND;TZID=America/Denver:20240117T213000
DTSTAMP:20260425T064650
CREATED:20240101T201556Z
LAST-MODIFIED:20240101T201556Z
UID:2540-1705519800-1705527000@freegracefellowship.ca
SUMMARY:Wednesday Night Small Group
DESCRIPTION:This is at Sherry and Graham Bretherick’s house! Contact Graham for more details!
URL:https://freegracefellowship.ca/event/wednesday-night-small-group-22/
END:VEVENT
BEGIN:VEVENT
DTSTART;TZID=America/Denver:20240118T190000
DTEND;TZID=America/Denver:20240118T210000
DTSTAMP:20260425T064650
CREATED:20240101T201949Z
LAST-MODIFIED:20240101T201949Z
UID:2548-1705604400-1705611600@freegracefellowship.ca
SUMMARY:LLY
DESCRIPTION:This is for ages 12-17\, please contact Jeremy Van Hierden for more details!
URL:https://freegracefellowship.ca/event/lly-14/
END:VEVENT
BEGIN:VEVENT
DTSTART;TZID=America/Denver:20240121T083000
DTEND;TZID=America/Denver:20240121T123000
DTSTAMP:20260425T064650
CREATED:20240101T195124Z
LAST-MODIFIED:20240101T195124Z
UID:2499-1705825800-1705840200@freegracefellowship.ca
SUMMARY:Church!!
DESCRIPTION:There will be two services: one at 8:30am and 11am!
URL:https://freegracefellowship.ca/event/church-7/
END:VEVENT
BEGIN:VEVENT
DTSTART;TZID=America/Denver:20240121T101000
DTEND;TZID=America/Denver:20240121T104500
DTSTAMP:20260425T064650
CREATED:20240101T195453Z
LAST-MODIFIED:20240101T195453Z
UID:2507-1705831800-1705833900@freegracefellowship.ca
SUMMARY:Discipleship Class
DESCRIPTION:
URL:https://freegracefellowship.ca/event/discipleship-class-5/
END:VEVENT
BEGIN:VEVENT
DTSTART;TZID=America/Denver:20240122T193000
DTEND;TZID=America/Denver:20240122T213000
DTSTAMP:20260425T064650
CREATED:20240101T200215Z
LAST-MODIFIED:20240101T200215Z
UID:2518-1705951800-1705959000@freegracefellowship.ca
SUMMARY:Monday Night Small Group
DESCRIPTION:This is at Harvey and Susan Grant’s house! Contact Bill Zwartbol for more details!
URL:https://freegracefellowship.ca/event/monday-night-small-group-39/
END:VEVENT
BEGIN:VEVENT
DTSTART;TZID=America/Denver:20240123T190000
DTEND;TZID=America/Denver:20240123T210000
DTSTAMP:20260425T064650
CREATED:20240101T200505Z
LAST-MODIFIED:20240101T200505Z
UID:2524-1706036400-1706043600@freegracefellowship.ca
SUMMARY:Tuesday Night Small Group
DESCRIPTION:This is in the Gathering Grounds of the church. Please contact Alan Woodroffe for more details!
URL:https://freegracefellowship.ca/event/tuesday-night-small-group-24/
END:VEVENT
BEGIN:VEVENT
DTSTART;TZID=America/Denver:20240124T190000
DTEND;TZID=America/Denver:20240124T210000
DTSTAMP:20260425T064650
CREATED:20240101T201021Z
LAST-MODIFIED:20240101T201021Z
UID:2534-1706122800-1706130000@freegracefellowship.ca
SUMMARY:Jesus Alphas
DESCRIPTION:This is for young adults who desire a deeper relationship with Jesus! Its a night of worship and prayer! This is at the Bilec’s house. Contact Larry Schille or Sherrie Bilec for more details!
URL:https://freegracefellowship.ca/event/jesus-alphas-17/
END:VEVENT
BEGIN:VEVENT
DTSTART;TZID=America/Denver:20240124T193000
DTEND;TZID=America/Denver:20240124T213000
DTSTAMP:20260425T064650
CREATED:20240101T201636Z
LAST-MODIFIED:20240101T201636Z
UID:2542-1706124600-1706131800@freegracefellowship.ca
SUMMARY:Wednesday Night Small Group
DESCRIPTION:This is at Sherry and Graham Bretherick’s house! Contact Graham for more details!
URL:https://freegracefellowship.ca/event/wednesday-night-small-group-23/
END:VEVENT
BEGIN:VEVENT
DTSTART;TZID=America/Denver:20240125T193000
DTEND;TZID=America/Denver:20240125T210000
DTSTAMP:20260425T064650
CREATED:20240101T202031Z
LAST-MODIFIED:20240101T202031Z
UID:2550-1706211000-1706216400@freegracefellowship.ca
SUMMARY:LLY
DESCRIPTION:This is for ages 12-17\, please contact Jeremy Van Hierden for more details!
URL:https://freegracefellowship.ca/event/lly-15/
END:VEVENT
BEGIN:VEVENT
DTSTART;TZID=America/Denver:20240126T190000
DTEND;TZID=America/Denver:20240126T220000
DTSTAMP:20260425T064650
CREATED:20240101T202225Z
LAST-MODIFIED:20240101T202225Z
UID:2552-1706295600-1706306400@freegracefellowship.ca
SUMMARY:BURN
DESCRIPTION:Worship Night at Free Grace Fellowship!
URL:https://freegracefellowship.ca/event/burn-3/
END:VEVENT
BEGIN:VEVENT
DTSTART;TZID=America/Denver:20240128T083000
DTEND;TZID=America/Denver:20240128T123000
DTSTAMP:20260425T064650
CREATED:20240101T195205Z
LAST-MODIFIED:20240101T195205Z
UID:2501-1706430600-1706445000@freegracefellowship.ca
SUMMARY:Church!!
DESCRIPTION:There will be two services: one at 8:30am and 11am!
URL:https://freegracefellowship.ca/event/church-8/
END:VEVENT
BEGIN:VEVENT
DTSTART;TZID=America/Denver:20240128T101000
DTEND;TZID=America/Denver:20240128T104500
DTSTAMP:20260425T064650
CREATED:20240101T195526Z
LAST-MODIFIED:20240101T195526Z
UID:2509-1706436600-1706438700@freegracefellowship.ca
SUMMARY:Discipleship Class
DESCRIPTION:
URL:https://freegracefellowship.ca/event/discipleship-class-6/
END:VEVENT
BEGIN:VEVENT
DTSTART;TZID=America/Denver:20240129T193000
DTEND;TZID=America/Denver:20240129T213000
DTSTAMP:20260425T064650
CREATED:20240101T200253Z
LAST-MODIFIED:20240101T200253Z
UID:2520-1706556600-1706563800@freegracefellowship.ca
SUMMARY:Monday Night Small Group
DESCRIPTION:This is at Harvey and Susan Grant’s house! Contact Bill Zwartbol for more details!
URL:https://freegracefellowship.ca/event/monday-night-small-group-40/
END:VEVENT
BEGIN:VEVENT
DTSTART;TZID=America/Denver:20240130T080000
DTEND;TZID=America/Denver:20240130T170000
DTSTAMP:20260425T064650
CREATED:20240131T020217Z
LAST-MODIFIED:20240131T020217Z
UID:2590-1706601600-1706634000@freegracefellowship.ca
SUMMARY:LLY
DESCRIPTION:Kingdom Night! Contact Jeremy Van Hierden for more details!
URL:https://freegracefellowship.ca/event/lly-19/
END:VEVENT
BEGIN:VEVENT
DTSTART;TZID=America/Denver:20240130T094500
DTEND;TZID=America/Denver:20240130T114500
DTSTAMP:20260425T064650
CREATED:20240106T214127Z
LAST-MODIFIED:20240106T214127Z
UID:2558-1706607900-1706615100@freegracefellowship.ca
SUMMARY:Mom's Group
DESCRIPTION:This is in the Gathering Grounds of the church! Contact Margaret Slingerland for more details!
URL:https://freegracefellowship.ca/event/moms-group-22/
END:VEVENT
BEGIN:VEVENT
DTSTART;TZID=America/Denver:20240130T190000
DTEND;TZID=America/Denver:20240130T210000
DTSTAMP:20260425T064650
CREATED:20240101T200628Z
LAST-MODIFIED:20240101T200628Z
UID:2526-1706641200-1706648400@freegracefellowship.ca
SUMMARY:Tuesday Night Small Group
DESCRIPTION:This is in the Gathering Grounds of the church. Please contact Alan Woodroffe for more details!
URL:https://freegracefellowship.ca/event/tuesday-night-small-group-25/
END:VEVENT
BEGIN:VEVENT
DTSTART;TZID=America/Denver:20240131T190000
DTEND;TZID=America/Denver:20240131T210000
DTSTAMP:20260425T064650
CREATED:20240101T201140Z
LAST-MODIFIED:20240101T201140Z
UID:2536-1706727600-1706734800@freegracefellowship.ca
SUMMARY:Jesus Alphas
DESCRIPTION:This is for young adults who desire a deeper relationship with Jesus! Its a night of worship and prayer! This is at the Bilec’s house. Contact Larry Schille or Sherrie Bilec for more details!
URL:https://freegracefellowship.ca/event/jesus-alphas-18/
END:VEVENT
BEGIN:VEVENT
DTSTART;TZID=America/Denver:20240131T193000
DTEND;TZID=America/Denver:20240131T213000
DTSTAMP:20260425T064650
CREATED:20240101T201722Z
LAST-MODIFIED:20240101T201722Z
UID:2544-1706729400-1706736600@freegracefellowship.ca
SUMMARY:Wednesday Night Small Group
DESCRIPTION:This is at Sherry and Graham Bretherick’s house! Contact Graham for more details!
URL:https://freegracefellowship.ca/event/wednesday-night-small-group-24/
END:VEVENT
BEGIN:VEVENT
DTSTART;TZID=America/Denver:20240201T190000
DTEND;TZID=America/Denver:20240201T210000
DTSTAMP:20260425T064650
CREATED:20240131T014829Z
LAST-MODIFIED:20240131T014829Z
UID:2564-1706814000-1706821200@freegracefellowship.ca
SUMMARY:Alan's Small Group
DESCRIPTION:This will be in the Gathering Grounds of the church! Contact Alan Woodroffe for more details!
URL:https://freegracefellowship.ca/event/alans-small-group-5/
END:VEVENT
END:VCALENDAR