BEGIN:VCALENDAR
VERSION:2.0
PRODID:-//Free Grace Fellowship - ECPv6.15.20//NONSGML v1.0//EN
CALSCALE:GREGORIAN
METHOD:PUBLISH
X-WR-CALNAME:Free Grace Fellowship
X-ORIGINAL-URL:https://freegracefellowship.ca
X-WR-CALDESC:Events for Free Grace Fellowship
REFRESH-INTERVAL;VALUE=DURATION:PT1H
X-Robots-Tag:noindex
X-PUBLISHED-TTL:PT1H
BEGIN:VTIMEZONE
TZID:America/Denver
BEGIN:DAYLIGHT
TZOFFSETFROM:-0700
TZOFFSETTO:-0600
TZNAME:MDT
DTSTART:20230312T090000
END:DAYLIGHT
BEGIN:STANDARD
TZOFFSETFROM:-0600
TZOFFSETTO:-0700
TZNAME:MST
DTSTART:20231105T080000
END:STANDARD
BEGIN:DAYLIGHT
TZOFFSETFROM:-0700
TZOFFSETTO:-0600
TZNAME:MDT
DTSTART:20240310T090000
END:DAYLIGHT
BEGIN:STANDARD
TZOFFSETFROM:-0600
TZOFFSETTO:-0700
TZNAME:MST
DTSTART:20241103T080000
END:STANDARD
BEGIN:DAYLIGHT
TZOFFSETFROM:-0700
TZOFFSETTO:-0600
TZNAME:MDT
DTSTART:20250309T090000
END:DAYLIGHT
BEGIN:STANDARD
TZOFFSETFROM:-0600
TZOFFSETTO:-0700
TZNAME:MST
DTSTART:20251102T080000
END:STANDARD
END:VTIMEZONE
BEGIN:VEVENT
DTSTART;TZID=America/Denver:20240911T193000
DTEND;TZID=America/Denver:20240911T213000
DTSTAMP:20260425T073155
CREATED:20240912T033046Z
LAST-MODIFIED:20240912T033046Z
UID:2913-1726083000-1726090200@freegracefellowship.ca
SUMMARY:Wednesday Night Small Group
DESCRIPTION:Wednesday Night Small Group
URL:https://freegracefellowship.ca/event/wednesday-night-small-group-42/
LOCATION:Graham & Sherry’s House
ORGANIZER;CN="Graham Bretherick":MAILTO:grahambretherick@gmail.com
END:VEVENT
BEGIN:VEVENT
DTSTART;TZID=America/Denver:20240915T083000
DTEND;TZID=America/Denver:20240915T110000
DTSTAMP:20260425T073155
CREATED:20240912T031805Z
LAST-MODIFIED:20240912T031914Z
UID:2899-1726389000-1726398000@freegracefellowship.ca
SUMMARY:Start of 2 Services
DESCRIPTION:First day of service transitioning back to 2 services. 8:30AM & 11:00 AM!
URL:https://freegracefellowship.ca/event/start-of-2-services/
LOCATION:Free Grace Fellowship Church\, 1807 2A Ave N\, Lethbridge\, AB\, Canada
END:VEVENT
BEGIN:VEVENT
DTSTART;TZID=America/Denver:20240917T190000
DTEND;TZID=America/Denver:20240917T210000
DTSTAMP:20260425T073155
CREATED:20240912T031251Z
LAST-MODIFIED:20240912T031251Z
UID:2893-1726599600-1726606800@freegracefellowship.ca
SUMMARY:Tuesday Night Small Group
DESCRIPTION:Tuesday Night Small Group
URL:https://freegracefellowship.ca/event/tuesday-night-small-group-34/
LOCATION:The Gathering Grounds
ORGANIZER;CN="Alan Woodroffe":MAILTO:alanannwoodroffe@gmail.com
END:VEVENT
BEGIN:VEVENT
DTSTART;TZID=America/Denver:20240917T190000
DTEND;TZID=America/Denver:20240917T210000
DTSTAMP:20260425T073155
CREATED:20240912T032545Z
LAST-MODIFIED:20240912T032545Z
UID:2907-1726599600-1726606800@freegracefellowship.ca
SUMMARY:Ladies Bible Study
DESCRIPTION:Monthly Ladies Bible Study
URL:https://freegracefellowship.ca/event/ladies-bible-study-26/
LOCATION:The Gathering Grounds
END:VEVENT
BEGIN:VEVENT
DTSTART;TZID=America/Denver:20240917T193000
DTEND;TZID=America/Denver:20240917T213000
DTSTAMP:20260425T073155
CREATED:20240925T155717Z
LAST-MODIFIED:20240925T155717Z
UID:2928-1726601400-1726608600@freegracefellowship.ca
SUMMARY:Mattheology Small Group
DESCRIPTION:
URL:https://freegracefellowship.ca/event/mattheology-small-group-2/
LOCATION:Free Grace Fellowship Church\, 1807 2A Ave N\, Lethbridge\, AB\, Canada
ORGANIZER;CN="Bill Zwartbol":MAILTO:bezwartbol@telus.net
END:VEVENT
BEGIN:VEVENT
DTSTART;TZID=America/Denver:20240918T190000
DTEND;TZID=America/Denver:20240918T210000
DTSTAMP:20260425T073155
CREATED:20240912T033226Z
LAST-MODIFIED:20240912T033226Z
UID:2915-1726686000-1726693200@freegracefellowship.ca
SUMMARY:DivorceCare Group
DESCRIPTION:DivorceCare Group Meeting. Cost: $35 (Subsidies Available)
URL:https://freegracefellowship.ca/event/divorcecare-group/
LOCATION:The Gathering Grounds
END:VEVENT
BEGIN:VEVENT
DTSTART;TZID=America/Denver:20240918T193000
DTEND;TZID=America/Denver:20240918T213000
DTSTAMP:20260425T073155
CREATED:20240912T032200Z
LAST-MODIFIED:20240912T032200Z
UID:2901-1726687800-1726695000@freegracefellowship.ca
SUMMARY:Wednesday Night Small Group
DESCRIPTION:Wednesday Night Small Group
URL:https://freegracefellowship.ca/event/wednesday-night-small-group-40/
LOCATION:Graham & Sherry’s House
ORGANIZER;CN="Graham Bretherick":MAILTO:grahambretherick@gmail.com
END:VEVENT
BEGIN:VEVENT
DTSTART;TZID=America/Denver:20240924T100000
DTEND;TZID=America/Denver:20240924T120000
DTSTAMP:20260425T073155
CREATED:20240925T155916Z
LAST-MODIFIED:20240925T155916Z
UID:2932-1727172000-1727179200@freegracefellowship.ca
SUMMARY:Mom's Small Group
DESCRIPTION:
URL:https://freegracefellowship.ca/event/moms-small-group/
LOCATION:The Gathering Grounds
END:VEVENT
BEGIN:VEVENT
DTSTART;TZID=America/Denver:20240924T190000
DTEND;TZID=America/Denver:20240924T210000
DTSTAMP:20260425T073155
CREATED:20240912T032327Z
LAST-MODIFIED:20240912T032327Z
UID:2903-1727204400-1727211600@freegracefellowship.ca
SUMMARY:Tuesday Night Small Group
DESCRIPTION:Tuesday Night Small Group
URL:https://freegracefellowship.ca/event/tuesday-night-small-group-35/
LOCATION:The Gathering Grounds
ORGANIZER;CN="Alan Woodroffe":MAILTO:alanannwoodroffe@gmail.com
END:VEVENT
BEGIN:VEVENT
DTSTART;TZID=America/Denver:20240924T193000
DTEND;TZID=America/Denver:20240924T213000
DTSTAMP:20260425T073155
CREATED:20240925T155806Z
LAST-MODIFIED:20240925T155806Z
UID:2930-1727206200-1727213400@freegracefellowship.ca
SUMMARY:Mattheology Small Group
DESCRIPTION:
URL:https://freegracefellowship.ca/event/mattheology-small-group-3/
LOCATION:Free Grace Fellowship Church\, 1807 2A Ave N\, Lethbridge\, AB\, Canada
ORGANIZER;CN="Bill Zwartbol":MAILTO:bezwartbol@telus.net
END:VEVENT
BEGIN:VEVENT
DTSTART;TZID=America/Denver:20240925T190000
DTEND;TZID=America/Denver:20240925T210000
DTSTAMP:20260425T073155
CREATED:20240912T033339Z
LAST-MODIFIED:20240913T001637Z
UID:2918-1727290800-1727298000@freegracefellowship.ca
SUMMARY:DivorceCare Group
DESCRIPTION:DivorceCare Group Meeting. Cost: $35 (Subsidies Available)
URL:https://freegracefellowship.ca/event/divorcecare/
LOCATION:The Gathering Grounds
END:VEVENT
BEGIN:VEVENT
DTSTART;TZID=America/Denver:20240925T193000
DTEND;TZID=America/Denver:20240925T213000
DTSTAMP:20260425T073155
CREATED:20240912T032444Z
LAST-MODIFIED:20240912T032444Z
UID:2905-1727292600-1727299800@freegracefellowship.ca
SUMMARY:Wednesday Night Small Group
DESCRIPTION:Wednesday Night Small Group
URL:https://freegracefellowship.ca/event/wednesday-night-small-group-41/
LOCATION:Graham & Sherry’s House
ORGANIZER;CN="Graham Bretherick":MAILTO:grahambretherick@gmail.com
END:VEVENT
BEGIN:VEVENT
DTSTART;TZID=America/Denver:20241001T190000
DTEND;TZID=America/Denver:20241001T210000
DTSTAMP:20260425T073155
CREATED:20241004T161307Z
LAST-MODIFIED:20241004T161307Z
UID:2938-1727809200-1727816400@freegracefellowship.ca
SUMMARY:Tuesday Night Small Group
DESCRIPTION:
URL:https://freegracefellowship.ca/event/tuesday-night-small-group-37/
LOCATION:The Gathering Grounds
ORGANIZER;CN="Alan Woodroffe":MAILTO:alanannwoodroffe@gmail.com
END:VEVENT
BEGIN:VEVENT
DTSTART;TZID=America/Denver:20241001T190000
DTEND;TZID=America/Denver:20241001T210000
DTSTAMP:20260425T073155
CREATED:20241004T161406Z
LAST-MODIFIED:20241004T161406Z
UID:2940-1727809200-1727816400@freegracefellowship.ca
SUMMARY:Mattheology Small Group
DESCRIPTION:
URL:https://freegracefellowship.ca/event/mattheology-small-group-4/
LOCATION:Free Grace Fellowship Church\, 1807 2A Ave N\, Lethbridge\, AB\, Canada
ORGANIZER;CN="Bill Zwartbol":MAILTO:bezwartbol@telus.net
END:VEVENT
BEGIN:VEVENT
DTSTART;TZID=America/Denver:20241002T100000
DTEND;TZID=America/Denver:20241002T120000
DTSTAMP:20260425T073155
CREATED:20241004T162729Z
LAST-MODIFIED:20241004T162729Z
UID:2965-1727863200-1727870400@freegracefellowship.ca
SUMMARY:Senior Ladies' Bible Study
DESCRIPTION:
URL:https://freegracefellowship.ca/event/senior-ladies-bible-study/
END:VEVENT
BEGIN:VEVENT
DTSTART;TZID=America/Denver:20241002T190000
DTEND;TZID=America/Denver:20241002T210000
DTSTAMP:20260425T073155
CREATED:20241004T161556Z
LAST-MODIFIED:20241004T161556Z
UID:2944-1727895600-1727902800@freegracefellowship.ca
SUMMARY:DivorceCare
DESCRIPTION:
URL:https://freegracefellowship.ca/event/divorcecare-2/
LOCATION:Free Grace Fellowship Church\, 1807 2A Ave N\, Lethbridge\, AB\, Canada
END:VEVENT
BEGIN:VEVENT
DTSTART;TZID=America/Denver:20241002T193000
DTEND;TZID=America/Denver:20241002T210000
DTSTAMP:20260425T073155
CREATED:20241004T161504Z
LAST-MODIFIED:20241004T161504Z
UID:2942-1727897400-1727902800@freegracefellowship.ca
SUMMARY:Wednesday Night Small Group
DESCRIPTION:
URL:https://freegracefellowship.ca/event/wednesday-night-small-group-43/
LOCATION:Graham & Sherry’s House
ORGANIZER;CN="Graham Bretherick":MAILTO:grahambretherick@gmail.com
END:VEVENT
BEGIN:VEVENT
DTSTART;TZID=America/Denver:20241006T083000
DTEND;TZID=America/Denver:20241006T120000
DTSTAMP:20260425T073155
CREATED:20241004T161648Z
LAST-MODIFIED:20241004T161648Z
UID:2946-1728203400-1728216000@freegracefellowship.ca
SUMMARY:Communion
DESCRIPTION:
URL:https://freegracefellowship.ca/event/communion-9/
LOCATION:Free Grace Fellowship Church\, 1807 2A Ave N\, Lethbridge\, AB\, Canada
END:VEVENT
BEGIN:VEVENT
DTSTART;TZID=America/Denver:20241007T193000
DTEND;TZID=America/Denver:20241007T210000
DTSTAMP:20260425T073155
CREATED:20241004T161734Z
LAST-MODIFIED:20241004T161734Z
UID:2949-1728329400-1728334800@freegracefellowship.ca
SUMMARY:Poole's Prayer Group
DESCRIPTION:
URL:https://freegracefellowship.ca/event/pooles-prayer-group/
LOCATION:Free Grace Fellowship Church\, 1807 2A Ave N\, Lethbridge\, AB\, Canada
END:VEVENT
BEGIN:VEVENT
DTSTART;TZID=America/Denver:20241008T093000
DTEND;TZID=America/Denver:20241008T113000
DTSTAMP:20260425T073155
CREATED:20241004T162451Z
LAST-MODIFIED:20241004T162451Z
UID:2963-1728379800-1728387000@freegracefellowship.ca
SUMMARY:Mom's Group
DESCRIPTION:
URL:https://freegracefellowship.ca/event/moms-group-32/
LOCATION:The Gathering Grounds
END:VEVENT
BEGIN:VEVENT
DTSTART;TZID=America/Denver:20241008T190000
DTEND;TZID=America/Denver:20241008T210000
DTSTAMP:20260425T073155
CREATED:20241004T161829Z
LAST-MODIFIED:20241004T161829Z
UID:2951-1728414000-1728421200@freegracefellowship.ca
SUMMARY:Tuesday Night Small Group
DESCRIPTION:
URL:https://freegracefellowship.ca/event/tuesday-night-small-group-39/
LOCATION:The Gathering Grounds
ORGANIZER;CN="Alan Woodroffe":MAILTO:alanannwoodroffe@gmail.com
END:VEVENT
BEGIN:VEVENT
DTSTART;TZID=America/Denver:20241008T190000
DTEND;TZID=America/Denver:20241008T210000
DTSTAMP:20260425T073155
CREATED:20241004T161937Z
LAST-MODIFIED:20241004T161937Z
UID:2953-1728414000-1728421200@freegracefellowship.ca
SUMMARY:Mattheology Small Group
DESCRIPTION:
URL:https://freegracefellowship.ca/event/mattheology-small-group-5/
LOCATION:Free Grace Fellowship Church\, 1807 2A Ave N\, Lethbridge\, AB\, Canada
ORGANIZER;CN="Bill Zwartbol":MAILTO:bezwartbol@telus.net
END:VEVENT
BEGIN:VEVENT
DTSTART;TZID=America/Denver:20241009T190000
DTEND;TZID=America/Denver:20241009T210000
DTSTAMP:20260425T073155
CREATED:20241004T162239Z
LAST-MODIFIED:20241004T162239Z
UID:2959-1728500400-1728507600@freegracefellowship.ca
SUMMARY:DivorceCare
DESCRIPTION:
URL:https://freegracefellowship.ca/event/divorcecare-3/
LOCATION:Free Grace Fellowship Church\, 1807 2A Ave N\, Lethbridge\, AB\, Canada
END:VEVENT
BEGIN:VEVENT
DTSTART;TZID=America/Denver:20241009T190000
DTEND;TZID=America/Denver:20241009T210000
DTSTAMP:20260425T073155
CREATED:20241008T014744Z
LAST-MODIFIED:20241008T014744Z
UID:2999-1728500400-1728507600@freegracefellowship.ca
SUMMARY:Prophetics Small Group
DESCRIPTION:
URL:https://freegracefellowship.ca/event/prophetics-small-group/
END:VEVENT
BEGIN:VEVENT
DTSTART;TZID=America/Denver:20241009T193000
DTEND;TZID=America/Denver:20241009T210000
DTSTAMP:20260425T073155
CREATED:20241004T162048Z
LAST-MODIFIED:20241004T162048Z
UID:2955-1728502200-1728507600@freegracefellowship.ca
SUMMARY:Wednesday Night Small Group
DESCRIPTION:
URL:https://freegracefellowship.ca/event/wednesday-night-small-group-44/
LOCATION:Graham & Sherry’s House
ORGANIZER;CN="Graham Bretherick":MAILTO:grahambretherick@gmail.com
END:VEVENT
BEGIN:VEVENT
DTSTART;TZID=America/Denver:20241009T193000
DTEND;TZID=America/Denver:20241009T210000
DTSTAMP:20260425T073155
CREATED:20241004T162140Z
LAST-MODIFIED:20241004T162140Z
UID:2957-1728502200-1728507600@freegracefellowship.ca
SUMMARY:Corporate Prayer Meeting
DESCRIPTION:
URL:https://freegracefellowship.ca/event/corporate-prayer-meeting-21/
LOCATION:Free Grace Fellowship Church\, 1807 2A Ave N\, Lethbridge\, AB\, Canada
ORGANIZER;CN="Bill Zwartbol":MAILTO:bezwartbol@telus.net
END:VEVENT
BEGIN:VEVENT
DTSTART;TZID=America/Denver:20241014T193000
DTEND;TZID=America/Denver:20241014T210000
DTSTAMP:20260425T073155
CREATED:20241004T162356Z
LAST-MODIFIED:20241004T162356Z
UID:2961-1728934200-1728939600@freegracefellowship.ca
SUMMARY:Poole's Prayer Group
DESCRIPTION:
URL:https://freegracefellowship.ca/event/pooles-prayer-group-2/
LOCATION:Free Grace Fellowship Church\, 1807 2A Ave N\, Lethbridge\, AB\, Canada
END:VEVENT
BEGIN:VEVENT
DTSTART;TZID=America/Denver:20241015T190000
DTEND;TZID=America/Denver:20241015T210000
DTSTAMP:20260425T073155
CREATED:20241004T162827Z
LAST-MODIFIED:20241004T162827Z
UID:2967-1729018800-1729026000@freegracefellowship.ca
SUMMARY:Tuesday Night Small Group
DESCRIPTION:
URL:https://freegracefellowship.ca/event/tuesday-night-small-group-40/
LOCATION:The Gathering Grounds
ORGANIZER;CN="Alan Woodroffe":MAILTO:alanannwoodroffe@gmail.com
END:VEVENT
BEGIN:VEVENT
DTSTART;TZID=America/Denver:20241015T190000
DTEND;TZID=America/Denver:20241015T210000
DTSTAMP:20260425T073155
CREATED:20241004T162925Z
LAST-MODIFIED:20241004T162925Z
UID:2969-1729018800-1729026000@freegracefellowship.ca
SUMMARY:Ladies' Bible Study
DESCRIPTION:
URL:https://freegracefellowship.ca/event/ladies-bible-study-27/
LOCATION:The Gathering Grounds
END:VEVENT
BEGIN:VEVENT
DTSTART;TZID=America/Denver:20241015T190000
DTEND;TZID=America/Denver:20241015T210000
DTSTAMP:20260425T073155
CREATED:20241004T163019Z
LAST-MODIFIED:20241004T163019Z
UID:2971-1729018800-1729026000@freegracefellowship.ca
SUMMARY:Mattheology Small Group
DESCRIPTION:
URL:https://freegracefellowship.ca/event/mattheology-small-group-6/
LOCATION:Free Grace Fellowship Church\, 1807 2A Ave N\, Lethbridge\, AB\, Canada
ORGANIZER;CN="Bill Zwartbol":MAILTO:bezwartbol@telus.net
END:VEVENT
END:VCALENDAR