BEGIN:VCALENDAR
VERSION:2.0
PRODID:-//Free Grace Fellowship - ECPv6.15.20//NONSGML v1.0//EN
CALSCALE:GREGORIAN
METHOD:PUBLISH
X-ORIGINAL-URL:https://freegracefellowship.ca
X-WR-CALDESC:Events for Free Grace Fellowship
REFRESH-INTERVAL;VALUE=DURATION:PT1H
X-Robots-Tag:noindex
X-PUBLISHED-TTL:PT1H
BEGIN:VTIMEZONE
TZID:America/Denver
BEGIN:DAYLIGHT
TZOFFSETFROM:-0700
TZOFFSETTO:-0600
TZNAME:MDT
DTSTART:20230312T090000
END:DAYLIGHT
BEGIN:STANDARD
TZOFFSETFROM:-0600
TZOFFSETTO:-0700
TZNAME:MST
DTSTART:20231105T080000
END:STANDARD
BEGIN:DAYLIGHT
TZOFFSETFROM:-0700
TZOFFSETTO:-0600
TZNAME:MDT
DTSTART:20240310T090000
END:DAYLIGHT
BEGIN:STANDARD
TZOFFSETFROM:-0600
TZOFFSETTO:-0700
TZNAME:MST
DTSTART:20241103T080000
END:STANDARD
BEGIN:DAYLIGHT
TZOFFSETFROM:-0700
TZOFFSETTO:-0600
TZNAME:MDT
DTSTART:20250309T090000
END:DAYLIGHT
BEGIN:STANDARD
TZOFFSETFROM:-0600
TZOFFSETTO:-0700
TZNAME:MST
DTSTART:20251102T080000
END:STANDARD
END:VTIMEZONE
BEGIN:VEVENT
DTSTART;TZID=America/Denver:20241009T193000
DTEND;TZID=America/Denver:20241009T210000
DTSTAMP:20260425T081849
CREATED:20241004T162048Z
LAST-MODIFIED:20241004T162048Z
UID:2955-1728502200-1728507600@freegracefellowship.ca
SUMMARY:Wednesday Night Small Group
DESCRIPTION:
URL:https://freegracefellowship.ca/event/wednesday-night-small-group-44/
LOCATION:Graham & Sherry’s House
ORGANIZER;CN="Graham Bretherick":MAILTO:grahambretherick@gmail.com
END:VEVENT
BEGIN:VEVENT
DTSTART;TZID=America/Denver:20241009T193000
DTEND;TZID=America/Denver:20241009T210000
DTSTAMP:20260425T081849
CREATED:20241004T162140Z
LAST-MODIFIED:20241004T162140Z
UID:2957-1728502200-1728507600@freegracefellowship.ca
SUMMARY:Corporate Prayer Meeting
DESCRIPTION:
URL:https://freegracefellowship.ca/event/corporate-prayer-meeting-21/
LOCATION:Free Grace Fellowship Church\, 1807 2A Ave N\, Lethbridge\, AB\, Canada
ORGANIZER;CN="Bill Zwartbol":MAILTO:bezwartbol@telus.net
END:VEVENT
BEGIN:VEVENT
DTSTART;TZID=America/Denver:20241014T193000
DTEND;TZID=America/Denver:20241014T210000
DTSTAMP:20260425T081849
CREATED:20241004T162356Z
LAST-MODIFIED:20241004T162356Z
UID:2961-1728934200-1728939600@freegracefellowship.ca
SUMMARY:Poole's Prayer Group
DESCRIPTION:
URL:https://freegracefellowship.ca/event/pooles-prayer-group-2/
LOCATION:Free Grace Fellowship Church\, 1807 2A Ave N\, Lethbridge\, AB\, Canada
END:VEVENT
BEGIN:VEVENT
DTSTART;TZID=America/Denver:20241015T190000
DTEND;TZID=America/Denver:20241015T210000
DTSTAMP:20260425T081849
CREATED:20241004T162827Z
LAST-MODIFIED:20241004T162827Z
UID:2967-1729018800-1729026000@freegracefellowship.ca
SUMMARY:Tuesday Night Small Group
DESCRIPTION:
URL:https://freegracefellowship.ca/event/tuesday-night-small-group-40/
LOCATION:The Gathering Grounds
ORGANIZER;CN="Alan Woodroffe":MAILTO:alanannwoodroffe@gmail.com
END:VEVENT
BEGIN:VEVENT
DTSTART;TZID=America/Denver:20241015T190000
DTEND;TZID=America/Denver:20241015T210000
DTSTAMP:20260425T081849
CREATED:20241004T162925Z
LAST-MODIFIED:20241004T162925Z
UID:2969-1729018800-1729026000@freegracefellowship.ca
SUMMARY:Ladies' Bible Study
DESCRIPTION:
URL:https://freegracefellowship.ca/event/ladies-bible-study-27/
LOCATION:The Gathering Grounds
END:VEVENT
BEGIN:VEVENT
DTSTART;TZID=America/Denver:20241015T190000
DTEND;TZID=America/Denver:20241015T210000
DTSTAMP:20260425T081849
CREATED:20241004T163019Z
LAST-MODIFIED:20241004T163019Z
UID:2971-1729018800-1729026000@freegracefellowship.ca
SUMMARY:Mattheology Small Group
DESCRIPTION:
URL:https://freegracefellowship.ca/event/mattheology-small-group-6/
LOCATION:Free Grace Fellowship Church\, 1807 2A Ave N\, Lethbridge\, AB\, Canada
ORGANIZER;CN="Bill Zwartbol":MAILTO:bezwartbol@telus.net
END:VEVENT
BEGIN:VEVENT
DTSTART;TZID=America/Denver:20241016T190000
DTEND;TZID=America/Denver:20241016T210000
DTSTAMP:20260425T081849
CREATED:20241004T163201Z
LAST-MODIFIED:20241004T163201Z
UID:2975-1729105200-1729112400@freegracefellowship.ca
SUMMARY:DivorceCare
DESCRIPTION:
URL:https://freegracefellowship.ca/event/divorcecare-4/
LOCATION:Free Grace Fellowship Church\, 1807 2A Ave N\, Lethbridge\, AB\, Canada
END:VEVENT
BEGIN:VEVENT
DTSTART;TZID=America/Denver:20241016T190000
DTEND;TZID=America/Denver:20241016T210000
DTSTAMP:20260425T081849
CREATED:20241008T014831Z
LAST-MODIFIED:20241008T014831Z
UID:3001-1729105200-1729112400@freegracefellowship.ca
SUMMARY:Prophetics Small Group
DESCRIPTION:
URL:https://freegracefellowship.ca/event/prophetics-small-group-2/
END:VEVENT
BEGIN:VEVENT
DTSTART;TZID=America/Denver:20241016T193000
DTEND;TZID=America/Denver:20241016T210000
DTSTAMP:20260425T081849
CREATED:20241004T163115Z
LAST-MODIFIED:20241004T163115Z
UID:2973-1729107000-1729112400@freegracefellowship.ca
SUMMARY:Wednesday Night Small Group
DESCRIPTION:
URL:https://freegracefellowship.ca/event/wednesday-night-small-group-45/
LOCATION:Graham & Sherry’s House
ORGANIZER;CN="Graham Bretherick":MAILTO:grahambretherick@gmail.com
END:VEVENT
BEGIN:VEVENT
DTSTART;TZID=America/Denver:20241021T193000
DTEND;TZID=America/Denver:20241021T210000
DTSTAMP:20260425T081849
CREATED:20241004T163243Z
LAST-MODIFIED:20241004T163243Z
UID:2977-1729539000-1729544400@freegracefellowship.ca
SUMMARY:Poole's Prayer Group
DESCRIPTION:
URL:https://freegracefellowship.ca/event/pooles-prayer-group-3/
LOCATION:Free Grace Fellowship Church\, 1807 2A Ave N\, Lethbridge\, AB\, Canada
END:VEVENT
BEGIN:VEVENT
DTSTART;TZID=America/Denver:20241022T093000
DTEND;TZID=America/Denver:20241022T113000
DTSTAMP:20260425T081849
CREATED:20241004T163359Z
LAST-MODIFIED:20241004T163359Z
UID:2979-1729589400-1729596600@freegracefellowship.ca
SUMMARY:Mom's Group
DESCRIPTION:
URL:https://freegracefellowship.ca/event/moms-group-33/
LOCATION:The Gathering Grounds
END:VEVENT
BEGIN:VEVENT
DTSTART;TZID=America/Denver:20241022T190000
DTEND;TZID=America/Denver:20241022T210000
DTSTAMP:20260425T081849
CREATED:20241004T163502Z
LAST-MODIFIED:20241004T163502Z
UID:2981-1729623600-1729630800@freegracefellowship.ca
SUMMARY:Tuesday Night Small Group
DESCRIPTION:
URL:https://freegracefellowship.ca/event/tuesday-night-small-group-41/
LOCATION:The Gathering Grounds
ORGANIZER;CN="Alan Woodroffe":MAILTO:alanannwoodroffe@gmail.com
END:VEVENT
BEGIN:VEVENT
DTSTART;TZID=America/Denver:20241022T190000
DTEND;TZID=America/Denver:20241022T210000
DTSTAMP:20260425T081849
CREATED:20241004T163610Z
LAST-MODIFIED:20241004T163610Z
UID:2983-1729623600-1729630800@freegracefellowship.ca
SUMMARY:Mattheology Small Group
DESCRIPTION:
URL:https://freegracefellowship.ca/event/mattheology-small-group-7/
LOCATION:Free Grace Fellowship Church\, 1807 2A Ave N\, Lethbridge\, AB\, Canada
ORGANIZER;CN="Bill Zwartbol":MAILTO:bezwartbol@telus.net
END:VEVENT
BEGIN:VEVENT
DTSTART;TZID=America/Denver:20241023T190000
DTEND;TZID=America/Denver:20241023T210000
DTSTAMP:20260425T081849
CREATED:20241004T163745Z
LAST-MODIFIED:20241004T163745Z
UID:2987-1729710000-1729717200@freegracefellowship.ca
SUMMARY:DivorceCare
DESCRIPTION:
URL:https://freegracefellowship.ca/event/divorcecare-5/
LOCATION:Free Grace Fellowship Church\, 1807 2A Ave N\, Lethbridge\, AB\, Canada
END:VEVENT
BEGIN:VEVENT
DTSTART;TZID=America/Denver:20241023T190000
DTEND;TZID=America/Denver:20241023T210000
DTSTAMP:20260425T081849
CREATED:20241008T014911Z
LAST-MODIFIED:20241008T014911Z
UID:3003-1729710000-1729717200@freegracefellowship.ca
SUMMARY:Prophetics Small Group
DESCRIPTION:
URL:https://freegracefellowship.ca/event/prophetics-small-group-3/
END:VEVENT
BEGIN:VEVENT
DTSTART;TZID=America/Denver:20241023T193000
DTEND;TZID=America/Denver:20241023T210000
DTSTAMP:20260425T081849
CREATED:20241004T163702Z
LAST-MODIFIED:20241004T163702Z
UID:2985-1729711800-1729717200@freegracefellowship.ca
SUMMARY:Wednesday Night Small Group
DESCRIPTION:
URL:https://freegracefellowship.ca/event/wednesday-night-small-group-46/
LOCATION:Graham & Sherry’s House
ORGANIZER;CN="Graham Bretherick":MAILTO:grahambretherick@gmail.com
END:VEVENT
BEGIN:VEVENT
DTSTART;TZID=America/Denver:20241028T193000
DTEND;TZID=America/Denver:20241028T210000
DTSTAMP:20260425T081849
CREATED:20241004T163829Z
LAST-MODIFIED:20241004T163829Z
UID:2989-1730143800-1730149200@freegracefellowship.ca
SUMMARY:Poole's Prayer Group
DESCRIPTION:
URL:https://freegracefellowship.ca/event/pooles-prayer-group-4/
LOCATION:Free Grace Fellowship Church\, 1807 2A Ave N\, Lethbridge\, AB\, Canada
END:VEVENT
BEGIN:VEVENT
DTSTART;TZID=America/Denver:20241029T190000
DTEND;TZID=America/Denver:20241029T210000
DTSTAMP:20260425T081849
CREATED:20241004T163920Z
LAST-MODIFIED:20241004T163920Z
UID:2991-1730228400-1730235600@freegracefellowship.ca
SUMMARY:Tuesday Night Small Group
DESCRIPTION:
URL:https://freegracefellowship.ca/event/tuesday-night-small-group-42/
LOCATION:The Gathering Grounds
ORGANIZER;CN="Alan Woodroffe":MAILTO:alanannwoodroffe@gmail.com
END:VEVENT
BEGIN:VEVENT
DTSTART;TZID=America/Denver:20241029T190000
DTEND;TZID=America/Denver:20241029T210000
DTSTAMP:20260425T081849
CREATED:20241004T164004Z
LAST-MODIFIED:20241004T164004Z
UID:2993-1730228400-1730235600@freegracefellowship.ca
SUMMARY:Mattheology Small Group
DESCRIPTION:
URL:https://freegracefellowship.ca/event/mattheology-small-group-8/
LOCATION:Free Grace Fellowship Church\, 1807 2A Ave N\, Lethbridge\, AB\, Canada
ORGANIZER;CN="Bill Zwartbol":MAILTO:bezwartbol@telus.net
END:VEVENT
BEGIN:VEVENT
DTSTART;TZID=America/Denver:20241030T190000
DTEND;TZID=America/Denver:20241030T210000
DTSTAMP:20260425T081849
CREATED:20241004T164132Z
LAST-MODIFIED:20241004T164132Z
UID:2997-1730314800-1730322000@freegracefellowship.ca
SUMMARY:DivorceCare
DESCRIPTION:
URL:https://freegracefellowship.ca/event/divorcecare-6/
LOCATION:Free Grace Fellowship Church\, 1807 2A Ave N\, Lethbridge\, AB\, Canada
END:VEVENT
BEGIN:VEVENT
DTSTART;TZID=America/Denver:20241030T190000
DTEND;TZID=America/Denver:20241030T210000
DTSTAMP:20260425T081849
CREATED:20241008T014959Z
LAST-MODIFIED:20241008T014959Z
UID:3005-1730314800-1730322000@freegracefellowship.ca
SUMMARY:Prophetics Small Group
DESCRIPTION:
URL:https://freegracefellowship.ca/event/prophetics-small-group-4/
END:VEVENT
BEGIN:VEVENT
DTSTART;TZID=America/Denver:20241030T193000
DTEND;TZID=America/Denver:20241030T213000
DTSTAMP:20260425T081849
CREATED:20241004T164053Z
LAST-MODIFIED:20241004T164053Z
UID:2995-1730316600-1730323800@freegracefellowship.ca
SUMMARY:Wednesday Night Small Group
DESCRIPTION:
URL:https://freegracefellowship.ca/event/wednesday-night-small-group-47/
LOCATION:Graham & Sherry’s House
ORGANIZER;CN="Graham Bretherick":MAILTO:grahambretherick@gmail.com
END:VEVENT
BEGIN:VEVENT
DTSTART;TZID=America/Denver:20241101T080000
DTEND;TZID=America/Denver:20241103T170000
DTSTAMP:20260425T081849
CREATED:20241105T201507Z
LAST-MODIFIED:20241105T201507Z
UID:3007-1730448000-1730653200@freegracefellowship.ca
SUMMARY:Ladies Retreat
DESCRIPTION:
URL:https://freegracefellowship.ca/event/ladies-retreat-2/
END:VEVENT
BEGIN:VEVENT
DTSTART;TZID=America/Denver:20241104T193000
DTEND;TZID=America/Denver:20241104T210000
DTSTAMP:20260425T081849
CREATED:20241105T201553Z
LAST-MODIFIED:20241105T201553Z
UID:3009-1730748600-1730754000@freegracefellowship.ca
SUMMARY:Poole's Prayer Group
DESCRIPTION:
URL:https://freegracefellowship.ca/event/pooles-prayer-group-5/
LOCATION:Free Grace Fellowship Church\, 1807 2A Ave N\, Lethbridge\, AB\, Canada
END:VEVENT
BEGIN:VEVENT
DTSTART;TZID=America/Denver:20241105T093000
DTEND;TZID=America/Denver:20241105T113000
DTSTAMP:20260425T081849
CREATED:20241105T201652Z
LAST-MODIFIED:20241105T201652Z
UID:3011-1730799000-1730806200@freegracefellowship.ca
SUMMARY:Mom's Group
DESCRIPTION:
URL:https://freegracefellowship.ca/event/moms-group-34/
LOCATION:The Gathering Grounds
END:VEVENT
BEGIN:VEVENT
DTSTART;TZID=America/Denver:20241105T190000
DTEND;TZID=America/Denver:20241105T210000
DTSTAMP:20260425T081849
CREATED:20241105T201830Z
LAST-MODIFIED:20241105T201830Z
UID:3013-1730833200-1730840400@freegracefellowship.ca
SUMMARY:Mattheology Group
DESCRIPTION:
URL:https://freegracefellowship.ca/event/mattheology-group/
LOCATION:Free Grace Fellowship Church\, 1807 2A Ave N\, Lethbridge\, AB\, Canada
END:VEVENT
BEGIN:VEVENT
DTSTART;TZID=America/Denver:20241105T190000
DTEND;TZID=America/Denver:20241105T210000
DTSTAMP:20260425T081849
CREATED:20241105T201951Z
LAST-MODIFIED:20241105T201951Z
UID:3015-1730833200-1730840400@freegracefellowship.ca
SUMMARY:Tuesday Night Small Group
DESCRIPTION:
URL:https://freegracefellowship.ca/event/tuesday-night-small-group-43/
LOCATION:The Gathering Grounds
END:VEVENT
BEGIN:VEVENT
DTSTART;TZID=America/Denver:20241106T190000
DTEND;TZID=America/Denver:20241106T210000
DTSTAMP:20260425T081849
CREATED:20241105T202108Z
LAST-MODIFIED:20241105T202108Z
UID:3017-1730919600-1730926800@freegracefellowship.ca
SUMMARY:Wednesday Night Small Group
DESCRIPTION:
URL:https://freegracefellowship.ca/event/wednesday-night-small-group-48/
LOCATION:Graham & Sherry’s House
END:VEVENT
BEGIN:VEVENT
DTSTART;TZID=America/Denver:20241106T190000
DTEND;TZID=America/Denver:20241106T210000
DTSTAMP:20260425T081849
CREATED:20241105T202229Z
LAST-MODIFIED:20241105T202229Z
UID:3019-1730919600-1730926800@freegracefellowship.ca
SUMMARY:DivorceCare
DESCRIPTION:
URL:https://freegracefellowship.ca/event/divorcecare-7/
LOCATION:Free Grace Fellowship Church\, 1807 2A Ave N\, Lethbridge\, AB\, Canada
END:VEVENT
BEGIN:VEVENT
DTSTART;TZID=America/Denver:20241111T193000
DTEND;TZID=America/Denver:20241111T210000
DTSTAMP:20260425T081849
CREATED:20241105T202329Z
LAST-MODIFIED:20241106T023724Z
UID:3022-1731353400-1731358800@freegracefellowship.ca
SUMMARY:Poole's Prayer Group
DESCRIPTION:
URL:https://freegracefellowship.ca/event/pooles-prayer-group-6/
LOCATION:Free Grace Fellowship Church\, 1807 2A Ave N\, Lethbridge\, AB\, Canada
END:VEVENT
END:VCALENDAR