BEGIN:VCALENDAR
VERSION:2.0
PRODID:-//Free Grace Fellowship - ECPv6.15.20//NONSGML v1.0//EN
CALSCALE:GREGORIAN
METHOD:PUBLISH
X-WR-CALNAME:Free Grace Fellowship
X-ORIGINAL-URL:https://freegracefellowship.ca
X-WR-CALDESC:Events for Free Grace Fellowship
REFRESH-INTERVAL;VALUE=DURATION:PT1H
X-Robots-Tag:noindex
X-PUBLISHED-TTL:PT1H
BEGIN:VTIMEZONE
TZID:America/Denver
BEGIN:DAYLIGHT
TZOFFSETFROM:-0700
TZOFFSETTO:-0600
TZNAME:MDT
DTSTART:20210314T090000
END:DAYLIGHT
BEGIN:STANDARD
TZOFFSETFROM:-0600
TZOFFSETTO:-0700
TZNAME:MST
DTSTART:20211107T080000
END:STANDARD
BEGIN:DAYLIGHT
TZOFFSETFROM:-0700
TZOFFSETTO:-0600
TZNAME:MDT
DTSTART:20220313T090000
END:DAYLIGHT
BEGIN:STANDARD
TZOFFSETFROM:-0600
TZOFFSETTO:-0700
TZNAME:MST
DTSTART:20221106T080000
END:STANDARD
BEGIN:DAYLIGHT
TZOFFSETFROM:-0700
TZOFFSETTO:-0600
TZNAME:MDT
DTSTART:20230312T090000
END:DAYLIGHT
BEGIN:STANDARD
TZOFFSETFROM:-0600
TZOFFSETTO:-0700
TZNAME:MST
DTSTART:20231105T080000
END:STANDARD
END:VTIMEZONE
BEGIN:VEVENT
DTSTART;TZID=America/Denver:20220904T180000
DTEND;TZID=America/Denver:20220904T210000
DTSTAMP:20260425T213408
CREATED:20220825T161920Z
LAST-MODIFIED:20220825T161920Z
UID:1546-1662314400-1662325200@freegracefellowship.ca
SUMMARY:Volleyball at 6PM
DESCRIPTION:
URL:https://freegracefellowship.ca/event/volleyball-at-6pm/
LOCATION:Henderson Lake Park\, Lethbridge
ORGANIZER;CN="Arin Bergsma":MAILTO:ajbergsma18@gmail.com
END:VEVENT
BEGIN:VEVENT
DTSTART;TZID=America/Denver:20220904T180000
DTEND;TZID=America/Denver:20220904T210000
DTSTAMP:20260425T213408
CREATED:20220825T162823Z
LAST-MODIFIED:20220825T162823Z
UID:1554-1662314400-1662325200@freegracefellowship.ca
SUMMARY:Soccer at 6PM
DESCRIPTION:
URL:https://freegracefellowship.ca/event/soccer-at-6pm-2/
LOCATION:Fort Macleod Field
END:VEVENT
BEGIN:VEVENT
DTSTART;TZID=America/Denver:20220905T193000
DTEND;TZID=America/Denver:20220905T220000
DTSTAMP:20260425T213408
CREATED:20220825T163824Z
LAST-MODIFIED:20220825T163824Z
UID:1572-1662406200-1662415200@freegracefellowship.ca
SUMMARY:Small Group with Bill
DESCRIPTION:
URL:https://freegracefellowship.ca/event/small-group-with-bill-13/
LOCATION:Harvey & Susan’s House
ORGANIZER;CN="Bill Zwartbol":MAILTO:bezwartbol@telus.net
END:VEVENT
BEGIN:VEVENT
DTSTART;TZID=America/Denver:20220906T193000
DTEND;TZID=America/Denver:20220906T210000
DTSTAMP:20260425T213408
CREATED:20220825T164115Z
LAST-MODIFIED:20220825T164115Z
UID:1580-1662492600-1662498000@freegracefellowship.ca
SUMMARY:Small Group with Graham
DESCRIPTION:
URL:https://freegracefellowship.ca/event/small-group-with-graham-14/
LOCATION:Graham & Sherry’s House
ORGANIZER;CN="Graham Bretherick":MAILTO:grahambretherick@gmail.com
END:VEVENT
BEGIN:VEVENT
DTSTART;TZID=America/Denver:20220908T190000
DTEND;TZID=America/Denver:20220908T210000
DTSTAMP:20260425T213408
CREATED:20220825T163405Z
LAST-MODIFIED:20220825T163405Z
UID:1564-1662663600-1662670800@freegracefellowship.ca
SUMMARY:Love Lethbridge Youth
DESCRIPTION:
URL:https://freegracefellowship.ca/event/love-lethbridge-youth-32/
ORGANIZER;CN="Jeremy Van Hierden":MAILTO:lovelethbridgeyouth@gmail.com
END:VEVENT
BEGIN:VEVENT
DTSTART;TZID=America/Denver:20220910T190000
DTEND;TZID=America/Denver:20220910T220000
DTSTAMP:20260425T213408
CREATED:20220825T161409Z
LAST-MODIFIED:20220825T161409Z
UID:1540-1662836400-1662847200@freegracefellowship.ca
SUMMARY:Men's Meat Night
DESCRIPTION:
URL:https://freegracefellowship.ca/event/mens-meat-night-5/
ORGANIZER;CN="Jamie Slingerland":MAILTO:slingerlandjaimie@gmail.com
END:VEVENT
BEGIN:VEVENT
DTSTART;TZID=America/Denver:20220911T180000
DTEND;TZID=America/Denver:20220911T210000
DTSTAMP:20260425T213408
CREATED:20220825T162550Z
LAST-MODIFIED:20220825T162550Z
UID:1548-1662919200-1662930000@freegracefellowship.ca
SUMMARY:Volleyball at 6PM
DESCRIPTION:
URL:https://freegracefellowship.ca/event/volleyball-at-6pm-2/
LOCATION:Henderson Lake Park\, Lethbridge
ORGANIZER;CN="Arin Bergsma":MAILTO:ajbergsma18@gmail.com
END:VEVENT
BEGIN:VEVENT
DTSTART;TZID=America/Denver:20220911T180000
DTEND;TZID=America/Denver:20220911T210000
DTSTAMP:20260425T213408
CREATED:20220825T162916Z
LAST-MODIFIED:20220825T162916Z
UID:1556-1662919200-1662930000@freegracefellowship.ca
SUMMARY:Soccer at 6PM
DESCRIPTION:
URL:https://freegracefellowship.ca/event/soccer-at-6pm-3/
LOCATION:Fort Macleod Field
END:VEVENT
BEGIN:VEVENT
DTSTART;TZID=America/Denver:20220912T193000
DTEND;TZID=America/Denver:20220912T220000
DTSTAMP:20260425T213408
CREATED:20220825T163909Z
LAST-MODIFIED:20220825T163909Z
UID:1574-1663011000-1663020000@freegracefellowship.ca
SUMMARY:Small Group with Bill
DESCRIPTION:
URL:https://freegracefellowship.ca/event/small-group-with-bill-14/
LOCATION:Harvey & Susan’s House
ORGANIZER;CN="Bill Zwartbol":MAILTO:bezwartbol@telus.net
END:VEVENT
BEGIN:VEVENT
DTSTART;TZID=America/Denver:20220913T193000
DTEND;TZID=America/Denver:20220913T210000
DTSTAMP:20260425T213408
CREATED:20220825T164149Z
LAST-MODIFIED:20220825T164149Z
UID:1582-1663097400-1663102800@freegracefellowship.ca
SUMMARY:Small Group with Graham
DESCRIPTION:
URL:https://freegracefellowship.ca/event/small-group-with-graham-15/
LOCATION:Graham & Sherry’s House
ORGANIZER;CN="Graham Bretherick":MAILTO:grahambretherick@gmail.com
END:VEVENT
BEGIN:VEVENT
DTSTART;TZID=America/Denver:20220914T193000
DTEND;TZID=America/Denver:20220914T210000
DTSTAMP:20260425T213408
CREATED:20220825T161558Z
LAST-MODIFIED:20220825T161558Z
UID:1542-1663183800-1663189200@freegracefellowship.ca
SUMMARY:Corporate Prayer Meeting
DESCRIPTION:
URL:https://freegracefellowship.ca/event/corporate-prayer-meeting-5/
LOCATION:Free Grace Fellowship Church\, 1807 2A Ave N\, Lethbridge\, AB\, Canada
ORGANIZER;CN="Bill Zwartbol":MAILTO:bezwartbol@telus.net
END:VEVENT
BEGIN:VEVENT
DTSTART;TZID=America/Denver:20220915T190000
DTEND;TZID=America/Denver:20220915T210000
DTSTAMP:20260425T213408
CREATED:20220825T163451Z
LAST-MODIFIED:20220825T163451Z
UID:1566-1663268400-1663275600@freegracefellowship.ca
SUMMARY:Love Lethbridge Youth
DESCRIPTION:
URL:https://freegracefellowship.ca/event/love-lethbridge-youth-33/
ORGANIZER;CN="Jeremy Van Hierden":MAILTO:lovelethbridgeyouth@gmail.com
END:VEVENT
BEGIN:VEVENT
DTSTART;TZID=America/Denver:20220918T130000
DTEND;TZID=America/Denver:20220918T150000
DTSTAMP:20260425T213408
CREATED:20220825T161708Z
LAST-MODIFIED:20220825T161708Z
UID:1544-1663506000-1663513200@freegracefellowship.ca
SUMMARY:Potluck Sunday
DESCRIPTION:
URL:https://freegracefellowship.ca/event/potluck-sunday/
LOCATION:Free Grace Fellowship Church\, 1807 2A Ave N\, Lethbridge\, AB\, Canada
ORGANIZER;CN="Craig & Suzanne DeGroot":MAILTO:suzannedegroot09@gmail.com
END:VEVENT
BEGIN:VEVENT
DTSTART;TZID=America/Denver:20220918T180000
DTEND;TZID=America/Denver:20220918T210000
DTSTAMP:20260425T213408
CREATED:20220825T162643Z
LAST-MODIFIED:20220825T162643Z
UID:1550-1663524000-1663534800@freegracefellowship.ca
SUMMARY:Volleyball at 6PM
DESCRIPTION:
URL:https://freegracefellowship.ca/event/volleyball-at-6pm-3/
LOCATION:Henderson Lake Park\, Lethbridge
ORGANIZER;CN="Arin Bergsma":MAILTO:ajbergsma18@gmail.com
END:VEVENT
BEGIN:VEVENT
DTSTART;TZID=America/Denver:20220918T180000
DTEND;TZID=America/Denver:20220918T210000
DTSTAMP:20260425T213408
CREATED:20220825T163144Z
LAST-MODIFIED:20220825T163144Z
UID:1562-1663524000-1663534800@freegracefellowship.ca
SUMMARY:Soccer at 6PM
DESCRIPTION:
URL:https://freegracefellowship.ca/event/soccer-at-6pm-5/
LOCATION:Fort Macleod Field
END:VEVENT
BEGIN:VEVENT
DTSTART;TZID=America/Denver:20220919T193000
DTEND;TZID=America/Denver:20220919T220000
DTSTAMP:20260425T213408
CREATED:20220825T163945Z
LAST-MODIFIED:20220825T163945Z
UID:1576-1663615800-1663624800@freegracefellowship.ca
SUMMARY:Small Group with Bill
DESCRIPTION:
URL:https://freegracefellowship.ca/event/small-group-with-bill-15/
LOCATION:Harvey & Susan’s House
ORGANIZER;CN="Bill Zwartbol":MAILTO:bezwartbol@telus.net
END:VEVENT
BEGIN:VEVENT
DTSTART;TZID=America/Denver:20220920T190000
DTEND;TZID=America/Denver:20220920T220000
DTSTAMP:20260425T213408
CREATED:20220825T161137Z
LAST-MODIFIED:20220825T161137Z
UID:1538-1663700400-1663711200@freegracefellowship.ca
SUMMARY:Ladies Bible Study
DESCRIPTION:
URL:https://freegracefellowship.ca/event/ladies-bible-study-8/
LOCATION:Gerrit & Evalyn’s House
END:VEVENT
BEGIN:VEVENT
DTSTART;TZID=America/Denver:20220920T193000
DTEND;TZID=America/Denver:20220920T210000
DTSTAMP:20260425T213408
CREATED:20220825T164229Z
LAST-MODIFIED:20220825T164229Z
UID:1584-1663702200-1663707600@freegracefellowship.ca
SUMMARY:Small Group with Graham
DESCRIPTION:
URL:https://freegracefellowship.ca/event/small-group-with-graham-16/
LOCATION:Graham & Sherry’s House
ORGANIZER;CN="Graham Bretherick":MAILTO:grahambretherick@gmail.com
END:VEVENT
BEGIN:VEVENT
DTSTART;TZID=America/Denver:20220922T190000
DTEND;TZID=America/Denver:20220922T210000
DTSTAMP:20260425T213408
CREATED:20220825T163539Z
LAST-MODIFIED:20220825T163539Z
UID:1568-1663873200-1663880400@freegracefellowship.ca
SUMMARY:Love Lethbridge Youth
DESCRIPTION:
URL:https://freegracefellowship.ca/event/love-lethbridge-youth-34/
ORGANIZER;CN="Jeremy Van Hierden":MAILTO:lovelethbridgeyouth@gmail.com
END:VEVENT
BEGIN:VEVENT
DTSTART;TZID=America/Denver:20220925T180000
DTEND;TZID=America/Denver:20220925T210000
DTSTAMP:20260425T213408
CREATED:20220825T162729Z
LAST-MODIFIED:20220825T162729Z
UID:1552-1664128800-1664139600@freegracefellowship.ca
SUMMARY:Volleyball at 6PM
DESCRIPTION:
URL:https://freegracefellowship.ca/event/volleyball-at-6pm-4/
LOCATION:Henderson Lake Park\, Lethbridge
ORGANIZER;CN="Arin Bergsma":MAILTO:ajbergsma18@gmail.com
END:VEVENT
BEGIN:VEVENT
DTSTART;TZID=America/Denver:20220925T180000
DTEND;TZID=America/Denver:20220925T210000
DTSTAMP:20260425T213408
CREATED:20220825T163035Z
LAST-MODIFIED:20220825T163035Z
UID:1560-1664128800-1664139600@freegracefellowship.ca
SUMMARY:Soccer at 6PM
DESCRIPTION:
URL:https://freegracefellowship.ca/event/soccer-at-6pm-4/
LOCATION:Fort Macleod Field
END:VEVENT
BEGIN:VEVENT
DTSTART;TZID=America/Denver:20220926T193000
DTEND;TZID=America/Denver:20220926T220000
DTSTAMP:20260425T213408
CREATED:20220825T164018Z
LAST-MODIFIED:20220825T164018Z
UID:1578-1664220600-1664229600@freegracefellowship.ca
SUMMARY:Small Group with Bill
DESCRIPTION:
URL:https://freegracefellowship.ca/event/small-group-with-bill-16/
LOCATION:Harvey & Susan’s House
ORGANIZER;CN="Bill Zwartbol":MAILTO:bezwartbol@telus.net
END:VEVENT
BEGIN:VEVENT
DTSTART;TZID=America/Denver:20220927T193000
DTEND;TZID=America/Denver:20220927T210000
DTSTAMP:20260425T213408
CREATED:20220825T164302Z
LAST-MODIFIED:20220825T164302Z
UID:1586-1664307000-1664312400@freegracefellowship.ca
SUMMARY:Small Group with Graham
DESCRIPTION:
URL:https://freegracefellowship.ca/event/small-group-with-graham-17/
LOCATION:Graham & Sherry’s House
ORGANIZER;CN="Graham Bretherick":MAILTO:grahambretherick@gmail.com
END:VEVENT
BEGIN:VEVENT
DTSTART;TZID=America/Denver:20220929T190000
DTEND;TZID=America/Denver:20220929T210000
DTSTAMP:20260425T213408
CREATED:20220825T163623Z
LAST-MODIFIED:20220825T163623Z
UID:1570-1664478000-1664485200@freegracefellowship.ca
SUMMARY:Love Lethbridge Youth
DESCRIPTION:
URL:https://freegracefellowship.ca/event/love-lethbridge-youth-35/
ORGANIZER;CN="Jeremy Van Hierden":MAILTO:lovelethbridgeyouth@gmail.com
END:VEVENT
BEGIN:VEVENT
DTSTART;TZID=America/Denver:20220930T190000
DTEND;TZID=America/Denver:20220930T220000
DTSTAMP:20260425T213408
CREATED:20220825T165918Z
LAST-MODIFIED:20220825T165918Z
UID:1588-1664564400-1664575200@freegracefellowship.ca
SUMMARY:Lethbridge BURN Worship Night
DESCRIPTION:
URL:https://freegracefellowship.ca/event/lethbridge-burn-worship-night-3/
ORGANIZER;CN="Sam Bretherick":MAILTO:sambretherick@gmail.com
END:VEVENT
END:VCALENDAR