BEGIN:VCALENDAR
VERSION:2.0
PRODID:-//Free Grace Fellowship - ECPv6.15.20//NONSGML v1.0//EN
CALSCALE:GREGORIAN
METHOD:PUBLISH
X-ORIGINAL-URL:https://freegracefellowship.ca
X-WR-CALDESC:Events for Free Grace Fellowship
REFRESH-INTERVAL;VALUE=DURATION:PT1H
X-Robots-Tag:noindex
X-PUBLISHED-TTL:PT1H
BEGIN:VTIMEZONE
TZID:America/Denver
BEGIN:DAYLIGHT
TZOFFSETFROM:-0700
TZOFFSETTO:-0600
TZNAME:MDT
DTSTART:20240310T090000
END:DAYLIGHT
BEGIN:STANDARD
TZOFFSETFROM:-0600
TZOFFSETTO:-0700
TZNAME:MST
DTSTART:20241103T080000
END:STANDARD
BEGIN:DAYLIGHT
TZOFFSETFROM:-0700
TZOFFSETTO:-0600
TZNAME:MDT
DTSTART:20250309T090000
END:DAYLIGHT
BEGIN:STANDARD
TZOFFSETFROM:-0600
TZOFFSETTO:-0700
TZNAME:MST
DTSTART:20251102T080000
END:STANDARD
BEGIN:DAYLIGHT
TZOFFSETFROM:-0700
TZOFFSETTO:-0600
TZNAME:MDT
DTSTART:20260308T090000
END:DAYLIGHT
BEGIN:STANDARD
TZOFFSETFROM:-0600
TZOFFSETTO:-0700
TZNAME:MST
DTSTART:20261101T080000
END:STANDARD
END:VTIMEZONE
BEGIN:VEVENT
DTSTART;TZID=America/Denver:20250705T093000
DTEND;TZID=America/Denver:20250705T110000
DTSTAMP:20260423T203130
CREATED:20250630T035442Z
LAST-MODIFIED:20250630T035442Z
UID:3451-1751707800-1751713200@freegracefellowship.ca
SUMMARY:Communion Sunday
DESCRIPTION:
URL:https://freegracefellowship.ca/event/communion-sunday-4/
LOCATION:Free Grace Fellowship Church\, 1807 2A Ave N\, Lethbridge\, AB\, Canada
END:VEVENT
BEGIN:VEVENT
DTSTART;TZID=America/Denver:20250705T100000
DTEND;TZID=America/Denver:20250705T120000
DTSTAMP:20260423T203130
CREATED:20250630T035009Z
LAST-MODIFIED:20250630T035009Z
UID:3437-1751709600-1751716800@freegracefellowship.ca
SUMMARY:Evangelism Training
DESCRIPTION:
URL:https://freegracefellowship.ca/event/evangelism-training-17/
LOCATION:Free Grace Fellowship Church\, 1807 2A Ave N\, Lethbridge\, AB\, Canada
END:VEVENT
BEGIN:VEVENT
DTSTART;TZID=America/Denver:20250705T190000
DTEND;TZID=America/Denver:20250705T210000
DTSTAMP:20260423T203130
CREATED:20250630T035324Z
LAST-MODIFIED:20250630T035324Z
UID:3447-1751742000-1751749200@freegracefellowship.ca
SUMMARY:Young Adults
DESCRIPTION:
URL:https://freegracefellowship.ca/event/young-adults-52/
END:VEVENT
BEGIN:VEVENT
DTSTART;TZID=America/Denver:20250709T190000
DTEND;TZID=America/Denver:20250709T210000
DTSTAMP:20260423T203130
CREATED:20250630T035244Z
LAST-MODIFIED:20250630T035244Z
UID:3445-1752087600-1752094800@freegracefellowship.ca
SUMMARY:Corporate Prayer Meeting
DESCRIPTION:
URL:https://freegracefellowship.ca/event/corporate-prayer-meeting-27/
LOCATION:Free Grace Fellowship Church\, 1807 2A Ave N\, Lethbridge\, AB\, Canada
END:VEVENT
BEGIN:VEVENT
DTSTART;TZID=America/Denver:20250710T180000
DTEND;TZID=America/Denver:20250710T210000
DTSTAMP:20260423T203130
CREATED:20250630T035606Z
LAST-MODIFIED:20250630T035606Z
UID:3453-1752170400-1752181200@freegracefellowship.ca
SUMMARY:The Alberta Christian Municipal Rally
DESCRIPTION:
URL:https://freegracefellowship.ca/event/the-alberta-christian-municipal-rally/
LOCATION:Free Grace Fellowship Church\, 1807 2A Ave N\, Lethbridge\, AB\, Canada
END:VEVENT
BEGIN:VEVENT
DTSTART;TZID=America/Denver:20250712T100000
DTEND;TZID=America/Denver:20250712T120000
DTSTAMP:20260423T203130
CREATED:20250630T035053Z
LAST-MODIFIED:20250630T035053Z
UID:3439-1752314400-1752321600@freegracefellowship.ca
SUMMARY:Evangelism Training
DESCRIPTION:
URL:https://freegracefellowship.ca/event/evangelism-training-21/
LOCATION:Free Grace Fellowship Church\, 1807 2A Ave N\, Lethbridge\, AB\, Canada
END:VEVENT
BEGIN:VEVENT
DTSTART;TZID=America/Denver:20250713T080000
DTEND;TZID=America/Denver:20250719T170000
DTSTAMP:20260423T203130
CREATED:20250630T035755Z
LAST-MODIFIED:20250630T035755Z
UID:3455-1752393600-1752944400@freegracefellowship.ca
SUMMARY:The Canadian Awakening with Tommie Zito
DESCRIPTION:
URL:https://freegracefellowship.ca/event/the-canadian-awakening-with-tommie-zito/
LOCATION:One Life Church\, 501 40th St S\, Lethbridge\, Alberta\, Canada
END:VEVENT
BEGIN:VEVENT
DTSTART;TZID=America/Denver:20250719T100000
DTEND;TZID=America/Denver:20250719T120000
DTSTAMP:20260423T203130
CREATED:20250630T035127Z
LAST-MODIFIED:20250630T035127Z
UID:3441-1752919200-1752926400@freegracefellowship.ca
SUMMARY:Evangelism Training
DESCRIPTION:
URL:https://freegracefellowship.ca/event/evangelism-training-22/
LOCATION:Free Grace Fellowship Church\, 1807 2A Ave N\, Lethbridge\, AB\, Canada
END:VEVENT
BEGIN:VEVENT
DTSTART;TZID=America/Denver:20250719T190000
DTEND;TZID=America/Denver:20250719T210000
DTSTAMP:20260423T203130
CREATED:20250630T035354Z
LAST-MODIFIED:20250630T035354Z
UID:3449-1752951600-1752958800@freegracefellowship.ca
SUMMARY:Young Adults
DESCRIPTION:
URL:https://freegracefellowship.ca/event/young-adults-53/
END:VEVENT
BEGIN:VEVENT
DTSTART;TZID=America/Denver:20250726T100000
DTEND;TZID=America/Denver:20250726T120000
DTSTAMP:20260423T203130
CREATED:20250630T035203Z
LAST-MODIFIED:20250630T035203Z
UID:3443-1753524000-1753531200@freegracefellowship.ca
SUMMARY:Evangelism Training
DESCRIPTION:
URL:https://freegracefellowship.ca/event/evangelism-training-23/
LOCATION:Free Grace Fellowship Church\, 1807 2A Ave N\, Lethbridge\, AB\, Canada
END:VEVENT
END:VCALENDAR