BEGIN:VCALENDAR
VERSION:2.0
PRODID:-//Free Grace Fellowship - ECPv6.15.20//NONSGML v1.0//EN
CALSCALE:GREGORIAN
METHOD:PUBLISH
X-WR-CALNAME:Free Grace Fellowship
X-ORIGINAL-URL:https://freegracefellowship.ca
X-WR-CALDESC:Events for Free Grace Fellowship
REFRESH-INTERVAL;VALUE=DURATION:PT1H
X-Robots-Tag:noindex
X-PUBLISHED-TTL:PT1H
BEGIN:VTIMEZONE
TZID:America/Denver
BEGIN:DAYLIGHT
TZOFFSETFROM:-0700
TZOFFSETTO:-0600
TZNAME:MDT
DTSTART:20240310T090000
END:DAYLIGHT
BEGIN:STANDARD
TZOFFSETFROM:-0600
TZOFFSETTO:-0700
TZNAME:MST
DTSTART:20241103T080000
END:STANDARD
BEGIN:DAYLIGHT
TZOFFSETFROM:-0700
TZOFFSETTO:-0600
TZNAME:MDT
DTSTART:20250309T090000
END:DAYLIGHT
BEGIN:STANDARD
TZOFFSETFROM:-0600
TZOFFSETTO:-0700
TZNAME:MST
DTSTART:20251102T080000
END:STANDARD
BEGIN:DAYLIGHT
TZOFFSETFROM:-0700
TZOFFSETTO:-0600
TZNAME:MDT
DTSTART:20260308T090000
END:DAYLIGHT
BEGIN:STANDARD
TZOFFSETFROM:-0600
TZOFFSETTO:-0700
TZNAME:MST
DTSTART:20261101T080000
END:STANDARD
END:VTIMEZONE
BEGIN:VEVENT
DTSTART;TZID=America/Denver:20250822T080000
DTEND;TZID=America/Denver:20250824T170000
DTSTAMP:20260423T184844
CREATED:20250630T035835Z
LAST-MODIFIED:20250630T035835Z
UID:3458-1755849600-1756054800@freegracefellowship.ca
SUMMARY:Family Camp
DESCRIPTION:
URL:https://freegracefellowship.ca/event/family-camp-2/
LOCATION:Eagles Nest Ranch\, 1870A 6 Ave SW\, Medicine Hat\, AB\, T1A 7X5\, Canada
END:VEVENT
BEGIN:VEVENT
DTSTART;TZID=America/Denver:20250822T080000
DTEND;TZID=America/Denver:20250824T170000
DTSTAMP:20260423T184844
CREATED:20250815T020800Z
LAST-MODIFIED:20250815T020800Z
UID:3463-1755849600-1756054800@freegracefellowship.ca
SUMMARY:FAMILY CAMP
DESCRIPTION:
URL:https://freegracefellowship.ca/event/family-camp-3/
LOCATION:Eagles Nest Ranch\, 1870A 6 Ave SW\, Medicine Hat\, AB\, T1A 7X5\, Canada
END:VEVENT
END:VCALENDAR