BEGIN:VCALENDAR
VERSION:2.0
PRODID:-//Free Grace Fellowship - ECPv6.15.20//NONSGML v1.0//EN
CALSCALE:GREGORIAN
METHOD:PUBLISH
X-ORIGINAL-URL:https://freegracefellowship.ca
X-WR-CALDESC:Events for Free Grace Fellowship
REFRESH-INTERVAL;VALUE=DURATION:PT1H
X-Robots-Tag:noindex
X-PUBLISHED-TTL:PT1H
BEGIN:VTIMEZONE
TZID:America/Denver
BEGIN:DAYLIGHT
TZOFFSETFROM:-0700
TZOFFSETTO:-0600
TZNAME:MDT
DTSTART:20240310T090000
END:DAYLIGHT
BEGIN:STANDARD
TZOFFSETFROM:-0600
TZOFFSETTO:-0700
TZNAME:MST
DTSTART:20241103T080000
END:STANDARD
BEGIN:DAYLIGHT
TZOFFSETFROM:-0700
TZOFFSETTO:-0600
TZNAME:MDT
DTSTART:20250309T090000
END:DAYLIGHT
BEGIN:STANDARD
TZOFFSETFROM:-0600
TZOFFSETTO:-0700
TZNAME:MST
DTSTART:20251102T080000
END:STANDARD
BEGIN:DAYLIGHT
TZOFFSETFROM:-0700
TZOFFSETTO:-0600
TZNAME:MDT
DTSTART:20260308T090000
END:DAYLIGHT
BEGIN:STANDARD
TZOFFSETFROM:-0600
TZOFFSETTO:-0700
TZNAME:MST
DTSTART:20261101T080000
END:STANDARD
END:VTIMEZONE
BEGIN:VEVENT
DTSTART;TZID=America/Denver:20250904T190000
DTEND;TZID=America/Denver:20250904T210000
DTSTAMP:20260423T170529
CREATED:20250905T040026Z
LAST-MODIFIED:20250905T040026Z
UID:3485-1757012400-1757019600@freegracefellowship.ca
SUMMARY:LLY
DESCRIPTION:
URL:https://freegracefellowship.ca/event/lly-36/
LOCATION:Free Grace Fellowship Church\, 1807 2A Ave N\, Lethbridge\, AB\, Canada
END:VEVENT
BEGIN:VEVENT
DTSTART;TZID=America/Denver:20250905T190000
DTEND;TZID=America/Denver:20250906T170000
DTSTAMP:20260423T170529
CREATED:20250815T022128Z
LAST-MODIFIED:20250815T022128Z
UID:3465-1757098800-1757178000@freegracefellowship.ca
SUMMARY:Life In the Spirit Conference
DESCRIPTION:
URL:https://freegracefellowship.ca/event/life-in-the-spirit-conference/
LOCATION:One Life Church\, 501 40th St S\, Lethbridge\, Alberta\, Canada
END:VEVENT
BEGIN:VEVENT
DTSTART;TZID=America/Denver:20250906T100000
DTEND;TZID=America/Denver:20250906T120000
DTSTAMP:20260423T170529
CREATED:20250905T040119Z
LAST-MODIFIED:20250905T040119Z
UID:3487-1757152800-1757160000@freegracefellowship.ca
SUMMARY:Evangelism Training
DESCRIPTION:
URL:https://freegracefellowship.ca/event/evangelism-training-24/
LOCATION:Free Grace Fellowship Church\, 1807 2A Ave N\, Lethbridge\, AB\, Canada
END:VEVENT
BEGIN:VEVENT
DTSTART;TZID=America/Denver:20250909T190000
DTEND;TZID=America/Denver:20250909T210000
DTSTAMP:20260423T170529
CREATED:20250905T035756Z
LAST-MODIFIED:20250905T035756Z
UID:3479-1757444400-1757451600@freegracefellowship.ca
SUMMARY:Tuesday Night Small Group
DESCRIPTION:
URL:https://freegracefellowship.ca/event/tuesday-night-small-group-68/
LOCATION:The Gathering Grounds
END:VEVENT
BEGIN:VEVENT
DTSTART;TZID=America/Denver:20250909T190000
DTEND;TZID=America/Denver:20250909T210000
DTSTAMP:20260423T170529
CREATED:20250905T035844Z
LAST-MODIFIED:20250905T035844Z
UID:3481-1757444400-1757451600@freegracefellowship.ca
SUMMARY:Mattheology Small Group
DESCRIPTION:
URL:https://freegracefellowship.ca/event/mattheology-small-group-23/
LOCATION:Free Grace Fellowship Church\, 1807 2A Ave N\, Lethbridge\, AB\, Canada
END:VEVENT
BEGIN:VEVENT
DTSTART;TZID=America/Denver:20250910T190000
DTEND;TZID=America/Denver:20250910T210000
DTSTAMP:20260423T170529
CREATED:20250905T035926Z
LAST-MODIFIED:20250905T035926Z
UID:3483-1757530800-1757538000@freegracefellowship.ca
SUMMARY:Wednesday Night Small Group
DESCRIPTION:
URL:https://freegracefellowship.ca/event/wednesday-night-small-group-72/
LOCATION:Graham & Sherry’s House
END:VEVENT
BEGIN:VEVENT
DTSTART;TZID=America/Denver:20250910T190000
DTEND;TZID=America/Denver:20250910T210000
DTSTAMP:20260423T170529
CREATED:20250905T040418Z
LAST-MODIFIED:20250905T040418Z
UID:3495-1757530800-1757538000@freegracefellowship.ca
SUMMARY:Corporate Prayer Meeting
DESCRIPTION:
URL:https://freegracefellowship.ca/event/corporate-prayer-meeting-28/
LOCATION:Free Grace Fellowship Church\, 1807 2A Ave N\, Lethbridge\, AB\, Canada
END:VEVENT
BEGIN:VEVENT
DTSTART;TZID=America/Denver:20250911T190000
DTEND;TZID=America/Denver:20250911T210000
DTSTAMP:20260423T170529
CREATED:20250905T041056Z
LAST-MODIFIED:20250905T041056Z
UID:3510-1757617200-1757624400@freegracefellowship.ca
SUMMARY:LLY
DESCRIPTION:
URL:https://freegracefellowship.ca/event/lly-38/
LOCATION:Free Grace Fellowship Church\, 1807 2A Ave N\, Lethbridge\, AB\, Canada
END:VEVENT
BEGIN:VEVENT
DTSTART;TZID=America/Denver:20250913T100000
DTEND;TZID=America/Denver:20250913T120000
DTSTAMP:20260423T170529
CREATED:20250905T040155Z
LAST-MODIFIED:20250905T040155Z
UID:3489-1757757600-1757764800@freegracefellowship.ca
SUMMARY:Evangelism Training
DESCRIPTION:
URL:https://freegracefellowship.ca/event/evangelism-training-25/
LOCATION:Free Grace Fellowship Church\, 1807 2A Ave N\, Lethbridge\, AB\, Canada
END:VEVENT
BEGIN:VEVENT
DTSTART;TZID=America/Denver:20250913T190000
DTEND;TZID=America/Denver:20250913T210000
DTSTAMP:20260423T170529
CREATED:20250905T040513Z
LAST-MODIFIED:20250905T040513Z
UID:3497-1757790000-1757797200@freegracefellowship.ca
SUMMARY:Young Adults
DESCRIPTION:
URL:https://freegracefellowship.ca/event/young-adults-54/
END:VEVENT
BEGIN:VEVENT
DTSTART;TZID=America/Denver:20250916T190000
DTEND;TZID=America/Denver:20250916T210000
DTSTAMP:20260423T170529
CREATED:20250905T040248Z
LAST-MODIFIED:20250905T040248Z
UID:3491-1758049200-1758056400@freegracefellowship.ca
SUMMARY:Tuesday Night Small Group
DESCRIPTION:
URL:https://freegracefellowship.ca/event/tuesday-night-small-group-70/
LOCATION:The Gathering Grounds
END:VEVENT
BEGIN:VEVENT
DTSTART;TZID=America/Denver:20250916T190000
DTEND;TZID=America/Denver:20250916T210000
DTSTAMP:20260423T170529
CREATED:20250905T040334Z
LAST-MODIFIED:20250905T040334Z
UID:3493-1758049200-1758056400@freegracefellowship.ca
SUMMARY:Mattheology Small Group
DESCRIPTION:
URL:https://freegracefellowship.ca/event/mattheology-small-group-24/
LOCATION:Free Grace Fellowship Church\, 1807 2A Ave N\, Lethbridge\, AB\, Canada
END:VEVENT
BEGIN:VEVENT
DTSTART;TZID=America/Denver:20250916T190000
DTEND;TZID=America/Denver:20250916T210000
DTSTAMP:20260423T170529
CREATED:20250905T040605Z
LAST-MODIFIED:20250905T040605Z
UID:3499-1758049200-1758056400@freegracefellowship.ca
SUMMARY:Ladies Bible Study
DESCRIPTION:
URL:https://freegracefellowship.ca/event/ladies-bible-study-34/
LOCATION:The Gathering Grounds
END:VEVENT
BEGIN:VEVENT
DTSTART;TZID=America/Denver:20250918T190000
DTEND;TZID=America/Denver:20250918T210000
DTSTAMP:20260423T170529
CREATED:20250905T040955Z
LAST-MODIFIED:20250905T040955Z
UID:3508-1758222000-1758229200@freegracefellowship.ca
SUMMARY:LLY
DESCRIPTION:
URL:https://freegracefellowship.ca/event/lly-37/
LOCATION:Free Grace Fellowship Church\, 1807 2A Ave N\, Lethbridge\, AB\, Canada
END:VEVENT
BEGIN:VEVENT
DTSTART;TZID=America/Denver:20250920T100000
DTEND;TZID=America/Denver:20250920T120000
DTSTAMP:20260423T170529
CREATED:20250905T041133Z
LAST-MODIFIED:20250905T041133Z
UID:3512-1758362400-1758369600@freegracefellowship.ca
SUMMARY:Evangelism Training
DESCRIPTION:
URL:https://freegracefellowship.ca/event/evangelism-training-26/
LOCATION:Free Grace Fellowship Church\, 1807 2A Ave N\, Lethbridge\, AB\, Canada
END:VEVENT
BEGIN:VEVENT
DTSTART;TZID=America/Denver:20250923T190000
DTEND;TZID=America/Denver:20250923T210000
DTSTAMP:20260423T170529
CREATED:20250905T040723Z
LAST-MODIFIED:20250905T040723Z
UID:3501-1758654000-1758661200@freegracefellowship.ca
SUMMARY:Tuesday Night Small Group
DESCRIPTION:
URL:https://freegracefellowship.ca/event/tuesday-night-small-group-71/
LOCATION:The Gathering Grounds
END:VEVENT
BEGIN:VEVENT
DTSTART;TZID=America/Denver:20250923T190000
DTEND;TZID=America/Denver:20250923T210000
DTSTAMP:20260423T170529
CREATED:20250905T040805Z
LAST-MODIFIED:20250905T040805Z
UID:3503-1758654000-1758661200@freegracefellowship.ca
SUMMARY:Mattheology Small Group
DESCRIPTION:
URL:https://freegracefellowship.ca/event/mattheology-small-group-25/
LOCATION:Free Grace Fellowship Church\, 1807 2A Ave N\, Lethbridge\, AB\, Canada
END:VEVENT
BEGIN:VEVENT
DTSTART;TZID=America/Denver:20250924T190000
DTEND;TZID=America/Denver:20250924T210000
DTSTAMP:20260423T170529
CREATED:20250905T040911Z
LAST-MODIFIED:20250905T040911Z
UID:3505-1758740400-1758747600@freegracefellowship.ca
SUMMARY:Wednesday Night Small Group
DESCRIPTION:
URL:https://freegracefellowship.ca/event/wednesday-night-small-group-73/
LOCATION:Graham & Sherry’s House
END:VEVENT
BEGIN:VEVENT
DTSTART;TZID=America/Denver:20250927T100000
DTEND;TZID=America/Denver:20250927T120000
DTSTAMP:20260423T170529
CREATED:20250905T041544Z
LAST-MODIFIED:20250905T041544Z
UID:3520-1758967200-1758974400@freegracefellowship.ca
SUMMARY:Evangelism Training
DESCRIPTION:
URL:https://freegracefellowship.ca/event/evangelism-training-27/
LOCATION:Free Grace Fellowship Church\, 1807 2A Ave N\, Lethbridge\, AB\, Canada
END:VEVENT
BEGIN:VEVENT
DTSTART;TZID=America/Denver:20250927T190000
DTEND;TZID=America/Denver:20250927T210000
DTSTAMP:20260423T170529
CREATED:20250905T041506Z
LAST-MODIFIED:20250905T041506Z
UID:3518-1758999600-1759006800@freegracefellowship.ca
SUMMARY:Young Adults
DESCRIPTION:
URL:https://freegracefellowship.ca/event/young-adults-55/
END:VEVENT
BEGIN:VEVENT
DTSTART;TZID=America/Denver:20250930T190000
DTEND;TZID=America/Denver:20250930T210000
DTSTAMP:20260423T170529
CREATED:20250905T041233Z
LAST-MODIFIED:20250905T041233Z
UID:3514-1759258800-1759266000@freegracefellowship.ca
SUMMARY:Tuesday Night Small Group
DESCRIPTION:
URL:https://freegracefellowship.ca/event/tuesday-night-small-group-72/
LOCATION:The Gathering Grounds
END:VEVENT
BEGIN:VEVENT
DTSTART;TZID=America/Denver:20250930T190000
DTEND;TZID=America/Denver:20250930T210000
DTSTAMP:20260423T170529
CREATED:20250905T041318Z
LAST-MODIFIED:20250905T041318Z
UID:3516-1759258800-1759266000@freegracefellowship.ca
SUMMARY:Mattheology Small Group
DESCRIPTION:
URL:https://freegracefellowship.ca/event/mattheology-small-group-26/
LOCATION:Free Grace Fellowship Church\, 1807 2A Ave N\, Lethbridge\, AB\, Canada
END:VEVENT
END:VCALENDAR