BEGIN:VCALENDAR
VERSION:2.0
PRODID:-//Free Grace Fellowship - ECPv6.15.20//NONSGML v1.0//EN
CALSCALE:GREGORIAN
METHOD:PUBLISH
X-ORIGINAL-URL:https://freegracefellowship.ca
X-WR-CALDESC:Events for Free Grace Fellowship
REFRESH-INTERVAL;VALUE=DURATION:PT1H
X-Robots-Tag:noindex
X-PUBLISHED-TTL:PT1H
BEGIN:VTIMEZONE
TZID:America/Denver
BEGIN:DAYLIGHT
TZOFFSETFROM:-0700
TZOFFSETTO:-0600
TZNAME:MDT
DTSTART:20240310T090000
END:DAYLIGHT
BEGIN:STANDARD
TZOFFSETFROM:-0600
TZOFFSETTO:-0700
TZNAME:MST
DTSTART:20241103T080000
END:STANDARD
BEGIN:DAYLIGHT
TZOFFSETFROM:-0700
TZOFFSETTO:-0600
TZNAME:MDT
DTSTART:20250309T090000
END:DAYLIGHT
BEGIN:STANDARD
TZOFFSETFROM:-0600
TZOFFSETTO:-0700
TZNAME:MST
DTSTART:20251102T080000
END:STANDARD
BEGIN:DAYLIGHT
TZOFFSETFROM:-0700
TZOFFSETTO:-0600
TZNAME:MDT
DTSTART:20260308T090000
END:DAYLIGHT
BEGIN:STANDARD
TZOFFSETFROM:-0600
TZOFFSETTO:-0700
TZNAME:MST
DTSTART:20261101T080000
END:STANDARD
END:VTIMEZONE
BEGIN:VEVENT
DTSTART;TZID=America/Denver:20251202T190000
DTEND;TZID=America/Denver:20251202T210000
DTSTAMP:20260423T120921
CREATED:20251204T013650Z
LAST-MODIFIED:20251204T013650Z
UID:3641-1764702000-1764709200@freegracefellowship.ca
SUMMARY:Tuesday Night Small Group
DESCRIPTION:
URL:https://freegracefellowship.ca/event/tuesday-night-small-group-81/
END:VEVENT
BEGIN:VEVENT
DTSTART;TZID=America/Denver:20251202T190000
DTEND;TZID=America/Denver:20251202T210000
DTSTAMP:20260423T120921
CREATED:20251204T013731Z
LAST-MODIFIED:20251204T013731Z
UID:3643-1764702000-1764709200@freegracefellowship.ca
SUMMARY:Mattheology Small Group
DESCRIPTION:
URL:https://freegracefellowship.ca/event/mattheology-small-group-33/
END:VEVENT
BEGIN:VEVENT
DTSTART;TZID=America/Denver:20251203T190000
DTEND;TZID=America/Denver:20251203T210000
DTSTAMP:20260423T120921
CREATED:20251204T013800Z
LAST-MODIFIED:20251204T013800Z
UID:3645-1764788400-1764795600@freegracefellowship.ca
SUMMARY:Wednesday Night Small Group
DESCRIPTION:
URL:https://freegracefellowship.ca/event/wednesday-night-small-group-82/
END:VEVENT
BEGIN:VEVENT
DTSTART;TZID=America/Denver:20251204T190000
DTEND;TZID=America/Denver:20251204T210000
DTSTAMP:20260423T120921
CREATED:20251204T013831Z
LAST-MODIFIED:20251204T013831Z
UID:3647-1764874800-1764882000@freegracefellowship.ca
SUMMARY:LLY
DESCRIPTION:
URL:https://freegracefellowship.ca/event/lly-47/
END:VEVENT
BEGIN:VEVENT
DTSTART;TZID=America/Denver:20251206T093000
DTEND;TZID=America/Denver:20251206T120000
DTSTAMP:20260423T120921
CREATED:20251204T013549Z
LAST-MODIFIED:20251204T013549Z
UID:3639-1765013400-1765022400@freegracefellowship.ca
SUMMARY:Communion Sunday
DESCRIPTION:
URL:https://freegracefellowship.ca/event/communion-sunday-7/
END:VEVENT
BEGIN:VEVENT
DTSTART;TZID=America/Denver:20251206T100000
DTEND;TZID=America/Denver:20251206T120000
DTSTAMP:20260423T120921
CREATED:20251204T013901Z
LAST-MODIFIED:20251204T013901Z
UID:3649-1765015200-1765022400@freegracefellowship.ca
SUMMARY:Evangelism Training
DESCRIPTION:
URL:https://freegracefellowship.ca/event/evangelism-training-37/
END:VEVENT
END:VCALENDAR