BEGIN:VCALENDAR
VERSION:2.0
PRODID:-//Free Grace Fellowship - ECPv6.15.20//NONSGML v1.0//EN
CALSCALE:GREGORIAN
METHOD:PUBLISH
X-WR-CALNAME:Free Grace Fellowship
X-ORIGINAL-URL:https://freegracefellowship.ca
X-WR-CALDESC:Events for Free Grace Fellowship
REFRESH-INTERVAL;VALUE=DURATION:PT1H
X-Robots-Tag:noindex
X-PUBLISHED-TTL:PT1H
BEGIN:VTIMEZONE
TZID:America/Denver
BEGIN:DAYLIGHT
TZOFFSETFROM:-0700
TZOFFSETTO:-0600
TZNAME:MDT
DTSTART:20250309T090000
END:DAYLIGHT
BEGIN:STANDARD
TZOFFSETFROM:-0600
TZOFFSETTO:-0700
TZNAME:MST
DTSTART:20251102T080000
END:STANDARD
BEGIN:DAYLIGHT
TZOFFSETFROM:-0700
TZOFFSETTO:-0600
TZNAME:MDT
DTSTART:20260308T090000
END:DAYLIGHT
BEGIN:STANDARD
TZOFFSETFROM:-0600
TZOFFSETTO:-0700
TZNAME:MST
DTSTART:20261101T080000
END:STANDARD
BEGIN:DAYLIGHT
TZOFFSETFROM:-0700
TZOFFSETTO:-0600
TZNAME:MDT
DTSTART:20270314T090000
END:DAYLIGHT
BEGIN:STANDARD
TZOFFSETFROM:-0600
TZOFFSETTO:-0700
TZNAME:MST
DTSTART:20271107T080000
END:STANDARD
END:VTIMEZONE
BEGIN:VEVENT
DTSTART;TZID=America/Denver:20260423T190000
DTEND;TZID=America/Denver:20260423T210000
DTSTAMP:20260423T052104
CREATED:20260415T065600Z
LAST-MODIFIED:20260415T065600Z
UID:3843-1776970800-1776978000@freegracefellowship.ca
SUMMARY:LLY
DESCRIPTION:
URL:https://freegracefellowship.ca/event/lly-63/
END:VEVENT
BEGIN:VEVENT
DTSTART;TZID=America/Denver:20260425T190000
DTEND;TZID=America/Denver:20260425T210000
DTSTAMP:20260423T052104
CREATED:20260415T065635Z
LAST-MODIFIED:20260415T065635Z
UID:3845-1777143600-1777150800@freegracefellowship.ca
SUMMARY:Young Adults
DESCRIPTION:
URL:https://freegracefellowship.ca/event/young-adults-65/
END:VEVENT
BEGIN:VEVENT
DTSTART;TZID=America/Denver:20260428T190000
DTEND;TZID=America/Denver:20260428T210000
DTSTAMP:20260423T052104
CREATED:20260415T065704Z
LAST-MODIFIED:20260415T065704Z
UID:3847-1777402800-1777410000@freegracefellowship.ca
SUMMARY:Tuesday Night Small Group
DESCRIPTION:
URL:https://freegracefellowship.ca/event/tuesday-night-small-group-98/
END:VEVENT
BEGIN:VEVENT
DTSTART;TZID=America/Denver:20260428T190000
DTEND;TZID=America/Denver:20260428T210000
DTSTAMP:20260423T052104
CREATED:20260415T065732Z
LAST-MODIFIED:20260415T065732Z
UID:3849-1777402800-1777410000@freegracefellowship.ca
SUMMARY:Mattheology Small Group
DESCRIPTION:
URL:https://freegracefellowship.ca/event/mattheology-small-group-50/
END:VEVENT
BEGIN:VEVENT
DTSTART;TZID=America/Denver:20260429T190000
DTEND;TZID=America/Denver:20260429T210000
DTSTAMP:20260423T052104
CREATED:20260415T065801Z
LAST-MODIFIED:20260415T065801Z
UID:3851-1777489200-1777496400@freegracefellowship.ca
SUMMARY:Wednesday Night Small Group
DESCRIPTION:
URL:https://freegracefellowship.ca/event/wednesday-night-small-group-95/
END:VEVENT
BEGIN:VEVENT
DTSTART;TZID=America/Denver:20260430T190000
DTEND;TZID=America/Denver:20260430T210000
DTSTAMP:20260423T052104
CREATED:20260415T065824Z
LAST-MODIFIED:20260415T065824Z
UID:3853-1777575600-1777582800@freegracefellowship.ca
SUMMARY:LLY
DESCRIPTION:
URL:https://freegracefellowship.ca/event/lly-64/
END:VEVENT
END:VCALENDAR